BEGIN:VCALENDAR
VERSION:2.0
PRODID:-//wp-events-plugin.com//7.2.3.1//EN
TZID:Europe/London
X-WR-TIMEZONE:Europe/London
BEGIN:VEVENT
UID:3345@larevistadelapalma.com
DTSTART:20241109T090000Z
DTEND:20241109T130000Z
DTSTAMP:20241028T133602Z
URL:https://www.larevistadelapalma.com/events/feria-de-artesania-y-actuaci
 ones-en-santa-cruz-de-la-palma/
SUMMARY:Feria de Artesanía y actuaciones en Santa Cruz de La Palma
DESCRIPTION:Fería de artesanía con las actuaciones de la Rondalla Renacer
 \, Tajadre y el cuerpo de Baile Danzar de Los Alisios.
ATTACH;FMTTYPE=image/jpeg:https://www.larevistadelapalma.com/wp-content/up
 loads/2024/10/Feria-Artesania-santa-cruz.jpg
CATEGORIES:Conciertos,Ferias y mercados,Música,Otras propuestas
LOCATION:Plaza de España de Santa Cruz de La Palma\, Plaza de España\, Sa
 nta Cruz De La Palma\, Santa Cruz de Tenerife\, 38700\, España
GEO:28.683369;-17.76487
X-APPLE-STRUCTURED-LOCATION;VALUE=URI;X-ADDRESS=Plaza de España\, Santa Cr
 uz De La Palma\, Santa Cruz de Tenerife\, 38700\, España;X-APPLE-RADIUS=1
 00;X-TITLE=Plaza de España de Santa Cruz de La Palma:geo:28.683369,-17.76
 487
END:VEVENT
END:VCALENDARBEGIN:VCALENDAR
VERSION:2.0
PRODID:-//wp-events-plugin.com//7.2.3.1//EN
TZID:Europe/London
X-WR-TIMEZONE:Europe/London
BEGIN:VEVENT
UID:3345@larevistadelapalma.com
DTSTART:20241109T090000Z
DTEND:20241109T130000Z
DTSTAMP:20241028T133602Z
URL:https://www.larevistadelapalma.com/events/feria-de-artesania-y-actuaci
 ones-en-santa-cruz-de-la-palma/
SUMMARY:Feria de Artesanía y actuaciones en Santa Cruz de La Palma
DESCRIPTION:Fería de artesanía con las actuaciones de la Rondalla Renacer
 \, Tajadre y el cuerpo de Baile Danzar de Los Alisios.
ATTACH;FMTTYPE=image/jpeg:https://www.larevistadelapalma.com/wp-content/up
 loads/2024/10/Feria-Artesania-santa-cruz.jpg
CATEGORIES:Conciertos,Ferias y mercados,Música,Otras propuestas
LOCATION:Plaza de España de Santa Cruz de La Palma\, Plaza de España\, Sa
 nta Cruz De La Palma\, Santa Cruz de Tenerife\, 38700\, España
GEO:28.683369;-17.76487
X-APPLE-STRUCTURED-LOCATION;VALUE=URI;X-ADDRESS=Plaza de España\, Santa Cr
 uz De La Palma\, Santa Cruz de Tenerife\, 38700\, España;X-APPLE-RADIUS=1
 00;X-TITLE=Plaza de España de Santa Cruz de La Palma:geo:28.683369,-17.76
 487
END:VEVENT
END:VCALENDAR