BEGIN:VCALENDAR
VERSION:2.0
PRODID:-//wp-events-plugin.com//7.2.3.1//EN
TZID:Europe/London
X-WR-TIMEZONE:Europe/London
BEGIN:VEVENT
UID:2981@larevistadelapalma.com
DTSTART:20240518T110000Z
DTEND:20240518T170000Z
DTSTAMP:20240509T211043Z
URL:https://www.larevistadelapalma.com/events/feria-de-la-garimba-en-santa
 -cruz-de-la-palma/
SUMMARY:Feria de la Garimba en Santa Cruz de La Palma
DESCRIPTION:Santa Cruz de La Palma organiza la 7ª edición de la Feria de 
 la Garimba el próximo 18 de mayo\, tendrá lugar en la plaza de La Alamed
 a y cuya consumición\, tanto de bebida como de tapa\, será de 2 euros.
ATTACH;FMTTYPE=image/jpeg:https://www.larevistadelapalma.com/wp-content/up
 loads/2024/05/Feria-Garimba.jpg
CATEGORIES:Gastro,Otras propuestas
LOCATION:Plaza de La Alameda\, Plaza de La Alameda\, Santa Cruz de La Palma
 \, 38700\, España
GEO:28.688148;-17.761123
X-APPLE-STRUCTURED-LOCATION;VALUE=URI;X-ADDRESS=Plaza de La Alameda\, Santa
  Cruz de La Palma\, 38700\, España;X-APPLE-RADIUS=100;X-TITLE=Plaza de La
  Alameda:geo:28.688148,-17.761123
END:VEVENT
END:VCALENDARBEGIN:VCALENDAR
VERSION:2.0
PRODID:-//wp-events-plugin.com//7.2.3.1//EN
TZID:Europe/London
X-WR-TIMEZONE:Europe/London
BEGIN:VEVENT
UID:2981@larevistadelapalma.com
DTSTART:20240518T110000Z
DTEND:20240518T170000Z
DTSTAMP:20240509T211043Z
URL:https://www.larevistadelapalma.com/events/feria-de-la-garimba-en-santa
 -cruz-de-la-palma/
SUMMARY:Feria de la Garimba en Santa Cruz de La Palma
DESCRIPTION:Santa Cruz de La Palma organiza la 7ª edición de la Feria de 
 la Garimba el próximo 18 de mayo\, tendrá lugar en la plaza de La Alamed
 a y cuya consumición\, tanto de bebida como de tapa\, será de 2 euros.
ATTACH;FMTTYPE=image/jpeg:https://www.larevistadelapalma.com/wp-content/up
 loads/2024/05/Feria-Garimba.jpg
CATEGORIES:Gastro,Otras propuestas
LOCATION:Plaza de La Alameda\, Plaza de La Alameda\, Santa Cruz de La Palma
 \, 38700\, España
GEO:28.688148;-17.761123
X-APPLE-STRUCTURED-LOCATION;VALUE=URI;X-ADDRESS=Plaza de La Alameda\, Santa
  Cruz de La Palma\, 38700\, España;X-APPLE-RADIUS=100;X-TITLE=Plaza de La
  Alameda:geo:28.688148,-17.761123
END:VEVENT
END:VCALENDAR