BEGIN:VCALENDAR
VERSION:2.0
PRODID:-//wp-events-plugin.com//7.2.3.1//EN
TZID:Europe/London
X-WR-TIMEZONE:Europe/London
BEGIN:VEVENT
UID:3447@larevistadelapalma.com
DTSTART:20241207T080000Z
DTEND:20241207T170000Z
DTSTAMP:20241205T204734Z
URL:https://www.larevistadelapalma.com/events/feria-de-navidad-en-el-merca
 dillo-de-mazo/
SUMMARY:Feria de Navidad en el Mercadillo de Mazo
DESCRIPTION:El sábado 7 de diciembre de 9 a 18 horas celebraran la feria d
 e Navidad comercial y de artesanía en el mercadillo de Villa de Mazo.Acom
 páñalos en un día con degustación de productos\, la actuación de la P
 arranda Seis y Media y una cata de la Bodega Mergus situada en el municipi
 o. A los puestos habituales se unirán otros venidos de municipios de la I
 sla.
ATTACH;FMTTYPE=image/jpeg:https://www.larevistadelapalma.com/wp-content/up
 loads/2024/11/Feria-Navidad-Mazo.jpg
CATEGORIES:Ferias y mercados,Gastro,Otras propuestas
LOCATION:Mercadillo Villa de Mazo\, Calle Dr. Morera Bravo\, Villa de Mazo\
 , 38730\, España
GEO:28.603998;-17.774127
X-APPLE-STRUCTURED-LOCATION;VALUE=URI;X-ADDRESS=Calle Dr. Morera Bravo\, Vi
 lla de Mazo\, 38730\, España;X-APPLE-RADIUS=100;X-TITLE=Mercadillo Villa 
 de Mazo:geo:28.603998,-17.774127
END:VEVENT
END:VCALENDARBEGIN:VCALENDAR
VERSION:2.0
PRODID:-//wp-events-plugin.com//7.2.3.1//EN
TZID:Europe/London
X-WR-TIMEZONE:Europe/London
BEGIN:VEVENT
UID:3447@larevistadelapalma.com
DTSTART:20241207T080000Z
DTEND:20241207T170000Z
DTSTAMP:20241205T204734Z
URL:https://www.larevistadelapalma.com/events/feria-de-navidad-en-el-merca
 dillo-de-mazo/
SUMMARY:Feria de Navidad en el Mercadillo de Mazo
DESCRIPTION:El sábado 7 de diciembre de 9 a 18 horas celebraran la feria d
 e Navidad comercial y de artesanía en el mercadillo de Villa de Mazo.Acom
 páñalos en un día con degustación de productos\, la actuación de la P
 arranda Seis y Media y una cata de la Bodega Mergus situada en el municipi
 o. A los puestos habituales se unirán otros venidos de municipios de la I
 sla.
ATTACH;FMTTYPE=image/jpeg:https://www.larevistadelapalma.com/wp-content/up
 loads/2024/11/Feria-Navidad-Mazo.jpg
CATEGORIES:Ferias y mercados,Gastro,Otras propuestas
LOCATION:Mercadillo Villa de Mazo\, Calle Dr. Morera Bravo\, Villa de Mazo\
 , 38730\, España
GEO:28.603998;-17.774127
X-APPLE-STRUCTURED-LOCATION;VALUE=URI;X-ADDRESS=Calle Dr. Morera Bravo\, Vi
 lla de Mazo\, 38730\, España;X-APPLE-RADIUS=100;X-TITLE=Mercadillo Villa 
 de Mazo:geo:28.603998,-17.774127
END:VEVENT
END:VCALENDAR