BEGIN:VCALENDAR
VERSION:2.0
PRODID:-//wp-events-plugin.com//7.2.3.1//EN
TZID:Europe/London
X-WR-TIMEZONE:Europe/London
BEGIN:VEVENT
UID:4640@larevistadelapalma.com
DTSTART;VALUE=DATE:20260429
DTEND;VALUE=DATE:20260503
DTSTAMP:20260420T213249Z
URL:https://www.larevistadelapalma.com/events/feria-del-libro-2026-los-lla
 nos/
SUMMARY:Los Llanos de Aridane da protagonismo al arte y la lectura en la Fe
 ria del Libro 2026 
DESCRIPTION:La cita reunirá a autores como Espido Freire\, María del Mar 
 Rodríguez\, Mélani Garzón-Sousa\, Mercedes Barrera y Nacho Rubio. Adem
 ás de ofrecer otras actividades como teatro\, espectáculo de magia y nar
 ración oral.
ATTACH;FMTTYPE=image/jpeg:https://www.larevistadelapalma.com/wp-content/up
 loads/2026/04/Feria-del-Libro-2026-scaled.jpeg
CATEGORIES:Cine y Literatura,Literatura
LOCATION:Plaza de España en Los Llanos de Aridane\, Plaza de España\, Los
  Llanos de Aridane\, 38760\, España
GEO:28.658934;-17.913174
X-APPLE-STRUCTURED-LOCATION;VALUE=URI;X-ADDRESS=Plaza de España\, Los Llan
 os de Aridane\, 38760\, España;X-APPLE-RADIUS=100;X-TITLE=Plaza de Españ
 a en Los Llanos de Aridane:geo:28.658934,-17.913174
END:VEVENT
END:VCALENDARBEGIN:VCALENDAR
VERSION:2.0
PRODID:-//wp-events-plugin.com//7.2.3.1//EN
TZID:Europe/London
X-WR-TIMEZONE:Europe/London
BEGIN:VEVENT
UID:4640@larevistadelapalma.com
DTSTART;VALUE=DATE:20260429
DTEND;VALUE=DATE:20260503
DTSTAMP:20260420T213249Z
URL:https://www.larevistadelapalma.com/events/feria-del-libro-2026-los-lla
 nos/
SUMMARY:Los Llanos de Aridane da protagonismo al arte y la lectura en la Fe
 ria del Libro 2026 
DESCRIPTION:La cita reunirá a autores como Espido Freire\, María del Mar 
 Rodríguez\, Mélani Garzón-Sousa\, Mercedes Barrera y Nacho Rubio. Adem
 ás de ofrecer otras actividades como teatro\, espectáculo de magia y nar
 ración oral.
ATTACH;FMTTYPE=image/jpeg:https://www.larevistadelapalma.com/wp-content/up
 loads/2026/04/Feria-del-Libro-2026-scaled.jpeg
CATEGORIES:Cine y Literatura,Literatura
LOCATION:Plaza de España en Los Llanos de Aridane\, Plaza de España\, Los
  Llanos de Aridane\, 38760\, España
GEO:28.658934;-17.913174
X-APPLE-STRUCTURED-LOCATION;VALUE=URI;X-ADDRESS=Plaza de España\, Los Llan
 os de Aridane\, 38760\, España;X-APPLE-RADIUS=100;X-TITLE=Plaza de Españ
 a en Los Llanos de Aridane:geo:28.658934,-17.913174
END:VEVENT
END:VCALENDAR