BEGIN:VCALENDAR
VERSION:2.0
PRODID:-//wp-events-plugin.com//7.2.3.1//EN
TZID:Europe/London
X-WR-TIMEZONE:Europe/London
BEGIN:VEVENT
UID:4628@larevistadelapalma.com
DTSTART;VALUE=DATE:20260420
DTEND;VALUE=DATE:20260426
DTSTAMP:20260420T225551Z
URL:https://www.larevistadelapalma.com/events/feria-del-libro-en-santa-cru
 z-de-la-palma-2026/
SUMMARY:Feria del libro en Santa Cruz de La Palma 2026
DESCRIPTION:Presentación de libros\, encuentros con escritores y actividad
 es dirigidas a distintos públicos: presentación y firma de libros\, club
  de lectura\, teatro\, talleres\, exposiciónes\, y por supuesto\, la trad
 icional suelta de libros.\n\nLa programación comienza desde el lunes 20 d
 e abril. Las casetas se abrirán al público el día 22 de abril.\n\nEntre
  los eventos incluidos en este programa se encuentran la conmemoración de
 l centenario de Leocricia Pestana\, la representación de la obra "La Tuer
 ta" (eventos que ya formaban parte de  nuestra agenda) y la presentación
  de ensayos como: "¿Por qué el futuro es hispano?"\; "El síndrome de la
 s supermujeres"\; o "La vida en otra parte".\n\n\n"La Tuerta"&gt\;&gt\;\n\
 n"Quinientos millones de hispanoablantes\, una lengua perfectamente equipa
 da..."\n\n"Encuentros y desencuentros\, parejas que se hacen y se deshacen
 \, amores tan líquidos que se escurren entre las manos..."\n \n"No hablo 
 de mi cancer\, hablo de la escritura que te ayuda a vivir ese momento"\n\n
 Consultar programación PDF &gt\;&gt\;\nPrograma en imágenes &gt\;&gt\;
ATTACH;FMTTYPE=image/jpeg:https://www.larevistadelapalma.com/wp-content/up
 loads/2026/04/FERIA_DEL_LIBRO_3_1.jpeg
CATEGORIES:Cine y Literatura,Literatura
LOCATION:Municipio de Santa Cruz de La Palma\, Santa Cruz de La Palma \, Sa
 nta Cruz de La Palma \, 38700\, España
GEO:28.688757;-17.765102
X-APPLE-STRUCTURED-LOCATION;VALUE=URI;X-ADDRESS=Santa Cruz de La Palma \, S
 anta Cruz de La Palma \, 38700\, España;X-APPLE-RADIUS=100;X-TITLE=Munici
 pio de Santa Cruz de La Palma:geo:28.688757,-17.765102
END:VEVENT
END:VCALENDARBEGIN:VCALENDAR
VERSION:2.0
PRODID:-//wp-events-plugin.com//7.2.3.1//EN
TZID:Europe/London
X-WR-TIMEZONE:Europe/London
BEGIN:VEVENT
UID:4628@larevistadelapalma.com
DTSTART;VALUE=DATE:20260420
DTEND;VALUE=DATE:20260426
DTSTAMP:20260420T225551Z
URL:https://www.larevistadelapalma.com/events/feria-del-libro-en-santa-cru
 z-de-la-palma-2026/
SUMMARY:Feria del libro en Santa Cruz de La Palma 2026
DESCRIPTION:Presentación de libros\, encuentros con escritores y actividad
 es dirigidas a distintos públicos: presentación y firma de libros\, club
  de lectura\, teatro\, talleres\, exposiciónes\, y por supuesto\, la trad
 icional suelta de libros.\n\nLa programación comienza desde el lunes 20 d
 e abril. Las casetas se abrirán al público el día 22 de abril.\n\nEntre
  los eventos incluidos en este programa se encuentran la conmemoración de
 l centenario de Leocricia Pestana\, la representación de la obra "La Tuer
 ta" (eventos que ya formaban parte de  nuestra agenda) y la presentación
  de ensayos como: "¿Por qué el futuro es hispano?"\; "El síndrome de la
 s supermujeres"\; o "La vida en otra parte".\n\n\n"La Tuerta"&gt\;&gt\;\n\
 n"Quinientos millones de hispanoablantes\, una lengua perfectamente equipa
 da..."\n\n"Encuentros y desencuentros\, parejas que se hacen y se deshacen
 \, amores tan líquidos que se escurren entre las manos..."\n \n"No hablo 
 de mi cancer\, hablo de la escritura que te ayuda a vivir ese momento"\n\n
 Consultar programación PDF &gt\;&gt\;\nPrograma en imágenes &gt\;&gt\;
ATTACH;FMTTYPE=image/jpeg:https://www.larevistadelapalma.com/wp-content/up
 loads/2026/04/FERIA_DEL_LIBRO_3_1.jpeg
CATEGORIES:Cine y Literatura,Literatura
LOCATION:Municipio de Santa Cruz de La Palma\, Santa Cruz de La Palma \, Sa
 nta Cruz de La Palma \, 38700\, España
GEO:28.688757;-17.765102
X-APPLE-STRUCTURED-LOCATION;VALUE=URI;X-ADDRESS=Santa Cruz de La Palma \, S
 anta Cruz de La Palma \, 38700\, España;X-APPLE-RADIUS=100;X-TITLE=Munici
 pio de Santa Cruz de La Palma:geo:28.688757,-17.765102
END:VEVENT
END:VCALENDAR