BEGIN:VCALENDAR
VERSION:2.0
PRODID:-//wp-events-plugin.com//7.2.3.1//EN
TZID:Europe/London
X-WR-TIMEZONE:Europe/London
BEGIN:VEVENT
UID:3869@larevistadelapalma.com
DTSTART:20250802T110000Z
DTEND:20250802T170000Z
DTSTAMP:20250709T012921Z
URL:https://www.larevistadelapalma.com/events/feria-del-vino-en-fuencalien
 te/
SUMMARY:Feria del Vino en Fuencaliente
DESCRIPTION:\nEl Ayuntamiento de Fuencaliente se prepara para celebrar la t
 ercera edición de su Feria del Vino\, una cita que reunirá a las princip
 ales bodegas de la localidad con un programa musical y degustaciones gastr
 onómicas. \nEl próximo sábado 2 de agosto\, la Plaza del Ayuntamiento s
 e convertirá en el epicentro de esta jornada festiva\, que contará con l
 a actuación de Tuto Durán\, Zebensui Melián y la música de DJ Yardy.\n
 La Feria contará con la participación de destacadas bodegas como Llanovi
 d\, Llanos Negros\, Victoria Torres\, Mil7ochentaynueve\, Bodegas Carballo
 \, Vega Norte y Mergus\, a las que se sumará Destilerías Aldea.\n\n\n\n\
 n
ATTACH;FMTTYPE=image/jpeg:https://www.larevistadelapalma.com/wp-content/up
 loads/2025/07/Feria-Vino-Fuencaliente.jpg
CATEGORIES:Gastro,Otras propuestas,Varios
LOCATION:Plaza del Ayuntamiento de Fuencaliente\, C. San Antonio\, Los Cana
 rios\, Fuencaliente\, 38740\, España
GEO:28.494669;-17.845068
X-APPLE-STRUCTURED-LOCATION;VALUE=URI;X-ADDRESS=C. San Antonio\, Los Canari
 os\, Fuencaliente\, 38740\, España;X-APPLE-RADIUS=100;X-TITLE=Plaza del A
 yuntamiento de Fuencaliente:geo:28.494669,-17.845068
END:VEVENT
END:VCALENDARBEGIN:VCALENDAR
VERSION:2.0
PRODID:-//wp-events-plugin.com//7.2.3.1//EN
TZID:Europe/London
X-WR-TIMEZONE:Europe/London
BEGIN:VEVENT
UID:3869@larevistadelapalma.com
DTSTART:20250802T110000Z
DTEND:20250802T170000Z
DTSTAMP:20250709T012921Z
URL:https://www.larevistadelapalma.com/events/feria-del-vino-en-fuencalien
 te/
SUMMARY:Feria del Vino en Fuencaliente
DESCRIPTION:\nEl Ayuntamiento de Fuencaliente se prepara para celebrar la t
 ercera edición de su Feria del Vino\, una cita que reunirá a las princip
 ales bodegas de la localidad con un programa musical y degustaciones gastr
 onómicas. \nEl próximo sábado 2 de agosto\, la Plaza del Ayuntamiento s
 e convertirá en el epicentro de esta jornada festiva\, que contará con l
 a actuación de Tuto Durán\, Zebensui Melián y la música de DJ Yardy.\n
 La Feria contará con la participación de destacadas bodegas como Llanovi
 d\, Llanos Negros\, Victoria Torres\, Mil7ochentaynueve\, Bodegas Carballo
 \, Vega Norte y Mergus\, a las que se sumará Destilerías Aldea.\n\n\n\n\
 n
ATTACH;FMTTYPE=image/jpeg:https://www.larevistadelapalma.com/wp-content/up
 loads/2025/07/Feria-Vino-Fuencaliente.jpg
CATEGORIES:Gastro,Otras propuestas,Varios
LOCATION:Plaza del Ayuntamiento de Fuencaliente\, C. San Antonio\, Los Cana
 rios\, Fuencaliente\, 38740\, España
GEO:28.494669;-17.845068
X-APPLE-STRUCTURED-LOCATION;VALUE=URI;X-ADDRESS=C. San Antonio\, Los Canari
 os\, Fuencaliente\, 38740\, España;X-APPLE-RADIUS=100;X-TITLE=Plaza del A
 yuntamiento de Fuencaliente:geo:28.494669,-17.845068
END:VEVENT
END:VCALENDAR