BEGIN:VCALENDAR
VERSION:2.0
PRODID:-//wp-events-plugin.com//7.2.3.1//EN
TZID:Europe/London
X-WR-TIMEZONE:Europe/London
BEGIN:VEVENT
UID:738@larevistadelapalma.com
DTSTART:20231007T110000Z
DTEND:20231007T170000Z
DTSTAMP:20231005T203055Z
URL:https://www.larevistadelapalma.com/events/feria-gastronomica-cultura-s
 obre-la-mesa/
SUMMARY:Feria gastronómica ‘Cultura sobre la mesa’
DESCRIPTION:\nSabores y aromas de la gastronomía local mezclados con músi
 ca.\n\n‘Cultura sobre la mesa’ contará con la participación de ocho 
 establecimientos de restauración y la cervecería Isla Verde.\nLos asiste
 ntes podrán disfrutar de una amplia variedad de tapas a un precio de 3\,5
 0€ y las cervezas artesanales a 2\,50€.\n\nAdemás\, se llevará a cab
 o un sorteo de entradas para el Circo de Marte.\n\n\n\n\n
ATTACH;FMTTYPE=image/jpeg:https://www.larevistadelapalma.com/wp-content/up
 loads/2023/10/cultura-sobre-la-mesa.jpg
CATEGORIES:Gastro,Otras propuestas
LOCATION:Plaza de La Alameda\, Plaza de La Alameda\, Santa Cruz de La Palma
 \, 38700\, España
GEO:28.688148;-17.761123
X-APPLE-STRUCTURED-LOCATION;VALUE=URI;X-ADDRESS=Plaza de La Alameda\, Santa
  Cruz de La Palma\, 38700\, España;X-APPLE-RADIUS=100;X-TITLE=Plaza de La
  Alameda:geo:28.688148,-17.761123
END:VEVENT
END:VCALENDARBEGIN:VCALENDAR
VERSION:2.0
PRODID:-//wp-events-plugin.com//7.2.3.1//EN
TZID:Europe/London
X-WR-TIMEZONE:Europe/London
BEGIN:VEVENT
UID:738@larevistadelapalma.com
DTSTART:20231007T110000Z
DTEND:20231007T170000Z
DTSTAMP:20231005T203055Z
URL:https://www.larevistadelapalma.com/events/feria-gastronomica-cultura-s
 obre-la-mesa/
SUMMARY:Feria gastronómica ‘Cultura sobre la mesa’
DESCRIPTION:\nSabores y aromas de la gastronomía local mezclados con músi
 ca.\n\n‘Cultura sobre la mesa’ contará con la participación de ocho 
 establecimientos de restauración y la cervecería Isla Verde.\nLos asiste
 ntes podrán disfrutar de una amplia variedad de tapas a un precio de 3\,5
 0€ y las cervezas artesanales a 2\,50€.\n\nAdemás\, se llevará a cab
 o un sorteo de entradas para el Circo de Marte.\n\n\n\n\n
ATTACH;FMTTYPE=image/jpeg:https://www.larevistadelapalma.com/wp-content/up
 loads/2023/10/cultura-sobre-la-mesa.jpg
CATEGORIES:Gastro,Otras propuestas
LOCATION:Plaza de La Alameda\, Plaza de La Alameda\, Santa Cruz de La Palma
 \, 38700\, España
GEO:28.688148;-17.761123
X-APPLE-STRUCTURED-LOCATION;VALUE=URI;X-ADDRESS=Plaza de La Alameda\, Santa
  Cruz de La Palma\, 38700\, España;X-APPLE-RADIUS=100;X-TITLE=Plaza de La
  Alameda:geo:28.688148,-17.761123
END:VEVENT
END:VCALENDAR