BEGIN:VCALENDAR
VERSION:2.0
PRODID:-//wp-events-plugin.com//7.2.3.1//EN
TZID:Europe/London
X-WR-TIMEZONE:Europe/London
BEGIN:VEVENT
UID:643@larevistadelapalma.com
DTSTART:20230909T120000Z
DTEND:20230909T160000Z
DTSTAMP:20230904T213355Z
URL:https://www.larevistadelapalma.com/events/feria-gastrorock-en-tazacort
 e/
SUMMARY:Feria GastroRock en Tazacorte
DESCRIPTION:Zona gastro y las actuaciones de Tihuya Cats Raw Blues\, Atlant
 is y Miss Music Band.
ATTACH;FMTTYPE=image/jpeg:https://www.larevistadelapalma.com/wp-content/up
 loads/2023/09/Gastro-Rock.jpg
CATEGORIES:Festivales/Fiestas,Gastro,Música,Otras propuestas
LOCATION:Plaza de España de Tazacorte\, plaza de España\, Tazacorte\, 387
 70\, España
GEO:28.644047;-17.933657
X-APPLE-STRUCTURED-LOCATION;VALUE=URI;X-ADDRESS=plaza de España\, Tazacort
 e\, 38770\, España;X-APPLE-RADIUS=100;X-TITLE=Plaza de España de Tazacor
 te:geo:28.644047,-17.933657
END:VEVENT
END:VCALENDARBEGIN:VCALENDAR
VERSION:2.0
PRODID:-//wp-events-plugin.com//7.2.3.1//EN
TZID:Europe/London
X-WR-TIMEZONE:Europe/London
BEGIN:VEVENT
UID:643@larevistadelapalma.com
DTSTART:20230909T120000Z
DTEND:20230909T160000Z
DTSTAMP:20230904T213355Z
URL:https://www.larevistadelapalma.com/events/feria-gastrorock-en-tazacort
 e/
SUMMARY:Feria GastroRock en Tazacorte
DESCRIPTION:Zona gastro y las actuaciones de Tihuya Cats Raw Blues\, Atlant
 is y Miss Music Band.
ATTACH;FMTTYPE=image/jpeg:https://www.larevistadelapalma.com/wp-content/up
 loads/2023/09/Gastro-Rock.jpg
CATEGORIES:Festivales/Fiestas,Gastro,Música,Otras propuestas
LOCATION:Plaza de España de Tazacorte\, plaza de España\, Tazacorte\, 387
 70\, España
GEO:28.644047;-17.933657
X-APPLE-STRUCTURED-LOCATION;VALUE=URI;X-ADDRESS=plaza de España\, Tazacort
 e\, 38770\, España;X-APPLE-RADIUS=100;X-TITLE=Plaza de España de Tazacor
 te:geo:28.644047,-17.933657
END:VEVENT
END:VCALENDAR