BEGIN:VCALENDAR
VERSION:2.0
PRODID:-//wp-events-plugin.com//7.2.3.1//EN
TZID:Europe/London
X-WR-TIMEZONE:Europe/London
BEGIN:VEVENT
UID:3336@larevistadelapalma.com
DTSTART:20241026T163000Z
DTEND:20241026T220000Z
DTSTAMP:20241022T205137Z
URL:https://www.larevistadelapalma.com/events/feria-mexicana-en-brena-alta
 -2/
SUMMARY:Feria Mexicana en Breña Alta
DESCRIPTION:Música\, gastronomía y el segundo concurso de catrinas.
ATTACH;FMTTYPE=image/jpeg:https://www.larevistadelapalma.com/wp-content/up
 loads/2024/10/cartel-feria-viva-mexico.jpg
CATEGORIES:Fiestas populares,Otras propuestas
LOCATION:Plaza Bujaz\, Breña Alta\, Calle Treinta de Mayo\, Breña Alta\, 
 38710\, España
GEO:28.662869;-17.788333
X-APPLE-STRUCTURED-LOCATION;VALUE=URI;X-ADDRESS=Calle Treinta de Mayo\, Bre
 ña Alta\, 38710\, España;X-APPLE-RADIUS=100;X-TITLE=Plaza Bujaz\, Breña
  Alta:geo:28.662869,-17.788333
END:VEVENT
END:VCALENDARBEGIN:VCALENDAR
VERSION:2.0
PRODID:-//wp-events-plugin.com//7.2.3.1//EN
TZID:Europe/London
X-WR-TIMEZONE:Europe/London
BEGIN:VEVENT
UID:3336@larevistadelapalma.com
DTSTART:20241026T163000Z
DTEND:20241026T220000Z
DTSTAMP:20241022T205137Z
URL:https://www.larevistadelapalma.com/events/feria-mexicana-en-brena-alta
 -2/
SUMMARY:Feria Mexicana en Breña Alta
DESCRIPTION:Música\, gastronomía y el segundo concurso de catrinas.
ATTACH;FMTTYPE=image/jpeg:https://www.larevistadelapalma.com/wp-content/up
 loads/2024/10/cartel-feria-viva-mexico.jpg
CATEGORIES:Fiestas populares,Otras propuestas
LOCATION:Plaza Bujaz\, Breña Alta\, Calle Treinta de Mayo\, Breña Alta\, 
 38710\, España
GEO:28.662869;-17.788333
X-APPLE-STRUCTURED-LOCATION;VALUE=URI;X-ADDRESS=Calle Treinta de Mayo\, Bre
 ña Alta\, 38710\, España;X-APPLE-RADIUS=100;X-TITLE=Plaza Bujaz\, Breña
  Alta:geo:28.662869,-17.788333
END:VEVENT
END:VCALENDAR