BEGIN:VCALENDAR
VERSION:2.0
PRODID:-//wp-events-plugin.com//7.2.3.1//EN
TZID:Europe/London
X-WR-TIMEZONE:Europe/London
BEGIN:VEVENT
UID:790@larevistadelapalma.com
DTSTART:20231028T170000Z
DTEND:20231028T213000Z
DTSTAMP:20231026T205525Z
URL:https://www.larevistadelapalma.com/events/feria-mexicana-en-brena-alta
 /
SUMMARY:Feria Mexicana en Breña Alta
DESCRIPTION:Habrá un concurso de catrinas\, con premio al mejor disfraz.\n
 El próximo sábado 28 de octubre\, a las 18:00 h\, en la Plaza Bujaz de B
 reña Alta\, un día multicultural\, con una cantina con comida mexicana\,
  baile y música en vivo.\nEstarán el Ballet folklórico de la Asociació
 n Azteca con Julio Minchala\, la cantante y performer Paloma Landgrave\, a
 demás de Lenny González\, el Mariachi Monterrey\, Manolo El Charro\, El 
 Gomerito y la Ruiseñora Palmera.\n\n\nMás info sobre el concurso &gt\;&g
 t\;
ATTACH;FMTTYPE=image/jpeg:https://www.larevistadelapalma.com/wp-content/up
 loads/2023/10/Feria-mexicana-Asociacion-Azteca-1.jpg
CATEGORIES:Fiestas populares,Gastro,Otras propuestas
LOCATION:Plaza Bujaz\, Breña Alta\, Calle Treinta de Mayo\, Breña Alta\, 
 38710\, España
GEO:28.662869;-17.788333
X-APPLE-STRUCTURED-LOCATION;VALUE=URI;X-ADDRESS=Calle Treinta de Mayo\, Bre
 ña Alta\, 38710\, España;X-APPLE-RADIUS=100;X-TITLE=Plaza Bujaz\, Breña
  Alta:geo:28.662869,-17.788333
END:VEVENT
END:VCALENDARBEGIN:VCALENDAR
VERSION:2.0
PRODID:-//wp-events-plugin.com//7.2.3.1//EN
TZID:Europe/London
X-WR-TIMEZONE:Europe/London
BEGIN:VEVENT
UID:790@larevistadelapalma.com
DTSTART:20231028T170000Z
DTEND:20231028T213000Z
DTSTAMP:20231026T205525Z
URL:https://www.larevistadelapalma.com/events/feria-mexicana-en-brena-alta
 /
SUMMARY:Feria Mexicana en Breña Alta
DESCRIPTION:Habrá un concurso de catrinas\, con premio al mejor disfraz.\n
 El próximo sábado 28 de octubre\, a las 18:00 h\, en la Plaza Bujaz de B
 reña Alta\, un día multicultural\, con una cantina con comida mexicana\,
  baile y música en vivo.\nEstarán el Ballet folklórico de la Asociació
 n Azteca con Julio Minchala\, la cantante y performer Paloma Landgrave\, a
 demás de Lenny González\, el Mariachi Monterrey\, Manolo El Charro\, El 
 Gomerito y la Ruiseñora Palmera.\n\n\nMás info sobre el concurso &gt\;&g
 t\;
ATTACH;FMTTYPE=image/jpeg:https://www.larevistadelapalma.com/wp-content/up
 loads/2023/10/Feria-mexicana-Asociacion-Azteca-1.jpg
CATEGORIES:Fiestas populares,Gastro,Otras propuestas
LOCATION:Plaza Bujaz\, Breña Alta\, Calle Treinta de Mayo\, Breña Alta\, 
 38710\, España
GEO:28.662869;-17.788333
X-APPLE-STRUCTURED-LOCATION;VALUE=URI;X-ADDRESS=Calle Treinta de Mayo\, Bre
 ña Alta\, 38710\, España;X-APPLE-RADIUS=100;X-TITLE=Plaza Bujaz\, Breña
  Alta:geo:28.662869,-17.788333
END:VEVENT
END:VCALENDAR