BEGIN:VCALENDAR
VERSION:2.0
PRODID:-//wp-events-plugin.com//7.2.3.1//EN
TZID:Europe/London
X-WR-TIMEZONE:Europe/London
BEGIN:VEVENT
UID:604@larevistadelapalma.com
DTSTART:20230812T160000Z
DTEND:20230812T160000Z
DTSTAMP:20230809T192414Z
URL:https://www.larevistadelapalma.com/events/feria-noroeste-en-tijarafe/
SUMMARY:Feria Noroeste en Tijarafe
DESCRIPTION:Con La Lonja Restaurante y su chef Juan Carlos Curpa\, Vinos Ac
 eró y  Visac DJ.
ATTACH;FMTTYPE=image/jpeg:https://www.larevistadelapalma.com/wp-content/up
 loads/2023/08/Feria-Noroeste.jpg
CATEGORIES:Gastro,Otras propuestas
LOCATION:La Vinoteca de Vega Norte\, Cam. Bellido\, 3\, Tijarafe\, 38780\, 
 España
GEO:28.737774;-17.9661
X-APPLE-STRUCTURED-LOCATION;VALUE=URI;X-ADDRESS=Cam. Bellido\, 3\, Tijarafe
 \, 38780\, España;X-APPLE-RADIUS=100;X-TITLE=La Vinoteca de Vega Norte:ge
 o:28.737774,-17.9661
END:VEVENT
END:VCALENDARBEGIN:VCALENDAR
VERSION:2.0
PRODID:-//wp-events-plugin.com//7.2.3.1//EN
TZID:Europe/London
X-WR-TIMEZONE:Europe/London
BEGIN:VEVENT
UID:604@larevistadelapalma.com
DTSTART:20230812T160000Z
DTEND:20230812T160000Z
DTSTAMP:20230809T192414Z
URL:https://www.larevistadelapalma.com/events/feria-noroeste-en-tijarafe/
SUMMARY:Feria Noroeste en Tijarafe
DESCRIPTION:Con La Lonja Restaurante y su chef Juan Carlos Curpa\, Vinos Ac
 eró y  Visac DJ.
ATTACH;FMTTYPE=image/jpeg:https://www.larevistadelapalma.com/wp-content/up
 loads/2023/08/Feria-Noroeste.jpg
CATEGORIES:Gastro,Otras propuestas
LOCATION:La Vinoteca de Vega Norte\, Cam. Bellido\, 3\, Tijarafe\, 38780\, 
 España
GEO:28.737774;-17.9661
X-APPLE-STRUCTURED-LOCATION;VALUE=URI;X-ADDRESS=Cam. Bellido\, 3\, Tijarafe
 \, 38780\, España;X-APPLE-RADIUS=100;X-TITLE=La Vinoteca de Vega Norte:ge
 o:28.737774,-17.9661
END:VEVENT
END:VCALENDAR