BEGIN:VCALENDAR
VERSION:2.0
PRODID:-//wp-events-plugin.com//7.2.3.1//EN
TZID:Europe/London
X-WR-TIMEZONE:Europe/London
BEGIN:VEVENT
UID:184@larevistadelapalma.com
DTSTART:20230729T110000Z
DTEND:20230729T170000Z
DTSTAMP:20230724T221502Z
URL:https://www.larevistadelapalma.com/events/feria-vino-fuencaliente/
SUMMARY:Feria del vino en Fuencaliente
DESCRIPTION:Además de una oportunidad de disfrutar de un día de cata\, se
 rá una cita solidaria con las bodegas afectadas por el incendio del noroe
 ste de la Isla\,Tendal\, Viñarda y Matías i Torres
ATTACH;FMTTYPE=image/jpeg:https://www.larevistadelapalma.com/wp-content/up
 loads/2023/07/vino.jpg
CATEGORIES:Gastro,Otras propuestas
LOCATION:Plaza del Ayuntamiento de Fuencaliente\, C. San Antonio\, Los Cana
 rios\, Fuencaliente\, 38740\, España
GEO:28.494669;-17.845068
X-APPLE-STRUCTURED-LOCATION;VALUE=URI;X-ADDRESS=C. San Antonio\, Los Canari
 os\, Fuencaliente\, 38740\, España;X-APPLE-RADIUS=100;X-TITLE=Plaza del A
 yuntamiento de Fuencaliente:geo:28.494669,-17.845068
END:VEVENT
END:VCALENDARBEGIN:VCALENDAR
VERSION:2.0
PRODID:-//wp-events-plugin.com//7.2.3.1//EN
TZID:Europe/London
X-WR-TIMEZONE:Europe/London
BEGIN:VEVENT
UID:184@larevistadelapalma.com
DTSTART:20230729T110000Z
DTEND:20230729T170000Z
DTSTAMP:20230724T221502Z
URL:https://www.larevistadelapalma.com/events/feria-vino-fuencaliente/
SUMMARY:Feria del vino en Fuencaliente
DESCRIPTION:Además de una oportunidad de disfrutar de un día de cata\, se
 rá una cita solidaria con las bodegas afectadas por el incendio del noroe
 ste de la Isla\,Tendal\, Viñarda y Matías i Torres
ATTACH;FMTTYPE=image/jpeg:https://www.larevistadelapalma.com/wp-content/up
 loads/2023/07/vino.jpg
CATEGORIES:Gastro,Otras propuestas
LOCATION:Plaza del Ayuntamiento de Fuencaliente\, C. San Antonio\, Los Cana
 rios\, Fuencaliente\, 38740\, España
GEO:28.494669;-17.845068
X-APPLE-STRUCTURED-LOCATION;VALUE=URI;X-ADDRESS=C. San Antonio\, Los Canari
 os\, Fuencaliente\, 38740\, España;X-APPLE-RADIUS=100;X-TITLE=Plaza del A
 yuntamiento de Fuencaliente:geo:28.494669,-17.845068
END:VEVENT
END:VCALENDAR