BEGIN:VCALENDAR
VERSION:2.0
PRODID:-//wp-events-plugin.com//7.2.3.1//EN
TZID:Europe/London
X-WR-TIMEZONE:Europe/London
BEGIN:VEVENT
UID:2858@larevistadelapalma.com
DTSTART;VALUE=DATE:20240425
DTEND;VALUE=DATE:20240429
DTSTAMP:20240326T003025Z
URL:https://www.larevistadelapalma.com/events/festilij-aridane-promociona-
 la-literatura-juvenil-e-infantil-con-17-autores-de-renombre/
SUMMARY:FestiLIJ Aridane promociona la literatura juvenil e infantil con 17
  autores de renombre
DESCRIPTION:Un evento promovido por el Ayuntamiento de Los Llanos de Aridan
 e\, junto con las librerías Estudiante y Serendipia\, y en colaboración 
 con el Cabildo de La Palma.\n\nLa literatura infantil y juvenil está de v
 uelta en Los Llanos de Aridane. La III edición del Festival de Literatura
  Infantil y Juvenil (FestiLIJ) Aridane dará comienzo el próximo 25 de ab
 ril en la Biblioteca Municipal María Nieves Pérez Acosta\, con las actua
 ciones de hasta 17 autores\, entre ellos Pedro Mañas\, Begoña Oro\, Mar
 ía Menéndez-Ponte\, Margarita del Mazo\, José Carlos Andrés y Bruno Pu
 elles.\n\nEl evento permite acercar a los lectores más jóvenes a sus aut
 ores favoritos\, tanto en encuentros en los colegios e institutos como en 
 mesas redondas\, talleres y cuentacuentos en la sede del festival\, en la 
 biblioteca.\n\nEn esta edición\, habrá actividades no solo para niños y
  adolescentes\, sino también abiertas a padres y profesores como la charl
 a ‘Los niños en la guerra: cómo la literatura infantil y juvenil retra
 ta los conflictos armados’\, por Javier Fernández Jiménez o el taller 
 ‘Cómo usar la literatura infantil y juvenil para tratar la muerte y el 
 duelo’\, por Javier Fonseca.\n\nPara los adolescentes a los que les gust
 e escribir o ilustrar\, algunas de las actividades específicas para ellos
  son el taller ‘Cómo escribir sin complejos’\, impartido por Margarit
 a del Mazo o el ‘Taller de ilustración para adolescentes’\, impartido
  por la autora del cartel de esta edición\, Elisabeth Karin Pavón Rymer-
 Rythen.\n\nPara obtener más información sobre programa y autores invitad
 os\, se puede consultar la web www.festilijaridane.com
ATTACH;FMTTYPE=image/jpeg:https://www.larevistadelapalma.com/wp-content/up
 loads/2024/03/cartel-FestiLIJ-724x1024-1.jpg
CATEGORIES:Cine y Literatura,Formación,Literatura,Otras propuestas
LOCATION:Casa de La Cultura de Los Llanos de Aridane\, : C. Real\, 8\, Los 
 Llanos de Aridane \, 38760\, España
GEO:28.658651;-17.913512
X-APPLE-STRUCTURED-LOCATION;VALUE=URI;X-ADDRESS=: C. Real\, 8\, Los Llanos 
 de Aridane \, 38760\, España;X-APPLE-RADIUS=100;X-TITLE=Casa de La Cultur
 a de Los Llanos de Aridane:geo:28.658651,-17.913512
END:VEVENT
END:VCALENDARBEGIN:VCALENDAR
VERSION:2.0
PRODID:-//wp-events-plugin.com//7.2.3.1//EN
TZID:Europe/London
X-WR-TIMEZONE:Europe/London
BEGIN:VEVENT
UID:2858@larevistadelapalma.com
DTSTART;VALUE=DATE:20240425
DTEND;VALUE=DATE:20240429
DTSTAMP:20240326T003025Z
URL:https://www.larevistadelapalma.com/events/festilij-aridane-promociona-
 la-literatura-juvenil-e-infantil-con-17-autores-de-renombre/
SUMMARY:FestiLIJ Aridane promociona la literatura juvenil e infantil con 17
  autores de renombre
DESCRIPTION:Un evento promovido por el Ayuntamiento de Los Llanos de Aridan
 e\, junto con las librerías Estudiante y Serendipia\, y en colaboración 
 con el Cabildo de La Palma.\n\nLa literatura infantil y juvenil está de v
 uelta en Los Llanos de Aridane. La III edición del Festival de Literatura
  Infantil y Juvenil (FestiLIJ) Aridane dará comienzo el próximo 25 de ab
 ril en la Biblioteca Municipal María Nieves Pérez Acosta\, con las actua
 ciones de hasta 17 autores\, entre ellos Pedro Mañas\, Begoña Oro\, Mar
 ía Menéndez-Ponte\, Margarita del Mazo\, José Carlos Andrés y Bruno Pu
 elles.\n\nEl evento permite acercar a los lectores más jóvenes a sus aut
 ores favoritos\, tanto en encuentros en los colegios e institutos como en 
 mesas redondas\, talleres y cuentacuentos en la sede del festival\, en la 
 biblioteca.\n\nEn esta edición\, habrá actividades no solo para niños y
  adolescentes\, sino también abiertas a padres y profesores como la charl
 a ‘Los niños en la guerra: cómo la literatura infantil y juvenil retra
 ta los conflictos armados’\, por Javier Fernández Jiménez o el taller 
 ‘Cómo usar la literatura infantil y juvenil para tratar la muerte y el 
 duelo’\, por Javier Fonseca.\n\nPara los adolescentes a los que les gust
 e escribir o ilustrar\, algunas de las actividades específicas para ellos
  son el taller ‘Cómo escribir sin complejos’\, impartido por Margarit
 a del Mazo o el ‘Taller de ilustración para adolescentes’\, impartido
  por la autora del cartel de esta edición\, Elisabeth Karin Pavón Rymer-
 Rythen.\n\nPara obtener más información sobre programa y autores invitad
 os\, se puede consultar la web www.festilijaridane.com
ATTACH;FMTTYPE=image/jpeg:https://www.larevistadelapalma.com/wp-content/up
 loads/2024/03/cartel-FestiLIJ-724x1024-1.jpg
CATEGORIES:Cine y Literatura,Formación,Literatura,Otras propuestas
LOCATION:Casa de La Cultura de Los Llanos de Aridane\, : C. Real\, 8\, Los 
 Llanos de Aridane \, 38760\, España
GEO:28.658651;-17.913512
X-APPLE-STRUCTURED-LOCATION;VALUE=URI;X-ADDRESS=: C. Real\, 8\, Los Llanos 
 de Aridane \, 38760\, España;X-APPLE-RADIUS=100;X-TITLE=Casa de La Cultur
 a de Los Llanos de Aridane:geo:28.658651,-17.913512
END:VEVENT
END:VCALENDAR