BEGIN:VCALENDAR
VERSION:2.0
PRODID:-//wp-events-plugin.com//7.2.3.1//EN
TZID:Europe/London
X-WR-TIMEZONE:Europe/London
BEGIN:VEVENT
UID:3402@larevistadelapalma.com
DTSTART:20241129T180000Z
DTEND:20241129T193000Z
DTSTAMP:20241114T175021Z
URL:https://www.larevistadelapalma.com/events/festival-6-cuerdas-joel-rodr
 iguez/
SUMMARY:Festival Internacional 6 Cuerdas: Joel Rodríguez
DESCRIPTION:XVIII edición del Festival 6 Cuerdas\, dedicado a los apasiona
 dos de la guitarra\, recala en la Casa del Conde de Argual con la actuaci
 ón de Joel Rodríguez.\n\nDesde pequeño\, Joel sintió gran interés por
  la música\, iniciando sus primeros pasos con un instrumento muy caracter
 ístico de Canarias\, el timple\, también cursó estudios de guitarra en 
 el Conservatorio Profesional de Tenerife. Su destreza musical ha sido demo
 strada con numerosos premios y reconocimientos\, incluso en el ámbito int
 ernacional.\nMás info y entradas &gt\;&gt\;
ATTACH;FMTTYPE=image/jpeg:https://www.larevistadelapalma.com/wp-content/up
 loads/2024/11/Joel-Rodriguez.jpg
CATEGORIES:Conciertos,Música
LOCATION:Casa del Conde\, Los Llanos de Aridane\, C/San Antonio\, 35 - Llan
 o de Argual\, Los Llanos de Aridane\, 38760\, España
GEO:28.655333;-17.926641
X-APPLE-STRUCTURED-LOCATION;VALUE=URI;X-ADDRESS=C/San Antonio\, 35 - Llano 
 de Argual\, Los Llanos de Aridane\, 38760\, España;X-APPLE-RADIUS=100;X-T
 ITLE=Casa del Conde\, Los Llanos de Aridane:geo:28.655333,-17.926641
END:VEVENT
END:VCALENDARBEGIN:VCALENDAR
VERSION:2.0
PRODID:-//wp-events-plugin.com//7.2.3.1//EN
TZID:Europe/London
X-WR-TIMEZONE:Europe/London
BEGIN:VEVENT
UID:3402@larevistadelapalma.com
DTSTART:20241129T180000Z
DTEND:20241129T193000Z
DTSTAMP:20241114T175021Z
URL:https://www.larevistadelapalma.com/events/festival-6-cuerdas-joel-rodr
 iguez/
SUMMARY:Festival Internacional 6 Cuerdas: Joel Rodríguez
DESCRIPTION:XVIII edición del Festival 6 Cuerdas\, dedicado a los apasiona
 dos de la guitarra\, recala en la Casa del Conde de Argual con la actuaci
 ón de Joel Rodríguez.\n\nDesde pequeño\, Joel sintió gran interés por
  la música\, iniciando sus primeros pasos con un instrumento muy caracter
 ístico de Canarias\, el timple\, también cursó estudios de guitarra en 
 el Conservatorio Profesional de Tenerife. Su destreza musical ha sido demo
 strada con numerosos premios y reconocimientos\, incluso en el ámbito int
 ernacional.\nMás info y entradas &gt\;&gt\;
ATTACH;FMTTYPE=image/jpeg:https://www.larevistadelapalma.com/wp-content/up
 loads/2024/11/Joel-Rodriguez.jpg
CATEGORIES:Conciertos,Música
LOCATION:Casa del Conde\, Los Llanos de Aridane\, C/San Antonio\, 35 - Llan
 o de Argual\, Los Llanos de Aridane\, 38760\, España
GEO:28.655333;-17.926641
X-APPLE-STRUCTURED-LOCATION;VALUE=URI;X-ADDRESS=C/San Antonio\, 35 - Llano 
 de Argual\, Los Llanos de Aridane\, 38760\, España;X-APPLE-RADIUS=100;X-T
 ITLE=Casa del Conde\, Los Llanos de Aridane:geo:28.655333,-17.926641
END:VEVENT
END:VCALENDAR