BEGIN:VCALENDAR
VERSION:2.0
PRODID:-//wp-events-plugin.com//7.2.3.1//EN
TZID:Europe/London
X-WR-TIMEZONE:Europe/London
BEGIN:VEVENT
UID:3762@larevistadelapalma.com
DTSTART;VALUE=DATE:20250528
DTEND;VALUE=DATE:20250601
DTSTAMP:20250524T232538Z
URL:https://www.larevistadelapalma.com/events/festival-a-lo-rural/
SUMMARY:Festival ‘A lo rural’
DESCRIPTION:\nDel 28 al 31 de mayo disfruta de este festival donde folclore
 \, innovación y cultura se dan la mano.\nEste segundo año\, Canarias\, C
 antabria y Chile serán los territorios desde los que lleguen las propuest
 as.\n"El Hierro y su música"\, con  Pablo Díaz y Felix Morales.\n\n\n\n
 \n 	Concierto didáctico para alumnado de Primaria.\n 	Miércoles 28 de ma
 yo. 10:30 h. Casa de la Cultura Braulio Martín Hernández.\n\n\n\n\n"Mús
 ica y prehistoria"\, con Félix Morales. \n\n\n\n\n 	Charla-exhibición.\
 n 	Miércoles 28 de mayo. 18:00 h. Casa de la Cultura Braulio Martín He
 rnández\n\n\nTaller de inventos con inteligencia natural. Impartido por 
 la artista visual Irene León.\n\n\n 	Taller de arte.\n 	Jueves 29 de mayo
 . 10:30 h. CEIP La Rosa.\n\nTaller de toque de flauta del pastor. Con Cé
 sar Cabrera.\n\n\n\n 	Jueves 29 de mayo. 17:00 h. Asociación de Mayores
  Axerjo\n\n\n"Somos costeras"\, con Mon Peraza y Antonio Conejo.\n\n\n 	Na
 rración oral para personas adultas.\n 	Jueves 29 de mayo. 19:30 h. Sal
 ón de Actos de la Casa de la Cultura Braulio Martín Hernández\n\n\n\nY 
 el sábado 31\, desde las 12:00 a las 20:00 horas\, actuaciones de teatro\
 , de la mano de Teatro KDO y la compañía Chilena "Niño proletario"\; ta
 ller de baile tradicional\, y concierto en el Bar Central.\n\n\n
ATTACH;FMTTYPE=image/jpeg:https://www.larevistadelapalma.com/wp-content/up
 loads/2025/05/A-lorural.jpg
CATEGORIES:Otras propuestas,Varios
LOCATION:Municipio de El Paso\, El Paso\, La Palma \, El Paso\, 38750\, Esp
 aña
GEO:28.652378;-17.880396
X-APPLE-STRUCTURED-LOCATION;VALUE=URI;X-ADDRESS=El Paso\, La Palma \, El Pa
 so\, 38750\, España;X-APPLE-RADIUS=100;X-TITLE=Municipio de El Paso:geo:2
 8.652378,-17.880396
END:VEVENT
END:VCALENDARBEGIN:VCALENDAR
VERSION:2.0
PRODID:-//wp-events-plugin.com//7.2.3.1//EN
TZID:Europe/London
X-WR-TIMEZONE:Europe/London
BEGIN:VEVENT
UID:3762@larevistadelapalma.com
DTSTART;VALUE=DATE:20250528
DTEND;VALUE=DATE:20250601
DTSTAMP:20250524T232538Z
URL:https://www.larevistadelapalma.com/events/festival-a-lo-rural/
SUMMARY:Festival ‘A lo rural’
DESCRIPTION:\nDel 28 al 31 de mayo disfruta de este festival donde folclore
 \, innovación y cultura se dan la mano.\nEste segundo año\, Canarias\, C
 antabria y Chile serán los territorios desde los que lleguen las propuest
 as.\n"El Hierro y su música"\, con  Pablo Díaz y Felix Morales.\n\n\n\n
 \n 	Concierto didáctico para alumnado de Primaria.\n 	Miércoles 28 de ma
 yo. 10:30 h. Casa de la Cultura Braulio Martín Hernández.\n\n\n\n\n"Mús
 ica y prehistoria"\, con Félix Morales. \n\n\n\n\n 	Charla-exhibición.\
 n 	Miércoles 28 de mayo. 18:00 h. Casa de la Cultura Braulio Martín He
 rnández\n\n\nTaller de inventos con inteligencia natural. Impartido por 
 la artista visual Irene León.\n\n\n 	Taller de arte.\n 	Jueves 29 de mayo
 . 10:30 h. CEIP La Rosa.\n\nTaller de toque de flauta del pastor. Con Cé
 sar Cabrera.\n\n\n\n 	Jueves 29 de mayo. 17:00 h. Asociación de Mayores
  Axerjo\n\n\n"Somos costeras"\, con Mon Peraza y Antonio Conejo.\n\n\n 	Na
 rración oral para personas adultas.\n 	Jueves 29 de mayo. 19:30 h. Sal
 ón de Actos de la Casa de la Cultura Braulio Martín Hernández\n\n\n\nY 
 el sábado 31\, desde las 12:00 a las 20:00 horas\, actuaciones de teatro\
 , de la mano de Teatro KDO y la compañía Chilena "Niño proletario"\; ta
 ller de baile tradicional\, y concierto en el Bar Central.\n\n\n
ATTACH;FMTTYPE=image/jpeg:https://www.larevistadelapalma.com/wp-content/up
 loads/2025/05/A-lorural.jpg
CATEGORIES:Otras propuestas,Varios
LOCATION:Municipio de El Paso\, El Paso\, La Palma \, El Paso\, 38750\, Esp
 aña
GEO:28.652378;-17.880396
X-APPLE-STRUCTURED-LOCATION;VALUE=URI;X-ADDRESS=El Paso\, La Palma \, El Pa
 so\, 38750\, España;X-APPLE-RADIUS=100;X-TITLE=Municipio de El Paso:geo:2
 8.652378,-17.880396
END:VEVENT
END:VCALENDAR