BEGIN:VCALENDAR
VERSION:2.0
PRODID:-//wp-events-plugin.com//7.2.3.1//EN
TZID:Europe/London
X-WR-TIMEZONE:Europe/London
BEGIN:VEVENT
UID:4551@larevistadelapalma.com
DTSTART:20260425T120000Z
DTEND:20260425T225900Z
DTSTAMP:20260303T205958Z
URL:https://www.larevistadelapalma.com/events/festival-akelarre-2026/
SUMMARY:Festival AKelarre 2026
DESCRIPTION: Las brujas del vinilo y otras brujas han sido convocadas. Gir
 an los discos y la música les habla. Desde el más allá se escuchan unas
  notas musicales y una voz resuena en La Palma... ¡Vuelve el Festival Ake
 larre!\n\nEste  festival\, es un encuentro de mujeres djs\, selectoras y 
 coleccionistas de vinilos organizado por Pimienta Selectoras\, para visibi
 lizar a la mujer dentro de la cultura dj y el coleccionismo de vinilos.\nE
 ste año con : Marcia Carr (UK)\;  Jeni Yanes ( México)\; Superseñorita
  (Gran Canaria- Islas Canarias)\; Yurena RD (Tenerife- Islas Canarias)\; D
 J Pupilas (Madrid/Asturias)\; Monterreina (La Palma- Islas Canarias)\; Yve
 tte Erre (Barcelona)\nComo siempre\, el evento musical estará aderezado c
 on zona gastro\, mercadillo de vinilos y otras actividades.
ATTACH;FMTTYPE=image/jpeg:https://www.larevistadelapalma.com/wp-content/up
 loads/2026/03/4-25-Festival-Akelarre.jpg
CATEGORIES:Festivales/Fiestas,Música
LOCATION:Casa Masieu\, Tazacorte\, s/n\, C. Miguel de Unamuno\, Tazacorte\,
  38770\, España
GEO:28.641866;-17.936446
X-APPLE-STRUCTURED-LOCATION;VALUE=URI;X-ADDRESS=s/n\, C. Miguel de Unamuno\
 , Tazacorte\, 38770\, España;X-APPLE-RADIUS=100;X-TITLE=Casa Masieu\, Taz
 acorte:geo:28.641866,-17.936446
END:VEVENT
END:VCALENDARBEGIN:VCALENDAR
VERSION:2.0
PRODID:-//wp-events-plugin.com//7.2.3.1//EN
TZID:Europe/London
X-WR-TIMEZONE:Europe/London
BEGIN:VEVENT
UID:4551@larevistadelapalma.com
DTSTART:20260425T120000Z
DTEND:20260425T225900Z
DTSTAMP:20260303T205958Z
URL:https://www.larevistadelapalma.com/events/festival-akelarre-2026/
SUMMARY:Festival AKelarre 2026
DESCRIPTION: Las brujas del vinilo y otras brujas han sido convocadas. Gir
 an los discos y la música les habla. Desde el más allá se escuchan unas
  notas musicales y una voz resuena en La Palma... ¡Vuelve el Festival Ake
 larre!\n\nEste  festival\, es un encuentro de mujeres djs\, selectoras y 
 coleccionistas de vinilos organizado por Pimienta Selectoras\, para visibi
 lizar a la mujer dentro de la cultura dj y el coleccionismo de vinilos.\nE
 ste año con : Marcia Carr (UK)\;  Jeni Yanes ( México)\; Superseñorita
  (Gran Canaria- Islas Canarias)\; Yurena RD (Tenerife- Islas Canarias)\; D
 J Pupilas (Madrid/Asturias)\; Monterreina (La Palma- Islas Canarias)\; Yve
 tte Erre (Barcelona)\nComo siempre\, el evento musical estará aderezado c
 on zona gastro\, mercadillo de vinilos y otras actividades.
ATTACH;FMTTYPE=image/jpeg:https://www.larevistadelapalma.com/wp-content/up
 loads/2026/03/4-25-Festival-Akelarre.jpg
CATEGORIES:Festivales/Fiestas,Música
LOCATION:Casa Masieu\, Tazacorte\, s/n\, C. Miguel de Unamuno\, Tazacorte\,
  38770\, España
GEO:28.641866;-17.936446
X-APPLE-STRUCTURED-LOCATION;VALUE=URI;X-ADDRESS=s/n\, C. Miguel de Unamuno\
 , Tazacorte\, 38770\, España;X-APPLE-RADIUS=100;X-TITLE=Casa Masieu\, Taz
 acorte:geo:28.641866,-17.936446
END:VEVENT
END:VCALENDAR