BEGIN:VCALENDAR
VERSION:2.0
PRODID:-//wp-events-plugin.com//7.2.3.1//EN
TZID:Europe/London
X-WR-TIMEZONE:Europe/London
BEGIN:VEVENT
UID:2920@larevistadelapalma.com
DTSTART:20240427T120000Z
DTEND:20240427T225900Z
DTSTAMP:20240423T234822Z
URL:https://www.larevistadelapalma.com/events/festival-akelarre/
SUMMARY:Festival Akelarre
DESCRIPTION:Desde los lugares más remotos de la tierra las brujas del vini
 lo otean el horizonte buscando el lugar que cada año las convoca.\nEste a
 ño el Festival Akelarre tendrá como sede la Casa Massieu de Tazacorte. 
 \n\nPara la celebración de esta edición\, el Cabildo insular ha multipli
 cado la aportación que el festival recibía de la Institución insular\, 
 garantizando de esa manera su celebración y el éxito de sus objetivos. E
 ste festival\, además\, cuenta con la colaboración del Ayuntamiento de T
 azacorte\, nace con la intención de convertirse en un encuentro internaci
 onal de mujeres djs\, selectoras y coleccionistas de vinilos.\n\nPimienta 
 Selectoras\,(las organizadoras) Pino Monterrey Yanes\, Adriana Jarabo Lore
 nzo\, Antonia Gómez Acosta y Mónica Llavería Dolls\, señalan que esta 
 cita nace como una necesidad por visibilizar a la mujer dentro de la cultu
 ra dj y el coleccionismo de vinilos y de paso mover el esqueleto durante d
 oce horas.\nEl evento se desarrollará el sábado 27 de abril\, desde las 
 13:00 horas hasta la 1:00 de la madrugada. Montadas en su escoba vendrán 
 las brujas del vinilo desde lugares remotos para pinchar juntas en La Palm
 a: Marcia Carr (Londres)\, Eli Pavel (Berlín)\, Andrea Álvarez (Tenerife
 )\, Moni Loff (La Palma)\, Wepa Selectors (Colombia)\, Rita Sô (Lisboa) y
  Pimienta Selectoras (La Palma).\nEl festival comenzará el día previo\, 
 viernes 26 de abril\, a partir de las 19:00\, con la denominada ‘La Pre
 ’\, que tendrá lugar en la Tasca La Marmota de Tazacorte con una mesa r
 edonda de ‘festivaleras’\, mujeres productoras de festivales en Canari
 as.\n\nDurante el festival se podrá disfrutar además de una mesa redonda
  previa en torno al papel de la mujer en la cultura dj y una feria en el p
 atio de la Casa Massieu con mercadillo de vinilos de Gladys Palmera Record
 s\, Analog África\, Malpaís Records y Jacob Alonso\, ludoteca\, stands d
 e asociaciones feministas de Canarias y productos gastronómicos. También
  se contará con transporte gratuito.\n\nEl menú Akelarre.\nTasca marmota
  pondrá menú con opción vegana y vegetariana elaborada con producto loc
 al\, frutas y verduras de La Cernicala + mojitos de ricos sabores.\nLos du
 lces del Palmerita\, aquellos que tanto disfrutamos en nuestra querida Pal
 merita Café.\nViñarda te deleitará con sus vinos sulfurosos del norte d
 e la isla.\nPiedra Jurada y sus ricos vinos de sabor Garafía.\nLa cerveci
 ta servida por la troupé picante de Pimienta Selectoras.\n
ATTACH;FMTTYPE=image/jpeg:https://www.larevistadelapalma.com/wp-content/up
 loads/2024/04/Cartel-Akelarre-2024-IG.jpg
CATEGORIES:Festivales/Fiestas,Música
LOCATION:Casa Masieu\, Tazacorte\, s/n\, C. Miguel de Unamuno\, Tazacorte\,
  38770\, España
GEO:28.641866;-17.936446
X-APPLE-STRUCTURED-LOCATION;VALUE=URI;X-ADDRESS=s/n\, C. Miguel de Unamuno\
 , Tazacorte\, 38770\, España;X-APPLE-RADIUS=100;X-TITLE=Casa Masieu\, Taz
 acorte:geo:28.641866,-17.936446
END:VEVENT
END:VCALENDARBEGIN:VCALENDAR
VERSION:2.0
PRODID:-//wp-events-plugin.com//7.2.3.1//EN
TZID:Europe/London
X-WR-TIMEZONE:Europe/London
BEGIN:VEVENT
UID:2920@larevistadelapalma.com
DTSTART:20240427T120000Z
DTEND:20240427T225900Z
DTSTAMP:20240423T234822Z
URL:https://www.larevistadelapalma.com/events/festival-akelarre/
SUMMARY:Festival Akelarre
DESCRIPTION:Desde los lugares más remotos de la tierra las brujas del vini
 lo otean el horizonte buscando el lugar que cada año las convoca.\nEste a
 ño el Festival Akelarre tendrá como sede la Casa Massieu de Tazacorte. 
 \n\nPara la celebración de esta edición\, el Cabildo insular ha multipli
 cado la aportación que el festival recibía de la Institución insular\, 
 garantizando de esa manera su celebración y el éxito de sus objetivos. E
 ste festival\, además\, cuenta con la colaboración del Ayuntamiento de T
 azacorte\, nace con la intención de convertirse en un encuentro internaci
 onal de mujeres djs\, selectoras y coleccionistas de vinilos.\n\nPimienta 
 Selectoras\,(las organizadoras) Pino Monterrey Yanes\, Adriana Jarabo Lore
 nzo\, Antonia Gómez Acosta y Mónica Llavería Dolls\, señalan que esta 
 cita nace como una necesidad por visibilizar a la mujer dentro de la cultu
 ra dj y el coleccionismo de vinilos y de paso mover el esqueleto durante d
 oce horas.\nEl evento se desarrollará el sábado 27 de abril\, desde las 
 13:00 horas hasta la 1:00 de la madrugada. Montadas en su escoba vendrán 
 las brujas del vinilo desde lugares remotos para pinchar juntas en La Palm
 a: Marcia Carr (Londres)\, Eli Pavel (Berlín)\, Andrea Álvarez (Tenerife
 )\, Moni Loff (La Palma)\, Wepa Selectors (Colombia)\, Rita Sô (Lisboa) y
  Pimienta Selectoras (La Palma).\nEl festival comenzará el día previo\, 
 viernes 26 de abril\, a partir de las 19:00\, con la denominada ‘La Pre
 ’\, que tendrá lugar en la Tasca La Marmota de Tazacorte con una mesa r
 edonda de ‘festivaleras’\, mujeres productoras de festivales en Canari
 as.\n\nDurante el festival se podrá disfrutar además de una mesa redonda
  previa en torno al papel de la mujer en la cultura dj y una feria en el p
 atio de la Casa Massieu con mercadillo de vinilos de Gladys Palmera Record
 s\, Analog África\, Malpaís Records y Jacob Alonso\, ludoteca\, stands d
 e asociaciones feministas de Canarias y productos gastronómicos. También
  se contará con transporte gratuito.\n\nEl menú Akelarre.\nTasca marmota
  pondrá menú con opción vegana y vegetariana elaborada con producto loc
 al\, frutas y verduras de La Cernicala + mojitos de ricos sabores.\nLos du
 lces del Palmerita\, aquellos que tanto disfrutamos en nuestra querida Pal
 merita Café.\nViñarda te deleitará con sus vinos sulfurosos del norte d
 e la isla.\nPiedra Jurada y sus ricos vinos de sabor Garafía.\nLa cerveci
 ta servida por la troupé picante de Pimienta Selectoras.\n
ATTACH;FMTTYPE=image/jpeg:https://www.larevistadelapalma.com/wp-content/up
 loads/2024/04/Cartel-Akelarre-2024-IG.jpg
CATEGORIES:Festivales/Fiestas,Música
LOCATION:Casa Masieu\, Tazacorte\, s/n\, C. Miguel de Unamuno\, Tazacorte\,
  38770\, España
GEO:28.641866;-17.936446
X-APPLE-STRUCTURED-LOCATION;VALUE=URI;X-ADDRESS=s/n\, C. Miguel de Unamuno\
 , Tazacorte\, 38770\, España;X-APPLE-RADIUS=100;X-TITLE=Casa Masieu\, Taz
 acorte:geo:28.641866,-17.936446
END:VEVENT
END:VCALENDAR