BEGIN:VCALENDAR
VERSION:2.0
PRODID:-//wp-events-plugin.com//7.2.3.1//EN
TZID:Europe/London
X-WR-TIMEZONE:Europe/London
BEGIN:VEVENT
UID:4027@larevistadelapalma.com
DTSTART:20251018T120000Z
DTEND:20251018T133000Z
DTSTAMP:20251016T191519Z
URL:https://www.larevistadelapalma.com/events/festival-ateados-danzas-past
 or-de-la-palma/
SUMMARY:La 2ª edición del festival Ateados se centrará en las Danzas de 
 Pastor de La Palma
DESCRIPTION:Este sábado 18 de octubre\, a las 13:00 horas\, en el Salón N
 oble de la Sociedad La Investigadora de Santa Cruz de La Palma tendrá lug
 ar la segunda edición de “Ateados: Festival de Músicas de La Palma”.
  \n\nLa edición de Ateados de este año se dedicará de manera monográf
 ica a las Danzas de Pastor de La Palma. Cabe recordar que en los últimos 
 años se han recuperado en distintas localidades de La Palma varias de est
 as danzas\, una de las manifestaciones más antiguas y valiosas del folclo
 re musical de la isla. En este sentido baste recordar las restauraciones d
 e los bailes de pastor de Las Nieves\, Breña Baja y Puntallana.     
 \n\nEl festival correrá a cargo de la Agrupación de Castañuelas de Bre
 ña Alta que contará con la colaboración del Aula de Clarinete de la Esc
 uela Insular de Música así como otros intérpretes. El programa incluye 
 la interpretación de media docena de estas antiguas danzas basadas en el 
 sirinoque\, el tajaraste y los romances. \n\n&nbsp\;
ATTACH;FMTTYPE=image/jpeg:https://www.larevistadelapalma.com/wp-content/up
 loads/2025/10/CARTEL-2025-festival-ATEADOS-2025.jpg
CATEGORIES:Otras propuestas,Varios
LOCATION:Casino de Santa Cruz de La Palma\,  C. Anselmo Pérez de Brito\, 1
 5\, Santa Cruz De La Palma\, Santa Cruz de Tenerife\, 38700\, España
GEO:28.684234;-17.7638
X-APPLE-STRUCTURED-LOCATION;VALUE=URI;X-ADDRESS= C. Anselmo Pérez de Brito
 \, 15\, Santa Cruz De La Palma\, Santa Cruz de Tenerife\, 38700\, España;
 X-APPLE-RADIUS=100;X-TITLE=Casino de Santa Cruz de La Palma:geo:28.684234,
 -17.7638
END:VEVENT
END:VCALENDARBEGIN:VCALENDAR
VERSION:2.0
PRODID:-//wp-events-plugin.com//7.2.3.1//EN
TZID:Europe/London
X-WR-TIMEZONE:Europe/London
BEGIN:VEVENT
UID:4027@larevistadelapalma.com
DTSTART:20251018T120000Z
DTEND:20251018T133000Z
DTSTAMP:20251016T191519Z
URL:https://www.larevistadelapalma.com/events/festival-ateados-danzas-past
 or-de-la-palma/
SUMMARY:La 2ª edición del festival Ateados se centrará en las Danzas de 
 Pastor de La Palma
DESCRIPTION:Este sábado 18 de octubre\, a las 13:00 horas\, en el Salón N
 oble de la Sociedad La Investigadora de Santa Cruz de La Palma tendrá lug
 ar la segunda edición de “Ateados: Festival de Músicas de La Palma”.
  \n\nLa edición de Ateados de este año se dedicará de manera monográf
 ica a las Danzas de Pastor de La Palma. Cabe recordar que en los últimos 
 años se han recuperado en distintas localidades de La Palma varias de est
 as danzas\, una de las manifestaciones más antiguas y valiosas del folclo
 re musical de la isla. En este sentido baste recordar las restauraciones d
 e los bailes de pastor de Las Nieves\, Breña Baja y Puntallana.     
 \n\nEl festival correrá a cargo de la Agrupación de Castañuelas de Bre
 ña Alta que contará con la colaboración del Aula de Clarinete de la Esc
 uela Insular de Música así como otros intérpretes. El programa incluye 
 la interpretación de media docena de estas antiguas danzas basadas en el 
 sirinoque\, el tajaraste y los romances. \n\n&nbsp\;
ATTACH;FMTTYPE=image/jpeg:https://www.larevistadelapalma.com/wp-content/up
 loads/2025/10/CARTEL-2025-festival-ATEADOS-2025.jpg
CATEGORIES:Otras propuestas,Varios
LOCATION:Casino de Santa Cruz de La Palma\,  C. Anselmo Pérez de Brito\, 1
 5\, Santa Cruz De La Palma\, Santa Cruz de Tenerife\, 38700\, España
GEO:28.684234;-17.7638
X-APPLE-STRUCTURED-LOCATION;VALUE=URI;X-ADDRESS= C. Anselmo Pérez de Brito
 \, 15\, Santa Cruz De La Palma\, Santa Cruz de Tenerife\, 38700\, España;
 X-APPLE-RADIUS=100;X-TITLE=Casino de Santa Cruz de La Palma:geo:28.684234,
 -17.7638
END:VEVENT
END:VCALENDAR