BEGIN:VCALENDAR
VERSION:2.0
PRODID:-//wp-events-plugin.com//7.2.3.1//EN
TZID:Europe/London
X-WR-TIMEZONE:Europe/London
BEGIN:VEVENT
UID:3554@larevistadelapalma.com
DTSTART:20250124T170000Z
DTEND:20250124T211500Z
DTSTAMP:20250124T161608Z
URL:https://www.larevistadelapalma.com/events/festival-candela-25/
SUMMARY:Festival Candela
DESCRIPTION:El Festival Candela cumple 3 años\, y lo celebran con una prog
 ramación de talleres en beneficio de la salud mental y actividades artís
 ticas\, conciertos y mucho más.\n\nComienzan en el espacio Crealab de El 
 Paso con taller de percusión africana y concierto de Casa Nómada.\n\nIns
 cripción Talleres: Dm o WhatsApp +34 648491615
ATTACH;FMTTYPE=image/jpeg:https://www.larevistadelapalma.com/wp-content/up
 loads/2025/01/Festival-Candela.jpg
CATEGORIES:Festivales/Fiestas,Música,Otras propuestas,Varios
LOCATION:Crealab El Paso\, C. Manuel Taño\, 1\, El Paso\, 38750\, España
GEO:28.651929;-17.88
X-APPLE-STRUCTURED-LOCATION;VALUE=URI;X-ADDRESS=C. Manuel Taño\, 1\, El Pa
 so\, 38750\, España;X-APPLE-RADIUS=100;X-TITLE=Crealab El Paso:geo:28.651
 929,-17.88
END:VEVENT
END:VCALENDARBEGIN:VCALENDAR
VERSION:2.0
PRODID:-//wp-events-plugin.com//7.2.3.1//EN
TZID:Europe/London
X-WR-TIMEZONE:Europe/London
BEGIN:VEVENT
UID:3554@larevistadelapalma.com
DTSTART:20250124T170000Z
DTEND:20250124T211500Z
DTSTAMP:20250124T161608Z
URL:https://www.larevistadelapalma.com/events/festival-candela-25/
SUMMARY:Festival Candela
DESCRIPTION:El Festival Candela cumple 3 años\, y lo celebran con una prog
 ramación de talleres en beneficio de la salud mental y actividades artís
 ticas\, conciertos y mucho más.\n\nComienzan en el espacio Crealab de El 
 Paso con taller de percusión africana y concierto de Casa Nómada.\n\nIns
 cripción Talleres: Dm o WhatsApp +34 648491615
ATTACH;FMTTYPE=image/jpeg:https://www.larevistadelapalma.com/wp-content/up
 loads/2025/01/Festival-Candela.jpg
CATEGORIES:Festivales/Fiestas,Música,Otras propuestas,Varios
LOCATION:Crealab El Paso\, C. Manuel Taño\, 1\, El Paso\, 38750\, España
GEO:28.651929;-17.88
X-APPLE-STRUCTURED-LOCATION;VALUE=URI;X-ADDRESS=C. Manuel Taño\, 1\, El Pa
 so\, 38750\, España;X-APPLE-RADIUS=100;X-TITLE=Crealab El Paso:geo:28.651
 929,-17.88
END:VEVENT
END:VCALENDAR