BEGIN:VCALENDAR
VERSION:2.0
PRODID:-//wp-events-plugin.com//7.2.3.1//EN
TZID:Europe/London
X-WR-TIMEZONE:Europe/London
BEGIN:VEVENT
UID:3555@larevistadelapalma.com
DTSTART:20250221T153000Z
DTEND:20250221T211500Z
DTSTAMP:20250213T230408Z
URL:https://www.larevistadelapalma.com/events/festival-candela/
SUMMARY:Festival Candela: talleres de sonidoterapia e interpretación\, y e
 l concierto de "La niña de la calle"
DESCRIPTION:Taller de sonidoterapía\, de interpretación\, y el concierto 
 de La niña de la calle.
ATTACH;FMTTYPE=image/jpeg:https://www.larevistadelapalma.com/wp-content/up
 loads/2025/01/La-nina-de-la-calle.jpg
CATEGORIES:Festivales/Fiestas,Música,Otras propuestas,Varios
LOCATION:Crealab El Paso\, C. Manuel Taño\, 1\, El Paso\, 38750\, España
GEO:28.651929;-17.88
X-APPLE-STRUCTURED-LOCATION;VALUE=URI;X-ADDRESS=C. Manuel Taño\, 1\, El Pa
 so\, 38750\, España;X-APPLE-RADIUS=100;X-TITLE=Crealab El Paso:geo:28.651
 929,-17.88
END:VEVENT
END:VCALENDARBEGIN:VCALENDAR
VERSION:2.0
PRODID:-//wp-events-plugin.com//7.2.3.1//EN
TZID:Europe/London
X-WR-TIMEZONE:Europe/London
BEGIN:VEVENT
UID:3555@larevistadelapalma.com
DTSTART:20250221T153000Z
DTEND:20250221T211500Z
DTSTAMP:20250213T230408Z
URL:https://www.larevistadelapalma.com/events/festival-candela/
SUMMARY:Festival Candela: talleres de sonidoterapia e interpretación\, y e
 l concierto de "La niña de la calle"
DESCRIPTION:Taller de sonidoterapía\, de interpretación\, y el concierto 
 de La niña de la calle.
ATTACH;FMTTYPE=image/jpeg:https://www.larevistadelapalma.com/wp-content/up
 loads/2025/01/La-nina-de-la-calle.jpg
CATEGORIES:Festivales/Fiestas,Música,Otras propuestas,Varios
LOCATION:Crealab El Paso\, C. Manuel Taño\, 1\, El Paso\, 38750\, España
GEO:28.651929;-17.88
X-APPLE-STRUCTURED-LOCATION;VALUE=URI;X-ADDRESS=C. Manuel Taño\, 1\, El Pa
 so\, 38750\, España;X-APPLE-RADIUS=100;X-TITLE=Crealab El Paso:geo:28.651
 929,-17.88
END:VEVENT
END:VCALENDAR