BEGIN:VCALENDAR
VERSION:2.0
PRODID:-//wp-events-plugin.com//7.2.3.1//EN
TZID:Europe/London
X-WR-TIMEZONE:Europe/London
BEGIN:VEVENT
UID:4044@larevistadelapalma.com
DTSTART;VALUE=DATE:20251108
DTEND;VALUE=DATE:20251117
DTSTAMP:20251106T135540Z
URL:https://www.larevistadelapalma.com/events/festival-cuentos-brena-alta-
 2025/
SUMMARY:Festival Cuentos Breña Alta 2025
DESCRIPTION:Esta es la programación del XIX Festival Cuentos Breña Alta. 
 \nTe esperan del 8 al 16 de noviembre con espectáculos literarios\, visit
 as guiadas\, talleres y narradores llegados de diferentes partes del mundo
  con cuentos e historias que te devolverán la magia de escuchar\, soñar 
 y compartir.\n\n
ATTACH;FMTTYPE=image/jpeg:https://www.larevistadelapalma.com/wp-content/up
 loads/2025/11/Festival-de-cuentos-B-Alta-25.jpg
CATEGORIES:Espectáculos,Otras propuestas,Varios
LOCATION:Municipio de Breña Alta\, Municipio de Breña Alta\, Breña Alta\
 , 8710 \, España
GEO:28.65375;-17.805077
X-APPLE-STRUCTURED-LOCATION;VALUE=URI;X-ADDRESS=Municipio de Breña Alta\, 
 Breña Alta\, 8710 \, España;X-APPLE-RADIUS=100;X-TITLE=Municipio de Bre
 ña Alta:geo:28.65375,-17.805077
END:VEVENT
END:VCALENDARBEGIN:VCALENDAR
VERSION:2.0
PRODID:-//wp-events-plugin.com//7.2.3.1//EN
TZID:Europe/London
X-WR-TIMEZONE:Europe/London
BEGIN:VEVENT
UID:4044@larevistadelapalma.com
DTSTART;VALUE=DATE:20251108
DTEND;VALUE=DATE:20251117
DTSTAMP:20251106T135540Z
URL:https://www.larevistadelapalma.com/events/festival-cuentos-brena-alta-
 2025/
SUMMARY:Festival Cuentos Breña Alta 2025
DESCRIPTION:Esta es la programación del XIX Festival Cuentos Breña Alta. 
 \nTe esperan del 8 al 16 de noviembre con espectáculos literarios\, visit
 as guiadas\, talleres y narradores llegados de diferentes partes del mundo
  con cuentos e historias que te devolverán la magia de escuchar\, soñar 
 y compartir.\n\n
ATTACH;FMTTYPE=image/jpeg:https://www.larevistadelapalma.com/wp-content/up
 loads/2025/11/Festival-de-cuentos-B-Alta-25.jpg
CATEGORIES:Espectáculos,Otras propuestas,Varios
LOCATION:Municipio de Breña Alta\, Municipio de Breña Alta\, Breña Alta\
 , 8710 \, España
GEO:28.65375;-17.805077
X-APPLE-STRUCTURED-LOCATION;VALUE=URI;X-ADDRESS=Municipio de Breña Alta\, 
 Breña Alta\, 8710 \, España;X-APPLE-RADIUS=100;X-TITLE=Municipio de Bre
 ña Alta:geo:28.65375,-17.805077
END:VEVENT
END:VCALENDAR