BEGIN:VCALENDAR
VERSION:2.0
PRODID:-//wp-events-plugin.com//7.2.3.1//EN
TZID:Europe/London
X-WR-TIMEZONE:Europe/London
BEGIN:VEVENT
UID:3357@larevistadelapalma.com
DTSTART;VALUE=DATE:20241102
DTEND;VALUE=DATE:20241118
DTSTAMP:20241031T171729Z
URL:https://www.larevistadelapalma.com/events/festival-de-cuentos-de-brena
 -alta/
SUMMARY:Festival de Cuentos de Breña Alta. CAMBIOS EN EL PROGRAMA
DESCRIPTION:*El evento previsto para el sábado\, 2 de noviembre\, enmarcad
 o dentro del Festival Cuentos Breña Alta\, (susurradores de cuentos) qued
 a aplazado en señal de respeto por las víctimas de la reciente catástro
 fe en la Comunidad Valenciana.\n\nCuentos\, poemas\, música\, sabores\, p
 aseos\,… Breña Alta te invita a descubrir la magia de la palabra narr
 ada por diferentes rincones del municipio.\n\nEste año habrá sesiones de
  cuentos para niños y adultos\, encuentro de lectores\, poemas para trans
 eúntes\, maratón de cuentos\, incluso una cata teatralizada en el Museo 
 del Puro.\nConsultar programa &gt\;&gt\;\n&nbsp\;
ATTACH;FMTTYPE=image/jpeg:https://www.larevistadelapalma.com/wp-content/up
 loads/2024/10/ilustracion_cuentos_lapalma_CARTEL_capas-893x1024-1.png
CATEGORIES:Cine y Literatura,Literatura
LOCATION:Municipio de Breña Alta\, Municipio de Breña Alta\, Breña Alta\
 , 8710 \, España
GEO:28.65375;-17.805077
X-APPLE-STRUCTURED-LOCATION;VALUE=URI;X-ADDRESS=Municipio de Breña Alta\, 
 Breña Alta\, 8710 \, España;X-APPLE-RADIUS=100;X-TITLE=Municipio de Bre
 ña Alta:geo:28.65375,-17.805077
END:VEVENT
END:VCALENDARBEGIN:VCALENDAR
VERSION:2.0
PRODID:-//wp-events-plugin.com//7.2.3.1//EN
TZID:Europe/London
X-WR-TIMEZONE:Europe/London
BEGIN:VEVENT
UID:3357@larevistadelapalma.com
DTSTART;VALUE=DATE:20241102
DTEND;VALUE=DATE:20241118
DTSTAMP:20241031T171729Z
URL:https://www.larevistadelapalma.com/events/festival-de-cuentos-de-brena
 -alta/
SUMMARY:Festival de Cuentos de Breña Alta. CAMBIOS EN EL PROGRAMA
DESCRIPTION:*El evento previsto para el sábado\, 2 de noviembre\, enmarcad
 o dentro del Festival Cuentos Breña Alta\, (susurradores de cuentos) qued
 a aplazado en señal de respeto por las víctimas de la reciente catástro
 fe en la Comunidad Valenciana.\n\nCuentos\, poemas\, música\, sabores\, p
 aseos\,… Breña Alta te invita a descubrir la magia de la palabra narr
 ada por diferentes rincones del municipio.\n\nEste año habrá sesiones de
  cuentos para niños y adultos\, encuentro de lectores\, poemas para trans
 eúntes\, maratón de cuentos\, incluso una cata teatralizada en el Museo 
 del Puro.\nConsultar programa &gt\;&gt\;\n&nbsp\;
ATTACH;FMTTYPE=image/jpeg:https://www.larevistadelapalma.com/wp-content/up
 loads/2024/10/ilustracion_cuentos_lapalma_CARTEL_capas-893x1024-1.png
CATEGORIES:Cine y Literatura,Literatura
LOCATION:Municipio de Breña Alta\, Municipio de Breña Alta\, Breña Alta\
 , 8710 \, España
GEO:28.65375;-17.805077
X-APPLE-STRUCTURED-LOCATION;VALUE=URI;X-ADDRESS=Municipio de Breña Alta\, 
 Breña Alta\, 8710 \, España;X-APPLE-RADIUS=100;X-TITLE=Municipio de Bre
 ña Alta:geo:28.65375,-17.805077
END:VEVENT
END:VCALENDAR