BEGIN:VCALENDAR
VERSION:2.0
PRODID:-//wp-events-plugin.com//7.2.3.1//EN
TZID:Europe/London
X-WR-TIMEZONE:Europe/London
BEGIN:VEVENT
UID:2776@larevistadelapalma.com
DTSTART:20240210T160000Z
DTEND:20240210T225900Z
DTSTAMP:20240208T220805Z
URL:https://www.larevistadelapalma.com/events/festival-de-djs-la-palma-blu
 e-experience/
SUMMARY:Festival de Dj's "La Palma Blue Experience
DESCRIPTION:El Carnaval de Santa Cruz de La Palma tiene dos eventos prepara
 dos para el día 10\, que tendrán lugar en el recinto del Carnaval: el Fe
 stival de Dj's "La Palma Blue Experience" y una propuesta de LOS40 .\n\n"L
 a Palma Blue Experience"\, que dará comienzo desde las 17:00 horas\, cont
 ará con la presencia de: La Diabla\, La Pantera\, J. Beren y Dj Conjurer.
 \n\n&nbsp\;\nPROGRAMA\n\n\n\nJUEVES 8 FEBRERO:\n17:30 h. Gran Coso del Ca
 rnaval Escolar. Desde la Plaza de la Alameda\, seguirá por Anselmo Pérez
  de Brito\, Avenida El Puente y Avenida Marítima. Terminarán con una Fie
 sta Infantil en el Recinto Central del Carnaval con actuación de la Compa
 ñía KantyKomba.\nVIERNES 9 FEBRERO:\n10:00 h. Loca Carrera Solidaria\, 
 en la Plaza de La Alameda\, en favor de la asociación KALEN (Asociación 
 palmera por el trastorno del espectro autista)\n11:00 h. Festival de Murga
 s del Colegio Santo Domingo de Guzmán en la Plaza de España.\n14:00 h.
  Fiesta de la Peluca en el Recinto Central (Fran Ramos\, Renzzo ‘El Sel
 ector’\, Kilian Viera\, Atlantis Band\, Orquesta Tropicana’s\, Orquest
 a ACuatro\, Grupo Libertad\, Dj Equis y Juana La Cubana.)\n15:00 h. Concu
 rso de Coctelería en la Plaza dele Kiosco Eliseo (Avenida El Puente) orga
 nizado por la Asociación de empresarios Casco Histórico.\nSÁBADO 10 FEB
 RERO:\n11:30 h. Actividades infantiles en el Recinto del Carnaval.\n18:00 
 h. Fiesta del Carnaval. Recinto del Carnaval.\n\n\n 	\n\n 	\n\n 	Festiva
 l DJ "La Palma Blue Experience": La Diabla\, La Pantera\, J. Beren y Dj Co
 njurer. (Un evento perteneciente al Festival La Palma Blue Experience que 
 fue suspendido en diciembre)\n 	"Los 40 POP"- Ver más &gt\;\n 	Orquesta M
 aquinaria Band\, Dj. X.\n\n\n\n\n\n18:30 h. Desfile de Embajadores partien
 do desde la calle O'Daly hacia la Plaza de La Alameda. Al final del recorr
 ido actuación de las parrandas participantes.(Arturo Castillo e Ilusión 
 Gomera)\nDOMINGO 11 FEBRERO:\n11:00 h. Los Indianitos para introducir a lo
 s más pequeños en la tradición de la fiesta palmera. En el Recinto Cent
 ral.\n19:00 h. El Festival "Orillas del Son" celebra la música tradiciona
 l cubana con invitados especiales y actuaciones en vivo.  DJ Membé\, Son
  de Almizcle y Orillas del Son\, formación esta última a la que acompañ
 arán Iván Antonio\, “El sonero de Cuba”\, y Khadim Gueye.\nLUNES 12 
 FEBRERO:\nA partir de las 10:00h. Los Indianos&gt\;&gt\;\nMIÉRCOLES 13 FE
 BRERO:\n17:00 h. Hinchables y talleres infantiles en el Recinto Central\n1
 9:00 h. Pasacalles del grupo Dixeland\n19:00 h. Show de payasos en el Reci
 nto Central.\nJUEVES 15 FEBRERO:\n17:00 h. Actividades con hinchables y ta
 lleres en el Recinto Central.\n19:00 h. La magia del Carnaval\, con la act
 uación de los magos El Creador de Sueños y Malcom\, en el Recinto Centra
 l.\nVIERNES 16 FEBRERO:\n17:00 h. Fiesta del antifaz en el Centro de Día 
 (con la Orquesta Ritmo)\n19:00 h. Funeral de Doña Sardina desde la Plaza 
 de la Alameda\, concluyendo en el Recinto Central del Carnaval. Con las ac
 tuaciones del Grupo Asere\, Los Lolas\, Orquesta Tropicana y Dj’s\nSÁBA
 DO 17 DE FEBRERO:\n12:00h. Carnaval infantil\, con hinchables\, talleres y
  música. Recinto Central delCarnaval.\n18:00 h. Carnaval de Piñata\, con
  las actuaciones de Ni un pelo de tonto\, Parranda La Palma\, Orquesta Lib
 ertad\, Orquesta ACuatro y Dj’s.\n18:00 h. Concurso de Disfraces “Bint
 er”. Hasta las 20:00horas\, los participantes tendrán que pasar por el 
 photocall instalado junto al Recinto Central para hacerse una foto que les
  permitirá llevarse los premios establecidos en las bases. Categorías: I
 ndividual\, Parejas y Grupo (hasta 6 miembros)\nDOMINGO 18 DE FEBRERO:\n16
 :00 h. Piñata Infantil. Recinto Central del Carnaval. Con concurso de dis
 fraces (inscripciones una hora antes) y animación.\n18:30 h. Carnaval del
  Mayor con la actuación de Arturo Castillo\, Manolo “El Charro” y Dú
 o Libertad. Recinto Central del Carnaval.\n&nbsp\;
ATTACH;FMTTYPE=image/jpeg:https://www.larevistadelapalma.com/wp-content/up
 loads/2024/02/La-Palma-BLue-Experience.jpg
CATEGORIES:Festivales/Fiestas,Música
LOCATION:Municipio de Santa Cruz de La Palma\, Santa Cruz de La Palma \, Sa
 nta Cruz de La Palma \, 38700\, España
GEO:28.688757;-17.765102
X-APPLE-STRUCTURED-LOCATION;VALUE=URI;X-ADDRESS=Santa Cruz de La Palma \, S
 anta Cruz de La Palma \, 38700\, España;X-APPLE-RADIUS=100;X-TITLE=Munici
 pio de Santa Cruz de La Palma:geo:28.688757,-17.765102
END:VEVENT
END:VCALENDARBEGIN:VCALENDAR
VERSION:2.0
PRODID:-//wp-events-plugin.com//7.2.3.1//EN
TZID:Europe/London
X-WR-TIMEZONE:Europe/London
BEGIN:VEVENT
UID:2776@larevistadelapalma.com
DTSTART:20240210T160000Z
DTEND:20240210T225900Z
DTSTAMP:20240208T220805Z
URL:https://www.larevistadelapalma.com/events/festival-de-djs-la-palma-blu
 e-experience/
SUMMARY:Festival de Dj's "La Palma Blue Experience
DESCRIPTION:El Carnaval de Santa Cruz de La Palma tiene dos eventos prepara
 dos para el día 10\, que tendrán lugar en el recinto del Carnaval: el Fe
 stival de Dj's "La Palma Blue Experience" y una propuesta de LOS40 .\n\n"L
 a Palma Blue Experience"\, que dará comienzo desde las 17:00 horas\, cont
 ará con la presencia de: La Diabla\, La Pantera\, J. Beren y Dj Conjurer.
 \n\n&nbsp\;\nPROGRAMA\n\n\n\nJUEVES 8 FEBRERO:\n17:30 h. Gran Coso del Ca
 rnaval Escolar. Desde la Plaza de la Alameda\, seguirá por Anselmo Pérez
  de Brito\, Avenida El Puente y Avenida Marítima. Terminarán con una Fie
 sta Infantil en el Recinto Central del Carnaval con actuación de la Compa
 ñía KantyKomba.\nVIERNES 9 FEBRERO:\n10:00 h. Loca Carrera Solidaria\, 
 en la Plaza de La Alameda\, en favor de la asociación KALEN (Asociación 
 palmera por el trastorno del espectro autista)\n11:00 h. Festival de Murga
 s del Colegio Santo Domingo de Guzmán en la Plaza de España.\n14:00 h.
  Fiesta de la Peluca en el Recinto Central (Fran Ramos\, Renzzo ‘El Sel
 ector’\, Kilian Viera\, Atlantis Band\, Orquesta Tropicana’s\, Orquest
 a ACuatro\, Grupo Libertad\, Dj Equis y Juana La Cubana.)\n15:00 h. Concu
 rso de Coctelería en la Plaza dele Kiosco Eliseo (Avenida El Puente) orga
 nizado por la Asociación de empresarios Casco Histórico.\nSÁBADO 10 FEB
 RERO:\n11:30 h. Actividades infantiles en el Recinto del Carnaval.\n18:00 
 h. Fiesta del Carnaval. Recinto del Carnaval.\n\n\n 	\n\n 	\n\n 	Festiva
 l DJ "La Palma Blue Experience": La Diabla\, La Pantera\, J. Beren y Dj Co
 njurer. (Un evento perteneciente al Festival La Palma Blue Experience que 
 fue suspendido en diciembre)\n 	"Los 40 POP"- Ver más &gt\;\n 	Orquesta M
 aquinaria Band\, Dj. X.\n\n\n\n\n\n18:30 h. Desfile de Embajadores partien
 do desde la calle O'Daly hacia la Plaza de La Alameda. Al final del recorr
 ido actuación de las parrandas participantes.(Arturo Castillo e Ilusión 
 Gomera)\nDOMINGO 11 FEBRERO:\n11:00 h. Los Indianitos para introducir a lo
 s más pequeños en la tradición de la fiesta palmera. En el Recinto Cent
 ral.\n19:00 h. El Festival "Orillas del Son" celebra la música tradiciona
 l cubana con invitados especiales y actuaciones en vivo.  DJ Membé\, Son
  de Almizcle y Orillas del Son\, formación esta última a la que acompañ
 arán Iván Antonio\, “El sonero de Cuba”\, y Khadim Gueye.\nLUNES 12 
 FEBRERO:\nA partir de las 10:00h. Los Indianos&gt\;&gt\;\nMIÉRCOLES 13 FE
 BRERO:\n17:00 h. Hinchables y talleres infantiles en el Recinto Central\n1
 9:00 h. Pasacalles del grupo Dixeland\n19:00 h. Show de payasos en el Reci
 nto Central.\nJUEVES 15 FEBRERO:\n17:00 h. Actividades con hinchables y ta
 lleres en el Recinto Central.\n19:00 h. La magia del Carnaval\, con la act
 uación de los magos El Creador de Sueños y Malcom\, en el Recinto Centra
 l.\nVIERNES 16 FEBRERO:\n17:00 h. Fiesta del antifaz en el Centro de Día 
 (con la Orquesta Ritmo)\n19:00 h. Funeral de Doña Sardina desde la Plaza 
 de la Alameda\, concluyendo en el Recinto Central del Carnaval. Con las ac
 tuaciones del Grupo Asere\, Los Lolas\, Orquesta Tropicana y Dj’s\nSÁBA
 DO 17 DE FEBRERO:\n12:00h. Carnaval infantil\, con hinchables\, talleres y
  música. Recinto Central delCarnaval.\n18:00 h. Carnaval de Piñata\, con
  las actuaciones de Ni un pelo de tonto\, Parranda La Palma\, Orquesta Lib
 ertad\, Orquesta ACuatro y Dj’s.\n18:00 h. Concurso de Disfraces “Bint
 er”. Hasta las 20:00horas\, los participantes tendrán que pasar por el 
 photocall instalado junto al Recinto Central para hacerse una foto que les
  permitirá llevarse los premios establecidos en las bases. Categorías: I
 ndividual\, Parejas y Grupo (hasta 6 miembros)\nDOMINGO 18 DE FEBRERO:\n16
 :00 h. Piñata Infantil. Recinto Central del Carnaval. Con concurso de dis
 fraces (inscripciones una hora antes) y animación.\n18:30 h. Carnaval del
  Mayor con la actuación de Arturo Castillo\, Manolo “El Charro” y Dú
 o Libertad. Recinto Central del Carnaval.\n&nbsp\;
ATTACH;FMTTYPE=image/jpeg:https://www.larevistadelapalma.com/wp-content/up
 loads/2024/02/La-Palma-BLue-Experience.jpg
CATEGORIES:Festivales/Fiestas,Música
LOCATION:Municipio de Santa Cruz de La Palma\, Santa Cruz de La Palma \, Sa
 nta Cruz de La Palma \, 38700\, España
GEO:28.688757;-17.765102
X-APPLE-STRUCTURED-LOCATION;VALUE=URI;X-ADDRESS=Santa Cruz de La Palma \, S
 anta Cruz de La Palma \, 38700\, España;X-APPLE-RADIUS=100;X-TITLE=Munici
 pio de Santa Cruz de La Palma:geo:28.688757,-17.765102
END:VEVENT
END:VCALENDAR