BEGIN:VCALENDAR
VERSION:2.0
PRODID:-//wp-events-plugin.com//7.2.3.1//EN
TZID:Europe/London
X-WR-TIMEZONE:Europe/London
BEGIN:VEVENT
UID:3764@larevistadelapalma.com
DTSTART:20250528T170000Z
DTEND:20250528T183000Z
DTSTAMP:20250526T203154Z
URL:https://www.larevistadelapalma.com/events/festival-de-fin-de-curso-inf
 antil-de-la-escuela-de-teatro-pilar-rey/
SUMMARY:Festival de Fin de Curso Infantil de la Escuela de Teatro Pilar Rey
DESCRIPTION:\nLa Escuela Municipal de Teatro Pilar Rey presenta el día 28 
 de mayo a las 18:00 horas su "Festival de Fin de Curso Infantil".\n\n\n\nE
 ntrada Libre\, hasta completar aforo.\n\n
ATTACH;FMTTYPE=image/jpeg:https://www.larevistadelapalma.com/wp-content/up
 loads/2025/05/Festival-fin-de-curso-infantil-Escuela-Pilar-Rey.jpg
CATEGORIES:Espectáculos,Teatro
LOCATION:Teatro Circo de Marte\, Calle Virgen de La Luz\, 5\, Santa Cruz de
  La Palma\, 38700\, España
GEO:28.682989;-17.765755
X-APPLE-STRUCTURED-LOCATION;VALUE=URI;X-ADDRESS=Calle Virgen de La Luz\, 5\
 , Santa Cruz de La Palma\, 38700\, España;X-APPLE-RADIUS=100;X-TITLE=Teat
 ro Circo de Marte:geo:28.682989,-17.765755
END:VEVENT
END:VCALENDARBEGIN:VCALENDAR
VERSION:2.0
PRODID:-//wp-events-plugin.com//7.2.3.1//EN
TZID:Europe/London
X-WR-TIMEZONE:Europe/London
BEGIN:VEVENT
UID:3764@larevistadelapalma.com
DTSTART:20250528T170000Z
DTEND:20250528T183000Z
DTSTAMP:20250526T203154Z
URL:https://www.larevistadelapalma.com/events/festival-de-fin-de-curso-inf
 antil-de-la-escuela-de-teatro-pilar-rey/
SUMMARY:Festival de Fin de Curso Infantil de la Escuela de Teatro Pilar Rey
DESCRIPTION:\nLa Escuela Municipal de Teatro Pilar Rey presenta el día 28 
 de mayo a las 18:00 horas su "Festival de Fin de Curso Infantil".\n\n\n\nE
 ntrada Libre\, hasta completar aforo.\n\n
ATTACH;FMTTYPE=image/jpeg:https://www.larevistadelapalma.com/wp-content/up
 loads/2025/05/Festival-fin-de-curso-infantil-Escuela-Pilar-Rey.jpg
CATEGORIES:Espectáculos,Teatro
LOCATION:Teatro Circo de Marte\, Calle Virgen de La Luz\, 5\, Santa Cruz de
  La Palma\, 38700\, España
GEO:28.682989;-17.765755
X-APPLE-STRUCTURED-LOCATION;VALUE=URI;X-ADDRESS=Calle Virgen de La Luz\, 5\
 , Santa Cruz de La Palma\, 38700\, España;X-APPLE-RADIUS=100;X-TITLE=Teat
 ro Circo de Marte:geo:28.682989,-17.765755
END:VEVENT
END:VCALENDAR