BEGIN:VCALENDAR
VERSION:2.0
PRODID:-//wp-events-plugin.com//7.2.3.1//EN
TZID:Europe/London
X-WR-TIMEZONE:Europe/London
BEGIN:VEVENT
UID:3751@larevistadelapalma.com
DTSTART:20250524T160000Z
DTEND:20250524T183000Z
DTSTAMP:20250522T210747Z
URL:https://www.larevistadelapalma.com/events/festival-de-folclore-virgen-
 de-las-nieves/
SUMMARY:Festival de Folclore Virgen de las Nieves
DESCRIPTION:La cuarta edición del Festival de Folclore de Las Nieves\, reu
 nirá a nueve agrupaciones el próximo sábado\, 24 de mayo\, a las 17:00 
 horas\, en la plaza de Las Nieves.\n\nLa nueva edición contará con la pa
 rticipación del Colectivo Etnográfico Echentive\; la Agrupación Folcló
 rica Alfaguara\; Danzar de los Alisios\; el aula de clarinete de la Escuel
 a Insular de Música\; la Agrupación de Castañuelas Nuestra Señora de L
 as Nieves\; Agrupación de Castañuelas de Breña Alta\; Amigos de las Cas
 tañuelas y Baile del Pastor de Barlovento\; Pastorcitos y Pastorcitas de 
 Villa de Mazo\, y los Pitos y Flautas de la Villa de San Andrés.\n\nEl fe
 stival cuenta con la colaboración del Ayuntamiento de Santa Cruz de La Pa
 lma\, la parroquia de Las Nieves y la Escuela Insular de Música.
ATTACH;FMTTYPE=image/jpeg:https://www.larevistadelapalma.com/wp-content/up
 loads/2025/05/Festival-de-Folclore.jpg
CATEGORIES:Fiestas populares,Otras propuestas
LOCATION:Municipio de Santa Cruz de La Palma\, Santa Cruz de La Palma \, Sa
 nta Cruz de La Palma \, 38700\, España
GEO:28.688757;-17.765102
X-APPLE-STRUCTURED-LOCATION;VALUE=URI;X-ADDRESS=Santa Cruz de La Palma \, S
 anta Cruz de La Palma \, 38700\, España;X-APPLE-RADIUS=100;X-TITLE=Munici
 pio de Santa Cruz de La Palma:geo:28.688757,-17.765102
END:VEVENT
END:VCALENDARBEGIN:VCALENDAR
VERSION:2.0
PRODID:-//wp-events-plugin.com//7.2.3.1//EN
TZID:Europe/London
X-WR-TIMEZONE:Europe/London
BEGIN:VEVENT
UID:3751@larevistadelapalma.com
DTSTART:20250524T160000Z
DTEND:20250524T183000Z
DTSTAMP:20250522T210747Z
URL:https://www.larevistadelapalma.com/events/festival-de-folclore-virgen-
 de-las-nieves/
SUMMARY:Festival de Folclore Virgen de las Nieves
DESCRIPTION:La cuarta edición del Festival de Folclore de Las Nieves\, reu
 nirá a nueve agrupaciones el próximo sábado\, 24 de mayo\, a las 17:00 
 horas\, en la plaza de Las Nieves.\n\nLa nueva edición contará con la pa
 rticipación del Colectivo Etnográfico Echentive\; la Agrupación Folcló
 rica Alfaguara\; Danzar de los Alisios\; el aula de clarinete de la Escuel
 a Insular de Música\; la Agrupación de Castañuelas Nuestra Señora de L
 as Nieves\; Agrupación de Castañuelas de Breña Alta\; Amigos de las Cas
 tañuelas y Baile del Pastor de Barlovento\; Pastorcitos y Pastorcitas de 
 Villa de Mazo\, y los Pitos y Flautas de la Villa de San Andrés.\n\nEl fe
 stival cuenta con la colaboración del Ayuntamiento de Santa Cruz de La Pa
 lma\, la parroquia de Las Nieves y la Escuela Insular de Música.
ATTACH;FMTTYPE=image/jpeg:https://www.larevistadelapalma.com/wp-content/up
 loads/2025/05/Festival-de-Folclore.jpg
CATEGORIES:Fiestas populares,Otras propuestas
LOCATION:Municipio de Santa Cruz de La Palma\, Santa Cruz de La Palma \, Sa
 nta Cruz de La Palma \, 38700\, España
GEO:28.688757;-17.765102
X-APPLE-STRUCTURED-LOCATION;VALUE=URI;X-ADDRESS=Santa Cruz de La Palma \, S
 anta Cruz de La Palma \, 38700\, España;X-APPLE-RADIUS=100;X-TITLE=Munici
 pio de Santa Cruz de La Palma:geo:28.688757,-17.765102
END:VEVENT
END:VCALENDAR