BEGIN:VCALENDAR
VERSION:2.0
PRODID:-//wp-events-plugin.com//7.2.3.1//EN
TZID:Europe/London
X-WR-TIMEZONE:Europe/London
BEGIN:VEVENT
UID:3846@larevistadelapalma.com
DTSTART:20250630T193000Z
DTEND:20250630T210000Z
DTSTAMP:20250626T143300Z
URL:https://www.larevistadelapalma.com/events/festival-de-habaneras-y-musi
 cas-del-mar/
SUMMARY:Festival de Habaneras y Músicas del Mar
DESCRIPTION:El Organismo Autónomo Local de la Bajada de la Virgen 2025 cel
 ebrará el próximo 30 de junio\, con la colaboración del Club de Vela La
 tina Benahoare y el Cabildo Insular\, la VII edición del Festival de Haba
 neras y Música del Mar.\n\nSe basará en un programa musical que rinde ho
 menaje al pasado marinero de la capital palmera y de la Isla a través de 
 diferentes actuaciones musicales a ritmo de habaneras\, boleros y cancione
 s tradicionales\, en las que participarán las agrupaciones Tajadre\, Los 
 Arrieros y la rondalla Renacer\, junto con la Escuela Municipal de Danza M
 aika Lerín\, de Santa Cruz de La Palma.
ATTACH;FMTTYPE=image/jpeg:https://www.larevistadelapalma.com/wp-content/up
 loads/2025/06/Festival-de-Habaneras-y-Musicas-del-Mar.jpg
CATEGORIES:Festivales/Fiestas,Música
LOCATION:Municipio de Santa Cruz de La Palma\, Santa Cruz de La Palma \, Sa
 nta Cruz de La Palma \, 38700\, España
GEO:28.688757;-17.765102
X-APPLE-STRUCTURED-LOCATION;VALUE=URI;X-ADDRESS=Santa Cruz de La Palma \, S
 anta Cruz de La Palma \, 38700\, España;X-APPLE-RADIUS=100;X-TITLE=Munici
 pio de Santa Cruz de La Palma:geo:28.688757,-17.765102
END:VEVENT
END:VCALENDARBEGIN:VCALENDAR
VERSION:2.0
PRODID:-//wp-events-plugin.com//7.2.3.1//EN
TZID:Europe/London
X-WR-TIMEZONE:Europe/London
BEGIN:VEVENT
UID:3846@larevistadelapalma.com
DTSTART:20250630T193000Z
DTEND:20250630T210000Z
DTSTAMP:20250626T143300Z
URL:https://www.larevistadelapalma.com/events/festival-de-habaneras-y-musi
 cas-del-mar/
SUMMARY:Festival de Habaneras y Músicas del Mar
DESCRIPTION:El Organismo Autónomo Local de la Bajada de la Virgen 2025 cel
 ebrará el próximo 30 de junio\, con la colaboración del Club de Vela La
 tina Benahoare y el Cabildo Insular\, la VII edición del Festival de Haba
 neras y Música del Mar.\n\nSe basará en un programa musical que rinde ho
 menaje al pasado marinero de la capital palmera y de la Isla a través de 
 diferentes actuaciones musicales a ritmo de habaneras\, boleros y cancione
 s tradicionales\, en las que participarán las agrupaciones Tajadre\, Los 
 Arrieros y la rondalla Renacer\, junto con la Escuela Municipal de Danza M
 aika Lerín\, de Santa Cruz de La Palma.
ATTACH;FMTTYPE=image/jpeg:https://www.larevistadelapalma.com/wp-content/up
 loads/2025/06/Festival-de-Habaneras-y-Musicas-del-Mar.jpg
CATEGORIES:Festivales/Fiestas,Música
LOCATION:Municipio de Santa Cruz de La Palma\, Santa Cruz de La Palma \, Sa
 nta Cruz de La Palma \, 38700\, España
GEO:28.688757;-17.765102
X-APPLE-STRUCTURED-LOCATION;VALUE=URI;X-ADDRESS=Santa Cruz de La Palma \, S
 anta Cruz de La Palma \, 38700\, España;X-APPLE-RADIUS=100;X-TITLE=Munici
 pio de Santa Cruz de La Palma:geo:28.688757,-17.765102
END:VEVENT
END:VCALENDAR