BEGIN:VCALENDAR
VERSION:2.0
PRODID:-//wp-events-plugin.com//7.2.3.1//EN
TZID:Europe/London
X-WR-TIMEZONE:Europe/London
BEGIN:VEVENT
UID:4128@larevistadelapalma.com
DTSTART:20251220T200000Z
DTEND:20251220T213000Z
DTSTAMP:20251217T213900Z
URL:https://www.larevistadelapalma.com/events/festival-de-humor-con-abubuk
 aka-en-barlovento/
SUMMARY:Festival de Humor con Abubukaka\, en Barlovento
DESCRIPTION:\nEl humor de Abubukaka se viene a La Palma el póximo sábado
  en un showr presentado por Ayoze Pérez.\n\n\n\nA las 21:00 horas en el r
 ecinto del Drago.\n\n
ATTACH;FMTTYPE=image/jpeg:https://www.larevistadelapalma.com/wp-content/up
 loads/2025/12/Festival-del-humor-barlovento.jpg
CATEGORIES:Espectáculos
LOCATION:Municipio de Barlovento\, Barlovento\, Barlovento\, 38726\, Españ
 a
GEO:28.834132;-17.805077
X-APPLE-STRUCTURED-LOCATION;VALUE=URI;X-ADDRESS=Barlovento\, Barlovento\, 3
 8726\, España;X-APPLE-RADIUS=100;X-TITLE=Municipio de Barlovento:geo:28.8
 34132,-17.805077
END:VEVENT
END:VCALENDARBEGIN:VCALENDAR
VERSION:2.0
PRODID:-//wp-events-plugin.com//7.2.3.1//EN
TZID:Europe/London
X-WR-TIMEZONE:Europe/London
BEGIN:VEVENT
UID:4128@larevistadelapalma.com
DTSTART:20251220T200000Z
DTEND:20251220T213000Z
DTSTAMP:20251217T213900Z
URL:https://www.larevistadelapalma.com/events/festival-de-humor-con-abubuk
 aka-en-barlovento/
SUMMARY:Festival de Humor con Abubukaka\, en Barlovento
DESCRIPTION:\nEl humor de Abubukaka se viene a La Palma el póximo sábado
  en un showr presentado por Ayoze Pérez.\n\n\n\nA las 21:00 horas en el r
 ecinto del Drago.\n\n
ATTACH;FMTTYPE=image/jpeg:https://www.larevistadelapalma.com/wp-content/up
 loads/2025/12/Festival-del-humor-barlovento.jpg
CATEGORIES:Espectáculos
LOCATION:Municipio de Barlovento\, Barlovento\, Barlovento\, 38726\, Españ
 a
GEO:28.834132;-17.805077
X-APPLE-STRUCTURED-LOCATION;VALUE=URI;X-ADDRESS=Barlovento\, Barlovento\, 3
 8726\, España;X-APPLE-RADIUS=100;X-TITLE=Municipio de Barlovento:geo:28.8
 34132,-17.805077
END:VEVENT
END:VCALENDAR