BEGIN:VCALENDAR
VERSION:2.0
PRODID:-//wp-events-plugin.com//7.2.3.1//EN
TZID:Europe/London
X-WR-TIMEZONE:Europe/London
BEGIN:VEVENT
UID:4016@larevistadelapalma.com
DTSTART;VALUE=DATE:20251024
DTEND;VALUE=DATE:20251027
DTSTAMP:20251013T214405Z
URL:https://www.larevistadelapalma.com/events/festival-de-ilustracion-bolb
 oreta/
SUMMARY:Festival de Ilustración "Bolboreta"
DESCRIPTION:\nSerán tres días diferentes del viernes 24 al domingo 26 de 
 octubre con un programa especial de actividades.\n\n\n"Hoy más que nunca 
 necesitamos de la belleza\, siendo imprescindible dedicarle tiempo a todo 
 aquello que nos toque el alma\, el corazón. Un álbum ilustrado es la com
 binación perfecta de literatura y arte. El medio para descubrir y descubr
 irnos\, para situarnos en el mundo\, incluso en la noche más oscura en un
  cielo sin estrellas".\n\n\n\nJosé Tabares. Director de Bolboreta. Festiv
 al de Ilustración de Los Llanos de Aridane.\nMás info &gt\; Cultura Los 
 Llanos \n\n\n\n\n
ATTACH;FMTTYPE=image/jpeg:https://www.larevistadelapalma.com/wp-content/up
 loads/2025/10/Bolboreta.jpg
CATEGORIES:Otras propuestas,Varios
LOCATION:Municipio de Los Llanos de Aridane\, Los Llanos de Aridane\, Los L
 lanos de Aridane\, 38760\, España
GEO:28.660236;-17.913187
X-APPLE-STRUCTURED-LOCATION;VALUE=URI;X-ADDRESS=Los Llanos de Aridane\, Los
  Llanos de Aridane\, 38760\, España;X-APPLE-RADIUS=100;X-TITLE=Municipio 
 de Los Llanos de Aridane:geo:28.660236,-17.913187
END:VEVENT
END:VCALENDARBEGIN:VCALENDAR
VERSION:2.0
PRODID:-//wp-events-plugin.com//7.2.3.1//EN
TZID:Europe/London
X-WR-TIMEZONE:Europe/London
BEGIN:VEVENT
UID:4016@larevistadelapalma.com
DTSTART;VALUE=DATE:20251024
DTEND;VALUE=DATE:20251027
DTSTAMP:20251013T214405Z
URL:https://www.larevistadelapalma.com/events/festival-de-ilustracion-bolb
 oreta/
SUMMARY:Festival de Ilustración "Bolboreta"
DESCRIPTION:\nSerán tres días diferentes del viernes 24 al domingo 26 de 
 octubre con un programa especial de actividades.\n\n\n"Hoy más que nunca 
 necesitamos de la belleza\, siendo imprescindible dedicarle tiempo a todo 
 aquello que nos toque el alma\, el corazón. Un álbum ilustrado es la com
 binación perfecta de literatura y arte. El medio para descubrir y descubr
 irnos\, para situarnos en el mundo\, incluso en la noche más oscura en un
  cielo sin estrellas".\n\n\n\nJosé Tabares. Director de Bolboreta. Festiv
 al de Ilustración de Los Llanos de Aridane.\nMás info &gt\; Cultura Los 
 Llanos \n\n\n\n\n
ATTACH;FMTTYPE=image/jpeg:https://www.larevistadelapalma.com/wp-content/up
 loads/2025/10/Bolboreta.jpg
CATEGORIES:Otras propuestas,Varios
LOCATION:Municipio de Los Llanos de Aridane\, Los Llanos de Aridane\, Los L
 lanos de Aridane\, 38760\, España
GEO:28.660236;-17.913187
X-APPLE-STRUCTURED-LOCATION;VALUE=URI;X-ADDRESS=Los Llanos de Aridane\, Los
  Llanos de Aridane\, 38760\, España;X-APPLE-RADIUS=100;X-TITLE=Municipio 
 de Los Llanos de Aridane:geo:28.660236,-17.913187
END:VEVENT
END:VCALENDAR