BEGIN:VCALENDAR
VERSION:2.0
PRODID:-//wp-events-plugin.com//7.2.3.1//EN
TZID:Europe/London
X-WR-TIMEZONE:Europe/London
BEGIN:VEVENT
UID:3392@larevistadelapalma.com
DTSTART:20241114T200000Z
DTEND:20241114T213000Z
DTSTAMP:20241112T210744Z
URL:https://www.larevistadelapalma.com/events/festival-de-la-sonrisa-petit
 e-lorena/
SUMMARY:‘Festival de la Sonrisa’: Petite Lorena
DESCRIPTION:El Ayuntamiento de Santa Cruz de La Palma celebra una nueva ses
 ión del ciclo de humor ‘Festival de la Sonrisa’.\n\nLa palmera Petite
  Lorena será la responsable de amenizar la noche capitalina en la plaza d
 e San Francisco\, en un espectáculo gratuito que dará comienzo a las 21:
 00 horas y que contará también con el maestro de ceremonias\, Ayoze Pér
 ez\, quien ha venido acompañando al público asistente desde la primera c
 ita con el cómico Darío López.\n\nTras más de 20 años sobre los escen
 arios\, Petite Lorena se encuentra en un momento profesional de constante 
 crecimiento. Desde 2019 cuenta con su propia sección “En Petite Comité
 ” en el programa líder de audiencia de Televisión Canaria “En otra C
 lave” y durante todo este tiempo su carrera se ha visibilizado en otras 
 plataformas de comunicación y espectáculos por todo el archipiélago.\n\
 nSu desparpajo a la hora de narrar anécdotas y curiosidades del día a d
 ía con su descaro en la escena le han conferido el título cariñoso “D
 iva de Medianías”\, bautizada con este simpático calificativo desde Ca
 narias Radio. Sus historias combinan el contexto actual con las vivencias 
 y costumbres de antaño\, donde las mujeres cobran un gran protagonismo.\n
 \nEste evento organizado por el área de Fiestas del Ayuntamiento de Santa
  Cruz de La Palma cuenta con la producción de Búho Club La Laguna.
ATTACH;FMTTYPE=image/jpeg:https://www.larevistadelapalma.com/wp-content/up
 loads/2024/11/Festival-la-sonrisa-Petite.jpg
CATEGORIES:Espectáculos
LOCATION:Plaza de San Francisco\, Plaza de San Francisco \, Santa Cruz De L
 a Palma\, Santa Cruz de Tenerife\, 38700\, España
GEO:28.683698;-17.767894
X-APPLE-STRUCTURED-LOCATION;VALUE=URI;X-ADDRESS=Plaza de San Francisco \, S
 anta Cruz De La Palma\, Santa Cruz de Tenerife\, 38700\, España;X-APPLE-R
 ADIUS=100;X-TITLE=Plaza de San Francisco:geo:28.683698,-17.767894
END:VEVENT
END:VCALENDARBEGIN:VCALENDAR
VERSION:2.0
PRODID:-//wp-events-plugin.com//7.2.3.1//EN
TZID:Europe/London
X-WR-TIMEZONE:Europe/London
BEGIN:VEVENT
UID:3392@larevistadelapalma.com
DTSTART:20241114T200000Z
DTEND:20241114T213000Z
DTSTAMP:20241112T210744Z
URL:https://www.larevistadelapalma.com/events/festival-de-la-sonrisa-petit
 e-lorena/
SUMMARY:‘Festival de la Sonrisa’: Petite Lorena
DESCRIPTION:El Ayuntamiento de Santa Cruz de La Palma celebra una nueva ses
 ión del ciclo de humor ‘Festival de la Sonrisa’.\n\nLa palmera Petite
  Lorena será la responsable de amenizar la noche capitalina en la plaza d
 e San Francisco\, en un espectáculo gratuito que dará comienzo a las 21:
 00 horas y que contará también con el maestro de ceremonias\, Ayoze Pér
 ez\, quien ha venido acompañando al público asistente desde la primera c
 ita con el cómico Darío López.\n\nTras más de 20 años sobre los escen
 arios\, Petite Lorena se encuentra en un momento profesional de constante 
 crecimiento. Desde 2019 cuenta con su propia sección “En Petite Comité
 ” en el programa líder de audiencia de Televisión Canaria “En otra C
 lave” y durante todo este tiempo su carrera se ha visibilizado en otras 
 plataformas de comunicación y espectáculos por todo el archipiélago.\n\
 nSu desparpajo a la hora de narrar anécdotas y curiosidades del día a d
 ía con su descaro en la escena le han conferido el título cariñoso “D
 iva de Medianías”\, bautizada con este simpático calificativo desde Ca
 narias Radio. Sus historias combinan el contexto actual con las vivencias 
 y costumbres de antaño\, donde las mujeres cobran un gran protagonismo.\n
 \nEste evento organizado por el área de Fiestas del Ayuntamiento de Santa
  Cruz de La Palma cuenta con la producción de Búho Club La Laguna.
ATTACH;FMTTYPE=image/jpeg:https://www.larevistadelapalma.com/wp-content/up
 loads/2024/11/Festival-la-sonrisa-Petite.jpg
CATEGORIES:Espectáculos
LOCATION:Plaza de San Francisco\, Plaza de San Francisco \, Santa Cruz De L
 a Palma\, Santa Cruz de Tenerife\, 38700\, España
GEO:28.683698;-17.767894
X-APPLE-STRUCTURED-LOCATION;VALUE=URI;X-ADDRESS=Plaza de San Francisco \, S
 anta Cruz De La Palma\, Santa Cruz de Tenerife\, 38700\, España;X-APPLE-R
 ADIUS=100;X-TITLE=Plaza de San Francisco:geo:28.683698,-17.767894
END:VEVENT
END:VCALENDAR