BEGIN:VCALENDAR
VERSION:2.0
PRODID:-//wp-events-plugin.com//7.2.3.1//EN
TZID:Europe/London
X-WR-TIMEZONE:Europe/London
BEGIN:VEVENT
UID:594@larevistadelapalma.com
DTSTART:20230810T193000Z
DTEND:20230810T224500Z
DTSTAMP:20230808T155506Z
URL:https://www.larevistadelapalma.com/events/festival-de-los-70s-en-barlo
 vento/
SUMMARY:Festival de los 70's en Barlovento con La Década Prodigiosa
DESCRIPTION:Festival de los 70's con el grupo invitado La Década Prodigios
 a\, que actuará junto a los grupos locales Galaxia y Guateque.
ATTACH;FMTTYPE=image/jpeg:https://www.larevistadelapalma.com/wp-content/up
 loads/2023/08/Fstival-anos-70-Barlovento.jpg
CATEGORIES:Festivales/Fiestas,Música
LOCATION:Plaza del Rosario en Barlovento\, Plaza Nuestra Señora del Rosari
 o \, Barlovento\, 38726\, España
GEO:28.829752;-17.803339
X-APPLE-STRUCTURED-LOCATION;VALUE=URI;X-ADDRESS=Plaza Nuestra Señora del R
 osario \, Barlovento\, 38726\, España;X-APPLE-RADIUS=100;X-TITLE=Plaza de
 l Rosario en Barlovento:geo:28.829752,-17.803339
END:VEVENT
END:VCALENDARBEGIN:VCALENDAR
VERSION:2.0
PRODID:-//wp-events-plugin.com//7.2.3.1//EN
TZID:Europe/London
X-WR-TIMEZONE:Europe/London
BEGIN:VEVENT
UID:594@larevistadelapalma.com
DTSTART:20230810T193000Z
DTEND:20230810T224500Z
DTSTAMP:20230808T155506Z
URL:https://www.larevistadelapalma.com/events/festival-de-los-70s-en-barlo
 vento/
SUMMARY:Festival de los 70's en Barlovento con La Década Prodigiosa
DESCRIPTION:Festival de los 70's con el grupo invitado La Década Prodigios
 a\, que actuará junto a los grupos locales Galaxia y Guateque.
ATTACH;FMTTYPE=image/jpeg:https://www.larevistadelapalma.com/wp-content/up
 loads/2023/08/Fstival-anos-70-Barlovento.jpg
CATEGORIES:Festivales/Fiestas,Música
LOCATION:Plaza del Rosario en Barlovento\, Plaza Nuestra Señora del Rosari
 o \, Barlovento\, 38726\, España
GEO:28.829752;-17.803339
X-APPLE-STRUCTURED-LOCATION;VALUE=URI;X-ADDRESS=Plaza Nuestra Señora del R
 osario \, Barlovento\, 38726\, España;X-APPLE-RADIUS=100;X-TITLE=Plaza de
 l Rosario en Barlovento:geo:28.829752,-17.803339
END:VEVENT
END:VCALENDAR