BEGIN:VCALENDAR
VERSION:2.0
PRODID:-//wp-events-plugin.com//7.2.3.1//EN
TZID:Europe/London
X-WR-TIMEZONE:Europe/London
BEGIN:VEVENT
UID:3773@larevistadelapalma.com
DTSTART:20250708T203000Z
DTEND:20250708T220000Z
DTSTAMP:20250708T120117Z
URL:https://www.larevistadelapalma.com/events/festival-del-siglo-xviii-min
 ue/
SUMMARY:Festival del Siglo XVIII 2025 (Minué)
DESCRIPTION:El Festival del Siglo XVIII\, representado cada cinco años en 
 el marco celebrador de la Bajada de la Virgen\, constituye una danza de es
 tética versallesca e inspirada en los bailes de salón tan boga durante e
 l periodo del Barroco en La Palma.\n\nEn esta edición se pondrá en escen
 a la obra «Minué de los Aires en Re» (1980)\, de Luis Cobiella Cuevas (
 Santa Cruz de La Palma\, 1925-2013)\, compuesta para orquesta\, coro mixto
 \, coro infantil y solistas soprano\, contralto\, tenory barítono.\n\nA l
 o largo de sus ochenta años de historia (con ausencia en el programa en 1
 960 y en 1970)\, la interpretación dancística ha corrido a cargo de jóv
 enes aficionados.\n\nDos sesiones: a las 21:30 horas (quedan pocas entrada
 s) y a las 23:30 horas.\nComprar entradas &gt\;&gt\;\n\n\n\nPuesta en esce
 na del Minué de los Aires en Re (1980)\, del compositor\, escritor y ensa
 yista Luis Cobiella Cuevas (Santa Cruz de La Palma\,1925-2013)\, Premio Ca
 narias de Bellas Artes\, bajo\nla dirección coreográfica de Manuela Álv
 arez Pérez y Claudia Perdomo Martín\, con la colaboración de Ana Rodrí
 guez Ramón\, y dirección artística de Juan Carlos Martín Pérez. Inter
 vienen: la Orquesta Sinfónica Isla de La Palma (OSILP) y Coros de la Baja
 da de la Virgen\, bajo la dirección de José Antonio Cubas Delgado (direc
 tor del Coro Adulto\, Fernando Felipe Martel\; directora del Coro Infantil
  y Juvenil de la Escuela Insular de Música de La Palma\, Milagros Martín
  Álvarez). Voces solistas: Rosina Herrera Sicilia (soprano)\, Cecilia Gut
 iérrez Peña (mezzosoprano)\, Joniker Brito Hernández (tenor) y Eduardo 
 Luis Felipe (barítono).\n\n\n\n\n\n\nAntes de las funciones\, habrá un d
 esfile de Milicias por las calles\, donde algunas parejas esperan en los b
 alcones de la ciudad la hora del baile. (Será a partir de las 18:00 horas
  en las calles Anselmo Pérez de Brito y O'Daly)\n\n 
ATTACH;FMTTYPE=image/jpeg:https://www.larevistadelapalma.com/wp-content/up
 loads/2025/06/Minue-La-Revista-de-La-Palma-2015-2.jpg
CATEGORIES:Danza,Espectáculos
LOCATION:Municipio de Santa Cruz de La Palma\, Santa Cruz de La Palma \, Sa
 nta Cruz de La Palma \, 38700\, España
GEO:28.688757;-17.765102
X-APPLE-STRUCTURED-LOCATION;VALUE=URI;X-ADDRESS=Santa Cruz de La Palma \, S
 anta Cruz de La Palma \, 38700\, España;X-APPLE-RADIUS=100;X-TITLE=Munici
 pio de Santa Cruz de La Palma:geo:28.688757,-17.765102
END:VEVENT
END:VCALENDARBEGIN:VCALENDAR
VERSION:2.0
PRODID:-//wp-events-plugin.com//7.2.3.1//EN
TZID:Europe/London
X-WR-TIMEZONE:Europe/London
BEGIN:VEVENT
UID:3773@larevistadelapalma.com
DTSTART:20250708T203000Z
DTEND:20250708T220000Z
DTSTAMP:20250708T120117Z
URL:https://www.larevistadelapalma.com/events/festival-del-siglo-xviii-min
 ue/
SUMMARY:Festival del Siglo XVIII 2025 (Minué)
DESCRIPTION:El Festival del Siglo XVIII\, representado cada cinco años en 
 el marco celebrador de la Bajada de la Virgen\, constituye una danza de es
 tética versallesca e inspirada en los bailes de salón tan boga durante e
 l periodo del Barroco en La Palma.\n\nEn esta edición se pondrá en escen
 a la obra «Minué de los Aires en Re» (1980)\, de Luis Cobiella Cuevas (
 Santa Cruz de La Palma\, 1925-2013)\, compuesta para orquesta\, coro mixto
 \, coro infantil y solistas soprano\, contralto\, tenory barítono.\n\nA l
 o largo de sus ochenta años de historia (con ausencia en el programa en 1
 960 y en 1970)\, la interpretación dancística ha corrido a cargo de jóv
 enes aficionados.\n\nDos sesiones: a las 21:30 horas (quedan pocas entrada
 s) y a las 23:30 horas.\nComprar entradas &gt\;&gt\;\n\n\n\nPuesta en esce
 na del Minué de los Aires en Re (1980)\, del compositor\, escritor y ensa
 yista Luis Cobiella Cuevas (Santa Cruz de La Palma\,1925-2013)\, Premio Ca
 narias de Bellas Artes\, bajo\nla dirección coreográfica de Manuela Álv
 arez Pérez y Claudia Perdomo Martín\, con la colaboración de Ana Rodrí
 guez Ramón\, y dirección artística de Juan Carlos Martín Pérez. Inter
 vienen: la Orquesta Sinfónica Isla de La Palma (OSILP) y Coros de la Baja
 da de la Virgen\, bajo la dirección de José Antonio Cubas Delgado (direc
 tor del Coro Adulto\, Fernando Felipe Martel\; directora del Coro Infantil
  y Juvenil de la Escuela Insular de Música de La Palma\, Milagros Martín
  Álvarez). Voces solistas: Rosina Herrera Sicilia (soprano)\, Cecilia Gut
 iérrez Peña (mezzosoprano)\, Joniker Brito Hernández (tenor) y Eduardo 
 Luis Felipe (barítono).\n\n\n\n\n\n\nAntes de las funciones\, habrá un d
 esfile de Milicias por las calles\, donde algunas parejas esperan en los b
 alcones de la ciudad la hora del baile. (Será a partir de las 18:00 horas
  en las calles Anselmo Pérez de Brito y O'Daly)\n\n 
ATTACH;FMTTYPE=image/jpeg:https://www.larevistadelapalma.com/wp-content/up
 loads/2025/06/Minue-La-Revista-de-La-Palma-2015-2.jpg
CATEGORIES:Danza,Espectáculos
LOCATION:Municipio de Santa Cruz de La Palma\, Santa Cruz de La Palma \, Sa
 nta Cruz de La Palma \, 38700\, España
GEO:28.688757;-17.765102
X-APPLE-STRUCTURED-LOCATION;VALUE=URI;X-ADDRESS=Santa Cruz de La Palma \, S
 anta Cruz de La Palma \, 38700\, España;X-APPLE-RADIUS=100;X-TITLE=Munici
 pio de Santa Cruz de La Palma:geo:28.688757,-17.765102
END:VEVENT
END:VCALENDAR