BEGIN:VCALENDAR
VERSION:2.0
PRODID:-//wp-events-plugin.com//7.2.3.1//EN
TZID:Europe/London
X-WR-TIMEZONE:Europe/London
BEGIN:VEVENT
UID:180@larevistadelapalma.com
DTSTART:20230804T200000Z
DTEND:20230804T225900Z
DTSTAMP:20230802T194323Z
URL:https://www.larevistadelapalma.com/events/festival-fin-de-fiesta-del-d
 ia-del-corsario/
SUMMARY:Festival fin de fiesta del Día del Corsario
DESCRIPTION:Colofón musical para la celebración de la recreación histór
 ica del Día del Corsario 2023 con la música de Escuela de Calor\, Los St
 ereos y Juana La Cubana. 
ATTACH;FMTTYPE=image/jpeg:https://www.larevistadelapalma.com/wp-content/up
 loads/2023/07/Festival-Dia-del-Corsario-23.jpg
CATEGORIES:Festivales/Fiestas,Música
LOCATION:Trasera del Cabildo Insular de La Palma\, C. Álvarez de Abreu\, 7
 7\, Santa Cruz De La Palma\, 38700\, España
GEO:28.681457;-17.765928
X-APPLE-STRUCTURED-LOCATION;VALUE=URI;X-ADDRESS=C. Álvarez de Abreu\, 77\,
  Santa Cruz De La Palma\, 38700\, España;X-APPLE-RADIUS=100;X-TITLE=Trase
 ra del Cabildo Insular de La Palma:geo:28.681457,-17.765928
END:VEVENT
END:VCALENDARBEGIN:VCALENDAR
VERSION:2.0
PRODID:-//wp-events-plugin.com//7.2.3.1//EN
TZID:Europe/London
X-WR-TIMEZONE:Europe/London
BEGIN:VEVENT
UID:180@larevistadelapalma.com
DTSTART:20230804T200000Z
DTEND:20230804T225900Z
DTSTAMP:20230802T194323Z
URL:https://www.larevistadelapalma.com/events/festival-fin-de-fiesta-del-d
 ia-del-corsario/
SUMMARY:Festival fin de fiesta del Día del Corsario
DESCRIPTION:Colofón musical para la celebración de la recreación histór
 ica del Día del Corsario 2023 con la música de Escuela de Calor\, Los St
 ereos y Juana La Cubana. 
ATTACH;FMTTYPE=image/jpeg:https://www.larevistadelapalma.com/wp-content/up
 loads/2023/07/Festival-Dia-del-Corsario-23.jpg
CATEGORIES:Festivales/Fiestas,Música
LOCATION:Trasera del Cabildo Insular de La Palma\, C. Álvarez de Abreu\, 7
 7\, Santa Cruz De La Palma\, 38700\, España
GEO:28.681457;-17.765928
X-APPLE-STRUCTURED-LOCATION;VALUE=URI;X-ADDRESS=C. Álvarez de Abreu\, 77\,
  Santa Cruz De La Palma\, 38700\, España;X-APPLE-RADIUS=100;X-TITLE=Trase
 ra del Cabildo Insular de La Palma:geo:28.681457,-17.765928
END:VEVENT
END:VCALENDAR