BEGIN:VCALENDAR
VERSION:2.0
PRODID:-//wp-events-plugin.com//7.2.3.1//EN
TZID:Europe/London
X-WR-TIMEZONE:Europe/London
BEGIN:VEVENT
UID:3878@larevistadelapalma.com
DTSTART:20250716T180000Z
DTEND:20250716T210000Z
DTSTAMP:20250716T171358Z
URL:https://www.larevistadelapalma.com/events/festival-folclorico-insular-
 de-la-bajada-de-la-virgen-2025/
SUMMARY:Festival Folclórico Insular de la Bajada de la Virgen 2025
DESCRIPTION:\nLa música y la danza palmeras protagonizan el Festival Folcl
 órico Insular de la Bajada de la Virgen 2025.\nEl recinto central de las 
 Fiestas Lustrales de Santa Cruz de La Palma acoge este miércoles 16 de ju
 lio\, a partir de las 19:00 horas\, el Festival Folclórico Insular\, una 
 celebración del legado musical de La Palma que reunirá sobre el escenari
 o a ocho agrupaciones de diferentes municipios de la isla.\n\n\n\nCon la p
 articipación de:\n\n\n 	Agrupación Folclórica y Cuerpo de Baile Tabladi
 tos (Barlovento)\n 	Escuela de Folclore Bediesta (San Andrés y Sauces).\n
  	Agrupación Folclórica Volcán de San Juan (El Paso).\n 	Cuerpo de Bail
 e Danzar de los Alisios (Puntallana).\n 	Agrupación Folclórica Echentive
  (Fuencaliente).\n 	Agrupación Folclórica Alfaguara (Breña Baja).\n 	Ag
 rupación Folclórica Aduares (Breña Alta).\n 	Coros y Danzas Nambroque (
 Santa Cruz de La Palma).\n\n&nbsp\;\n\n
ATTACH;FMTTYPE=image/jpeg:https://www.larevistadelapalma.com/wp-content/up
 loads/2025/07/Festival-folclorico.jpg
CATEGORIES:Espectáculos,Fiestas populares,Otras propuestas,Varios
LOCATION:Municipio de Santa Cruz de La Palma\, Santa Cruz de La Palma \, Sa
 nta Cruz de La Palma \, 38700\, España
GEO:28.688757;-17.765102
X-APPLE-STRUCTURED-LOCATION;VALUE=URI;X-ADDRESS=Santa Cruz de La Palma \, S
 anta Cruz de La Palma \, 38700\, España;X-APPLE-RADIUS=100;X-TITLE=Munici
 pio de Santa Cruz de La Palma:geo:28.688757,-17.765102
END:VEVENT
END:VCALENDARBEGIN:VCALENDAR
VERSION:2.0
PRODID:-//wp-events-plugin.com//7.2.3.1//EN
TZID:Europe/London
X-WR-TIMEZONE:Europe/London
BEGIN:VEVENT
UID:3878@larevistadelapalma.com
DTSTART:20250716T180000Z
DTEND:20250716T210000Z
DTSTAMP:20250716T171358Z
URL:https://www.larevistadelapalma.com/events/festival-folclorico-insular-
 de-la-bajada-de-la-virgen-2025/
SUMMARY:Festival Folclórico Insular de la Bajada de la Virgen 2025
DESCRIPTION:\nLa música y la danza palmeras protagonizan el Festival Folcl
 órico Insular de la Bajada de la Virgen 2025.\nEl recinto central de las 
 Fiestas Lustrales de Santa Cruz de La Palma acoge este miércoles 16 de ju
 lio\, a partir de las 19:00 horas\, el Festival Folclórico Insular\, una 
 celebración del legado musical de La Palma que reunirá sobre el escenari
 o a ocho agrupaciones de diferentes municipios de la isla.\n\n\n\nCon la p
 articipación de:\n\n\n 	Agrupación Folclórica y Cuerpo de Baile Tabladi
 tos (Barlovento)\n 	Escuela de Folclore Bediesta (San Andrés y Sauces).\n
  	Agrupación Folclórica Volcán de San Juan (El Paso).\n 	Cuerpo de Bail
 e Danzar de los Alisios (Puntallana).\n 	Agrupación Folclórica Echentive
  (Fuencaliente).\n 	Agrupación Folclórica Alfaguara (Breña Baja).\n 	Ag
 rupación Folclórica Aduares (Breña Alta).\n 	Coros y Danzas Nambroque (
 Santa Cruz de La Palma).\n\n&nbsp\;\n\n
ATTACH;FMTTYPE=image/jpeg:https://www.larevistadelapalma.com/wp-content/up
 loads/2025/07/Festival-folclorico.jpg
CATEGORIES:Espectáculos,Fiestas populares,Otras propuestas,Varios
LOCATION:Municipio de Santa Cruz de La Palma\, Santa Cruz de La Palma \, Sa
 nta Cruz de La Palma \, 38700\, España
GEO:28.688757;-17.765102
X-APPLE-STRUCTURED-LOCATION;VALUE=URI;X-ADDRESS=Santa Cruz de La Palma \, S
 anta Cruz de La Palma \, 38700\, España;X-APPLE-RADIUS=100;X-TITLE=Munici
 pio de Santa Cruz de La Palma:geo:28.688757,-17.765102
END:VEVENT
END:VCALENDAR