BEGIN:VCALENDAR
VERSION:2.0
PRODID:-//wp-events-plugin.com//7.2.3.1//EN
TZID:Europe/London
X-WR-TIMEZONE:Europe/London
BEGIN:VEVENT
UID:3852@larevistadelapalma.com
DTSTART:20250628T183000Z
DTEND:20250628T200000Z
DTSTAMP:20250626T193522Z
URL:https://www.larevistadelapalma.com/events/festival-folclorico-regional
 /
SUMMARY:Festival Folclórico Regional
DESCRIPTION:Música\, bailes tradicionales y vestimentas típicas se entrel
 azarán para ofrecer un espectáculo cargado de raíces y emoción.\n\nSan
 ta Cruz de La Palma se prepara para vivir una de las citas más emotivas d
 e las Fiestas Lustrales de la Bajada de la Virgen 2025 con la celebración
  del Festival Folclórico Regional. Este encuentro\, de entrada gratuita\,
  reunirá en la capital palmera a algunas de las agrupaciones más represe
 ntativas del folclore de las islas\, en una noche que promete ser un canto
  a la identidad\, la diversidad cultural y la unidad del Archipiélago. Te
 ndrá lugar este sábado 28 de junio a las 19:00 horas en el Recinto Centr
 al.\n\nEl Festival contará con la participación de agrupaciones proceden
 tes de distintas islas:\n\n• Agrupación Folclórica de Tetir (Fuerteven
 tura)\n• Agrupación Folclórica “Coros y Danzas de La Gomera” (La G
 omera)\n• Asociación Folclórica y Cultural “Labrante” (Gran Canari
 a)\n• Agrupación Folclórica “Guanapay” (Lanzarote)\n• Grupo Folc
 lórico “Aírate” (Tenerife)\n• Agrupación Folclórica “Tuhoco”
  (La Palma)
ATTACH;FMTTYPE=image/jpeg:https://www.larevistadelapalma.com/wp-content/up
 loads/2025/06/Festival-Folclorico-regional.jpg
CATEGORIES:Espectáculos
LOCATION:Municipio de Santa Cruz de La Palma\, Santa Cruz de La Palma \, Sa
 nta Cruz de La Palma \, 38700\, España
GEO:28.688757;-17.765102
X-APPLE-STRUCTURED-LOCATION;VALUE=URI;X-ADDRESS=Santa Cruz de La Palma \, S
 anta Cruz de La Palma \, 38700\, España;X-APPLE-RADIUS=100;X-TITLE=Munici
 pio de Santa Cruz de La Palma:geo:28.688757,-17.765102
END:VEVENT
END:VCALENDARBEGIN:VCALENDAR
VERSION:2.0
PRODID:-//wp-events-plugin.com//7.2.3.1//EN
TZID:Europe/London
X-WR-TIMEZONE:Europe/London
BEGIN:VEVENT
UID:3852@larevistadelapalma.com
DTSTART:20250628T183000Z
DTEND:20250628T200000Z
DTSTAMP:20250626T193522Z
URL:https://www.larevistadelapalma.com/events/festival-folclorico-regional
 /
SUMMARY:Festival Folclórico Regional
DESCRIPTION:Música\, bailes tradicionales y vestimentas típicas se entrel
 azarán para ofrecer un espectáculo cargado de raíces y emoción.\n\nSan
 ta Cruz de La Palma se prepara para vivir una de las citas más emotivas d
 e las Fiestas Lustrales de la Bajada de la Virgen 2025 con la celebración
  del Festival Folclórico Regional. Este encuentro\, de entrada gratuita\,
  reunirá en la capital palmera a algunas de las agrupaciones más represe
 ntativas del folclore de las islas\, en una noche que promete ser un canto
  a la identidad\, la diversidad cultural y la unidad del Archipiélago. Te
 ndrá lugar este sábado 28 de junio a las 19:00 horas en el Recinto Centr
 al.\n\nEl Festival contará con la participación de agrupaciones proceden
 tes de distintas islas:\n\n• Agrupación Folclórica de Tetir (Fuerteven
 tura)\n• Agrupación Folclórica “Coros y Danzas de La Gomera” (La G
 omera)\n• Asociación Folclórica y Cultural “Labrante” (Gran Canari
 a)\n• Agrupación Folclórica “Guanapay” (Lanzarote)\n• Grupo Folc
 lórico “Aírate” (Tenerife)\n• Agrupación Folclórica “Tuhoco”
  (La Palma)
ATTACH;FMTTYPE=image/jpeg:https://www.larevistadelapalma.com/wp-content/up
 loads/2025/06/Festival-Folclorico-regional.jpg
CATEGORIES:Espectáculos
LOCATION:Municipio de Santa Cruz de La Palma\, Santa Cruz de La Palma \, Sa
 nta Cruz de La Palma \, 38700\, España
GEO:28.688757;-17.765102
X-APPLE-STRUCTURED-LOCATION;VALUE=URI;X-ADDRESS=Santa Cruz de La Palma \, S
 anta Cruz de La Palma \, 38700\, España;X-APPLE-RADIUS=100;X-TITLE=Munici
 pio de Santa Cruz de La Palma:geo:28.688757,-17.765102
END:VEVENT
END:VCALENDAR