BEGIN:VCALENDAR
VERSION:2.0
PRODID:-//wp-events-plugin.com//7.2.3.1//EN
TZID:Europe/London
X-WR-TIMEZONE:Europe/London
BEGIN:VEVENT
UID:805@larevistadelapalma.com
DTSTART:20231104T180000Z
DTEND:20231104T200000Z
DTSTAMP:20231103T120626Z
URL:https://www.larevistadelapalma.com/events/festival-internacional-de-ci
 ne-independiente-y-de-autoria-de-canarias/
SUMMARY:Festival Internacional de Cine Independiente y de Autoría de Canar
 ias. FICINDIE 2023
DESCRIPTION:Los Llanos de Aridane acoge la primera jornada del Festival\, q
 ue se celebrará hasta el 28 de noviembre en las islas de Tenerife\, La Pa
 lma y Gran Canaria.\nLos Llanos de Aridane acoge la primera jornada\, dond
 e el director del festival\, Rumen Justo Reyes\, y la cineasta Fátima Lut
 zardo\, protagonizan el ‘Indie Lab’.\n\nEl festival comienza el sábad
 o 4\, con el ‘Indie Lab’ en la Casa de la Cultura de 19:00 a 21:00 hor
 as. En la sesión\, el director del festival\, Rumen Justo Reyes\, junto a
  la cineasta Fátima Lutzardo\, se explorará el mundo del cine independie
 nte canario y se proyectarán cortometrajes\, seguidos de una charla.\n\nE
 l director del festival\, Rumen Justo Reyes\, expresa su gratitud por la c
 álida acogida que ha recibido en estas islas y destaca el crecimiento exp
 onencial del festival en los últimos años. “La importancia de apoyar e
 l cine independiente hecho en Canarias no puede ser subestimada. Estos fil
 mes a menudo ofrecen una perspectiva única y creativa en la industria cin
 ematográfica y destacan el talento local. En el Festival podremos disfrut
 ar de muchas obras y además crear sinergias entre profesionales para segu
 ir creciendo”\, apunta.\n\nPor su parte\, la cineasta Fátima Lutzardo\,
  coordinadora de selección de los films para este año y galardonada en l
 a edición 2022 con el Premio de Honor a la Carrera Profesional del festiv
 al\, reconoce estar emocionada al presentar una selección diversa de pel
 ículas independientes este año. “Estas piezas representan la riqueza d
 el talento cinematográfico en Canarias. El festival es un escaparate perf
 ecto para destacar voces únicas y creativas que merecen ser escuchadas en
  todo el mundo”\, añade.\n\nEl Festival Internacional de Cine Independi
 ente y de Autoría de Canarias es un evento esencial que destaca la vitali
 dad y la creatividad del cine independiente en Canarias. Con el apoyo de p
 atrocinadores y colaboradores\, este festival se ha convertido en un faro 
 para la comunidad cinematográfica local y una oportunidad única para que
  el público participe y disfrute de películas independientes de alta cal
 idad. Hasta el 28 de noviembre habrá acciones en las islas de Tenerife\, 
 La Palma y Gran Canaria.
ATTACH;FMTTYPE=image/jpeg:https://www.larevistadelapalma.com/wp-content/up
 loads/2023/11/FICINDIE-23-los-llanos.jpg
CATEGORIES:Cine,Cine y Literatura
LOCATION:Casa de La Cultura de Los Llanos de Aridane\, : C. Real\, 8\, Los 
 Llanos de Aridane \, 38760\, España
GEO:28.658651;-17.913512
X-APPLE-STRUCTURED-LOCATION;VALUE=URI;X-ADDRESS=: C. Real\, 8\, Los Llanos 
 de Aridane \, 38760\, España;X-APPLE-RADIUS=100;X-TITLE=Casa de La Cultur
 a de Los Llanos de Aridane:geo:28.658651,-17.913512
END:VEVENT
END:VCALENDARBEGIN:VCALENDAR
VERSION:2.0
PRODID:-//wp-events-plugin.com//7.2.3.1//EN
TZID:Europe/London
X-WR-TIMEZONE:Europe/London
BEGIN:VEVENT
UID:805@larevistadelapalma.com
DTSTART:20231104T180000Z
DTEND:20231104T200000Z
DTSTAMP:20231103T120626Z
URL:https://www.larevistadelapalma.com/events/festival-internacional-de-ci
 ne-independiente-y-de-autoria-de-canarias/
SUMMARY:Festival Internacional de Cine Independiente y de Autoría de Canar
 ias. FICINDIE 2023
DESCRIPTION:Los Llanos de Aridane acoge la primera jornada del Festival\, q
 ue se celebrará hasta el 28 de noviembre en las islas de Tenerife\, La Pa
 lma y Gran Canaria.\nLos Llanos de Aridane acoge la primera jornada\, dond
 e el director del festival\, Rumen Justo Reyes\, y la cineasta Fátima Lut
 zardo\, protagonizan el ‘Indie Lab’.\n\nEl festival comienza el sábad
 o 4\, con el ‘Indie Lab’ en la Casa de la Cultura de 19:00 a 21:00 hor
 as. En la sesión\, el director del festival\, Rumen Justo Reyes\, junto a
  la cineasta Fátima Lutzardo\, se explorará el mundo del cine independie
 nte canario y se proyectarán cortometrajes\, seguidos de una charla.\n\nE
 l director del festival\, Rumen Justo Reyes\, expresa su gratitud por la c
 álida acogida que ha recibido en estas islas y destaca el crecimiento exp
 onencial del festival en los últimos años. “La importancia de apoyar e
 l cine independiente hecho en Canarias no puede ser subestimada. Estos fil
 mes a menudo ofrecen una perspectiva única y creativa en la industria cin
 ematográfica y destacan el talento local. En el Festival podremos disfrut
 ar de muchas obras y además crear sinergias entre profesionales para segu
 ir creciendo”\, apunta.\n\nPor su parte\, la cineasta Fátima Lutzardo\,
  coordinadora de selección de los films para este año y galardonada en l
 a edición 2022 con el Premio de Honor a la Carrera Profesional del festiv
 al\, reconoce estar emocionada al presentar una selección diversa de pel
 ículas independientes este año. “Estas piezas representan la riqueza d
 el talento cinematográfico en Canarias. El festival es un escaparate perf
 ecto para destacar voces únicas y creativas que merecen ser escuchadas en
  todo el mundo”\, añade.\n\nEl Festival Internacional de Cine Independi
 ente y de Autoría de Canarias es un evento esencial que destaca la vitali
 dad y la creatividad del cine independiente en Canarias. Con el apoyo de p
 atrocinadores y colaboradores\, este festival se ha convertido en un faro 
 para la comunidad cinematográfica local y una oportunidad única para que
  el público participe y disfrute de películas independientes de alta cal
 idad. Hasta el 28 de noviembre habrá acciones en las islas de Tenerife\, 
 La Palma y Gran Canaria.
ATTACH;FMTTYPE=image/jpeg:https://www.larevistadelapalma.com/wp-content/up
 loads/2023/11/FICINDIE-23-los-llanos.jpg
CATEGORIES:Cine,Cine y Literatura
LOCATION:Casa de La Cultura de Los Llanos de Aridane\, : C. Real\, 8\, Los 
 Llanos de Aridane \, 38760\, España
GEO:28.658651;-17.913512
X-APPLE-STRUCTURED-LOCATION;VALUE=URI;X-ADDRESS=: C. Real\, 8\, Los Llanos 
 de Aridane \, 38760\, España;X-APPLE-RADIUS=100;X-TITLE=Casa de La Cultur
 a de Los Llanos de Aridane:geo:28.658651,-17.913512
END:VEVENT
END:VCALENDAR