BEGIN:VCALENDAR
VERSION:2.0
PRODID:-//wp-events-plugin.com//7.2.3.1//EN
TZID:Europe/London
X-WR-TIMEZONE:Europe/London
BEGIN:VEVENT
UID:3839@larevistadelapalma.com
DTSTART:20250707T100000Z
DTEND:20250711T113000Z
DTSTAMP:20250619T203121Z
URL:https://www.larevistadelapalma.com/events/festival-matutino-musica-viv
 a/
SUMMARY:Festival matutino "Música Viva"
DESCRIPTION:La sede del Club Náutico de Santa Cruz de La Palma acoge\, del
  7 al 11 de julio (todos los referidos días a las 11 horas de la mañana)
  el FESTIVAL MATUTINO MÚSICA VIVA.
ATTACH;FMTTYPE=image/jpeg:https://www.larevistadelapalma.com/wp-content/up
 loads/2025/06/Musica-Viva.jpg
CATEGORIES:Festivales/Fiestas,Música
LOCATION:Real Club Náutico de Santa Cruz de La Palma (Sede Social)\, C. An
 selmo Pérez de Brito\, 9\, Santa Cruz De La Palma\, 38700\, España
GEO:28.684073;-17.764222
X-APPLE-STRUCTURED-LOCATION;VALUE=URI;X-ADDRESS=C. Anselmo Pérez de Brito\
 , 9\, Santa Cruz De La Palma\, 38700\, España;X-APPLE-RADIUS=100;X-TITLE=
 Real Club Náutico de Santa Cruz de La Palma (Sede Social):geo:28.684073,-
 17.764222
END:VEVENT
END:VCALENDARBEGIN:VCALENDAR
VERSION:2.0
PRODID:-//wp-events-plugin.com//7.2.3.1//EN
TZID:Europe/London
X-WR-TIMEZONE:Europe/London
BEGIN:VEVENT
UID:3839@larevistadelapalma.com
DTSTART:20250707T100000Z
DTEND:20250711T113000Z
DTSTAMP:20250619T203121Z
URL:https://www.larevistadelapalma.com/events/festival-matutino-musica-viv
 a/
SUMMARY:Festival matutino "Música Viva"
DESCRIPTION:La sede del Club Náutico de Santa Cruz de La Palma acoge\, del
  7 al 11 de julio (todos los referidos días a las 11 horas de la mañana)
  el FESTIVAL MATUTINO MÚSICA VIVA.
ATTACH;FMTTYPE=image/jpeg:https://www.larevistadelapalma.com/wp-content/up
 loads/2025/06/Musica-Viva.jpg
CATEGORIES:Festivales/Fiestas,Música
LOCATION:Real Club Náutico de Santa Cruz de La Palma (Sede Social)\, C. An
 selmo Pérez de Brito\, 9\, Santa Cruz De La Palma\, 38700\, España
GEO:28.684073;-17.764222
X-APPLE-STRUCTURED-LOCATION;VALUE=URI;X-ADDRESS=C. Anselmo Pérez de Brito\
 , 9\, Santa Cruz De La Palma\, 38700\, España;X-APPLE-RADIUS=100;X-TITLE=
 Real Club Náutico de Santa Cruz de La Palma (Sede Social):geo:28.684073,-
 17.764222
END:VEVENT
END:VCALENDAR