BEGIN:VCALENDAR
VERSION:2.0
PRODID:-//wp-events-plugin.com//7.2.3.1//EN
TZID:Europe/London
X-WR-TIMEZONE:Europe/London
BEGIN:VEVENT
UID:3735@larevistadelapalma.com
DTSTART;VALUE=DATE:20250514
DTEND;VALUE=DATE:20250519
DTSTAMP:20250502T171819Z
URL:https://www.larevistadelapalma.com/events/festival-nombrarse-volcan-20
 25/
SUMMARY:Festival Nombrarse Volcán 2025
DESCRIPTION:El Festival de poesía &amp\; performance Nombrarse Volcán  c
 elebra una nueva edición en La Palma del 14 al 18 de mayo.\n\nNombrarse V
 olcán  regresa en su cuarta edición\, con la misma urgencia de siempre.
  Porque creen en la poesía como cuerpo vivo y en el arte de la performanc
 e como gesto que arde e interroga el mundo. Porque intuyen el lenguaje po
 ético como un territorio expandido\; la grieta por donde se cuela la posi
 bilidad de la luz.\n\n¿Te imaginas vivir la experiencia de una obra de te
 atro para un único espectador\, asistir a un concierto entre plataneras\,
  entrar en el interior de una ballena para construir un refugio o bailar s
 in parar en una fiesta silenciosa? Todo esto está a punto de ocurrir.\n\n
 Serán  cinco días con una programación repartida entre los municipios 
 de El Paso (14 y 15 de mayo) y Los Llanos de Aridane (16\, 17 y 18 de mayo
 )\n\n&nbsp\;\n\n&nbsp\;
ATTACH;FMTTYPE=image/jpeg:https://www.larevistadelapalma.com/wp-content/up
 loads/2025/05/Nombrarse-volcan-25.jpg
CATEGORIES:Cine y Literatura,Literatura,Otras propuestas,Varios
END:VEVENT
END:VCALENDARBEGIN:VCALENDAR
VERSION:2.0
PRODID:-//wp-events-plugin.com//7.2.3.1//EN
TZID:Europe/London
X-WR-TIMEZONE:Europe/London
BEGIN:VEVENT
UID:3735@larevistadelapalma.com
DTSTART;VALUE=DATE:20250514
DTEND;VALUE=DATE:20250519
DTSTAMP:20250502T171819Z
URL:https://www.larevistadelapalma.com/events/festival-nombrarse-volcan-20
 25/
SUMMARY:Festival Nombrarse Volcán 2025
DESCRIPTION:El Festival de poesía &amp\; performance Nombrarse Volcán  c
 elebra una nueva edición en La Palma del 14 al 18 de mayo.\n\nNombrarse V
 olcán  regresa en su cuarta edición\, con la misma urgencia de siempre.
  Porque creen en la poesía como cuerpo vivo y en el arte de la performanc
 e como gesto que arde e interroga el mundo. Porque intuyen el lenguaje po
 ético como un territorio expandido\; la grieta por donde se cuela la posi
 bilidad de la luz.\n\n¿Te imaginas vivir la experiencia de una obra de te
 atro para un único espectador\, asistir a un concierto entre plataneras\,
  entrar en el interior de una ballena para construir un refugio o bailar s
 in parar en una fiesta silenciosa? Todo esto está a punto de ocurrir.\n\n
 Serán  cinco días con una programación repartida entre los municipios 
 de El Paso (14 y 15 de mayo) y Los Llanos de Aridane (16\, 17 y 18 de mayo
 )\n\n&nbsp\;\n\n&nbsp\;
ATTACH;FMTTYPE=image/jpeg:https://www.larevistadelapalma.com/wp-content/up
 loads/2025/05/Nombrarse-volcan-25.jpg
CATEGORIES:Cine y Literatura,Literatura,Otras propuestas,Varios
END:VEVENT
END:VCALENDAR