BEGIN:VCALENDAR
VERSION:2.0
PRODID:-//wp-events-plugin.com//7.2.3.1//EN
TZID:Europe/London
X-WR-TIMEZONE:Europe/London
BEGIN:VEVENT
UID:3760@larevistadelapalma.com
DTSTART;VALUE=DATE:20250623
DTEND;VALUE=DATE:20250629
DTSTAMP:20250625T142820Z
URL:https://www.larevistadelapalma.com/events/festival-palmero-de-comedia-
 desaquellados/
SUMMARY:Festival Palmero de Comedia ‘Desaquellados’
DESCRIPTION:Contará con Petite Lorena como anfitriona\, y con invitados co
 mo Eva Hache\, Ignatius Farray\, Kiko Veneno\,Pily Soy Yo\, Jessika Rojano
 \, Ayoze Pérez\, Isa Fuentes y la banda Tihuya Cats.
ATTACH;FMTTYPE=image/jpeg:https://www.larevistadelapalma.com/wp-content/up
 loads/2025/05/Desaquellados-festival.jpg
CATEGORIES:Espectáculos
LOCATION:Playa de Puerto Naos\, Puerto Naos\, Los Llanos de Aridane \, 3876
 9\, España
GEO:28.587524;-17.910531
X-APPLE-STRUCTURED-LOCATION;VALUE=URI;X-ADDRESS=Puerto Naos\, Los Llanos de
  Aridane \, 38769\, España;X-APPLE-RADIUS=100;X-TITLE=Playa de Puerto Nao
 s:geo:28.587524,-17.910531
END:VEVENT
END:VCALENDARBEGIN:VCALENDAR
VERSION:2.0
PRODID:-//wp-events-plugin.com//7.2.3.1//EN
TZID:Europe/London
X-WR-TIMEZONE:Europe/London
BEGIN:VEVENT
UID:3760@larevistadelapalma.com
DTSTART;VALUE=DATE:20250623
DTEND;VALUE=DATE:20250629
DTSTAMP:20250625T142820Z
URL:https://www.larevistadelapalma.com/events/festival-palmero-de-comedia-
 desaquellados/
SUMMARY:Festival Palmero de Comedia ‘Desaquellados’
DESCRIPTION:Contará con Petite Lorena como anfitriona\, y con invitados co
 mo Eva Hache\, Ignatius Farray\, Kiko Veneno\,Pily Soy Yo\, Jessika Rojano
 \, Ayoze Pérez\, Isa Fuentes y la banda Tihuya Cats.
ATTACH;FMTTYPE=image/jpeg:https://www.larevistadelapalma.com/wp-content/up
 loads/2025/05/Desaquellados-festival.jpg
CATEGORIES:Espectáculos
LOCATION:Playa de Puerto Naos\, Puerto Naos\, Los Llanos de Aridane \, 3876
 9\, España
GEO:28.587524;-17.910531
X-APPLE-STRUCTURED-LOCATION;VALUE=URI;X-ADDRESS=Puerto Naos\, Los Llanos de
  Aridane \, 38769\, España;X-APPLE-RADIUS=100;X-TITLE=Playa de Puerto Nao
 s:geo:28.587524,-17.910531
END:VEVENT
END:VCALENDAR