BEGIN:VCALENDAR
VERSION:2.0
PRODID:-//wp-events-plugin.com//7.2.3.1//EN
TZID:Europe/London
X-WR-TIMEZONE:Europe/London
BEGIN:VEVENT
UID:3065@larevistadelapalma.com
DTSTART:20240915T193000Z
DTEND:20240915T210000Z
DTSTAMP:20240613T161358Z
URL:https://www.larevistadelapalma.com/events/festival-reislas-comandante-
 lara-cia/
SUMMARY:Festival Reíslas: Comandante Lara & Cía
DESCRIPTION:El humor de Comandante Lara &amp\; Cía y de la canaria Omayra 
 Cazorla llenarán de risas el patio de butacas del Teatro Circo de Marte d
 e la isla de La Palma con dos actuaciones enmarcadas dentro de la segunda 
 edición del Festival de Humor Reíslas\, que se desarrollará en las isla
 s de Gran Canaria\, Tenerife\, La Palma\, Lanzarote y La Graciosa del 5 al
  29 del mes de septiembre.\n\nLa primera actuación será la de Omayra Caz
 orla\, que se subirá al escenario del Teatro Circo de Marte el día 13 de
  septiembre\, con su show ‘¿Viniste? ¡Qué atrevida!’\, mientras que
  Comandante Lara &amp\; Cía actuarán el día 15 de septiembre en el mism
 o espacio escénico palmero\, con su último espectáculo ‘Viaje con nos
 otros’. \nComprar entradas &gt\;&gt\;\n\n&nbsp\;\nReíslas acogerá la 
 actuación en La Palma de Luis Lara (conocido popularmente como el Comanda
 nte Lara)\, acompañado de Vicente Ruidos y Jesús Tapia. Este particular 
 trío propone al público un disparatado e inédito viaje lleno de ocurren
 tes chascarrillos hacia un destino desconocido que presume convertirse en 
 el mejor vuelo jamás realizado en una de las mejores aerolíneas. El cóm
 ico jerezano despliega todo el ingenio que lo ha consagrado como uno de lo
 s humoristas más celebrados del país. \n\nJunto a Jesús Tapia y Vicent
 e Ruidos\, sus fieles escuderos desde hace cinco años que en esta funció
 n Luis Lara comanda la aeronave. “Es la primera vez que hago el papel de
  Comandante Lara totalmente clavao”\, dice.  \n“El objetivo es buscar
  la carcajada y la risa de todo el pasaje\, en este caso\, del público. N
 uestro destino es la risa\, que la gente se tire al suelo\, que desconecte
  de todo lo que hay chungo que hay fuera del teatro: que si la inflación\
 , que si la guerra\, que si la crispación política… Queremos huir de u
 n telediario”\nToda la programación y el acceso a la venta de entradas 
 están en la web del festival.\n\n&nbsp\;
ATTACH;FMTTYPE=image/jpeg:https://www.larevistadelapalma.com/wp-content/up
 loads/2024/06/El-Comandante-Lara.jpeg
CATEGORIES:Espectáculos
LOCATION:Teatro Circo de Marte\, Calle Virgen de La Luz\, 5\, Santa Cruz de
  La Palma\, 38700\, España
GEO:28.682989;-17.765755
X-APPLE-STRUCTURED-LOCATION;VALUE=URI;X-ADDRESS=Calle Virgen de La Luz\, 5\
 , Santa Cruz de La Palma\, 38700\, España;X-APPLE-RADIUS=100;X-TITLE=Teat
 ro Circo de Marte:geo:28.682989,-17.765755
END:VEVENT
END:VCALENDARBEGIN:VCALENDAR
VERSION:2.0
PRODID:-//wp-events-plugin.com//7.2.3.1//EN
TZID:Europe/London
X-WR-TIMEZONE:Europe/London
BEGIN:VEVENT
UID:3065@larevistadelapalma.com
DTSTART:20240915T193000Z
DTEND:20240915T210000Z
DTSTAMP:20240613T161358Z
URL:https://www.larevistadelapalma.com/events/festival-reislas-comandante-
 lara-cia/
SUMMARY:Festival Reíslas: Comandante Lara & Cía
DESCRIPTION:El humor de Comandante Lara &amp\; Cía y de la canaria Omayra 
 Cazorla llenarán de risas el patio de butacas del Teatro Circo de Marte d
 e la isla de La Palma con dos actuaciones enmarcadas dentro de la segunda 
 edición del Festival de Humor Reíslas\, que se desarrollará en las isla
 s de Gran Canaria\, Tenerife\, La Palma\, Lanzarote y La Graciosa del 5 al
  29 del mes de septiembre.\n\nLa primera actuación será la de Omayra Caz
 orla\, que se subirá al escenario del Teatro Circo de Marte el día 13 de
  septiembre\, con su show ‘¿Viniste? ¡Qué atrevida!’\, mientras que
  Comandante Lara &amp\; Cía actuarán el día 15 de septiembre en el mism
 o espacio escénico palmero\, con su último espectáculo ‘Viaje con nos
 otros’. \nComprar entradas &gt\;&gt\;\n\n&nbsp\;\nReíslas acogerá la 
 actuación en La Palma de Luis Lara (conocido popularmente como el Comanda
 nte Lara)\, acompañado de Vicente Ruidos y Jesús Tapia. Este particular 
 trío propone al público un disparatado e inédito viaje lleno de ocurren
 tes chascarrillos hacia un destino desconocido que presume convertirse en 
 el mejor vuelo jamás realizado en una de las mejores aerolíneas. El cóm
 ico jerezano despliega todo el ingenio que lo ha consagrado como uno de lo
 s humoristas más celebrados del país. \n\nJunto a Jesús Tapia y Vicent
 e Ruidos\, sus fieles escuderos desde hace cinco años que en esta funció
 n Luis Lara comanda la aeronave. “Es la primera vez que hago el papel de
  Comandante Lara totalmente clavao”\, dice.  \n“El objetivo es buscar
  la carcajada y la risa de todo el pasaje\, en este caso\, del público. N
 uestro destino es la risa\, que la gente se tire al suelo\, que desconecte
  de todo lo que hay chungo que hay fuera del teatro: que si la inflación\
 , que si la guerra\, que si la crispación política… Queremos huir de u
 n telediario”\nToda la programación y el acceso a la venta de entradas 
 están en la web del festival.\n\n&nbsp\;
ATTACH;FMTTYPE=image/jpeg:https://www.larevistadelapalma.com/wp-content/up
 loads/2024/06/El-Comandante-Lara.jpeg
CATEGORIES:Espectáculos
LOCATION:Teatro Circo de Marte\, Calle Virgen de La Luz\, 5\, Santa Cruz de
  La Palma\, 38700\, España
GEO:28.682989;-17.765755
X-APPLE-STRUCTURED-LOCATION;VALUE=URI;X-ADDRESS=Calle Virgen de La Luz\, 5\
 , Santa Cruz de La Palma\, 38700\, España;X-APPLE-RADIUS=100;X-TITLE=Teat
 ro Circo de Marte:geo:28.682989,-17.765755
END:VEVENT
END:VCALENDAR