BEGIN:VCALENDAR
VERSION:2.0
PRODID:-//wp-events-plugin.com//7.2.3.1//EN
TZID:Europe/London
X-WR-TIMEZONE:Europe/London
BEGIN:VEVENT
UID:3240@larevistadelapalma.com
DTSTART;VALUE=DATE:20240920
DTEND;VALUE=DATE:20240923
DTSTAMP:20240918T154416Z
URL:https://www.larevistadelapalma.com/events/festival-sandunga-y-sabor/
SUMMARY:Festival “Sandunga y sabor”
DESCRIPTION:Tras una primera experiencia el pasado mes de marzo\, se crea e
 ste festival formato congreso de “Sandunga y sabor” del 20 al 22 de se
 ptiembre en el Nuevo Aeroclub de La Palma en Breña Baja. Colabora el Ayun
 tamiento de Breña Baja.\nDurante ese fin de semana el festival contara co
 n artistas nacionales e internacionales\, djs\, talleres\, sociales\, pool
  party y mucho más … Una cita latina con mucho sabor y que está pensad
 o para el baile\, el aprendizaje\, el disfrute y donde habrá muchas más 
 sorpresas por descubrir.\nMás info en Instagram.\n\nLas entradas se puede
 n adquirir en el whatsapp: 655217520.\n\n\n\n&nbsp\;\n\n\n\n\n\n\n\n\n\n\
 nVer esta publicación en Instagram\n\n\n\n\n\n\n\n\n\n\n\n\n\n\n\n\n\n\n\
 n\n\n\n&nbsp\;\nUna publicación compartida de SandungaySaborlapalma (@san
 dungaysabor)\n\n\n
ATTACH;FMTTYPE=image/jpeg:https://www.larevistadelapalma.com/wp-content/up
 loads/2024/09/Sandunga-y-sabor.jpg
CATEGORIES:Festivales/Fiestas,Música
LOCATION:Municipio de Breña Baja\, Breña Baja\, Breña Baja\, 38712\, Esp
 aña
GEO:28.641297;-17.772467
X-APPLE-STRUCTURED-LOCATION;VALUE=URI;X-ADDRESS=Breña Baja\, Breña Baja\,
  38712\, España;X-APPLE-RADIUS=100;X-TITLE=Municipio de Breña Baja:geo:2
 8.641297,-17.772467
END:VEVENT
END:VCALENDARBEGIN:VCALENDAR
VERSION:2.0
PRODID:-//wp-events-plugin.com//7.2.3.1//EN
TZID:Europe/London
X-WR-TIMEZONE:Europe/London
BEGIN:VEVENT
UID:3240@larevistadelapalma.com
DTSTART;VALUE=DATE:20240920
DTEND;VALUE=DATE:20240923
DTSTAMP:20240918T154416Z
URL:https://www.larevistadelapalma.com/events/festival-sandunga-y-sabor/
SUMMARY:Festival “Sandunga y sabor”
DESCRIPTION:Tras una primera experiencia el pasado mes de marzo\, se crea e
 ste festival formato congreso de “Sandunga y sabor” del 20 al 22 de se
 ptiembre en el Nuevo Aeroclub de La Palma en Breña Baja. Colabora el Ayun
 tamiento de Breña Baja.\nDurante ese fin de semana el festival contara co
 n artistas nacionales e internacionales\, djs\, talleres\, sociales\, pool
  party y mucho más … Una cita latina con mucho sabor y que está pensad
 o para el baile\, el aprendizaje\, el disfrute y donde habrá muchas más 
 sorpresas por descubrir.\nMás info en Instagram.\n\nLas entradas se puede
 n adquirir en el whatsapp: 655217520.\n\n\n\n&nbsp\;\n\n\n\n\n\n\n\n\n\n\
 nVer esta publicación en Instagram\n\n\n\n\n\n\n\n\n\n\n\n\n\n\n\n\n\n\n\
 n\n\n\n&nbsp\;\nUna publicación compartida de SandungaySaborlapalma (@san
 dungaysabor)\n\n\n
ATTACH;FMTTYPE=image/jpeg:https://www.larevistadelapalma.com/wp-content/up
 loads/2024/09/Sandunga-y-sabor.jpg
CATEGORIES:Festivales/Fiestas,Música
LOCATION:Municipio de Breña Baja\, Breña Baja\, Breña Baja\, 38712\, Esp
 aña
GEO:28.641297;-17.772467
X-APPLE-STRUCTURED-LOCATION;VALUE=URI;X-ADDRESS=Breña Baja\, Breña Baja\,
  38712\, España;X-APPLE-RADIUS=100;X-TITLE=Municipio de Breña Baja:geo:2
 8.641297,-17.772467
END:VEVENT
END:VCALENDAR