BEGIN:VCALENDAR
VERSION:2.0
PRODID:-//wp-events-plugin.com//7.2.3.1//EN
TZID:Europe/London
X-WR-TIMEZONE:Europe/London
BEGIN:VEVENT
UID:3069@larevistadelapalma.com
DTSTART;VALUE=DATE:20240912
DTEND;VALUE=DATE:20240916
DTSTAMP:20240614T190210Z
URL:https://www.larevistadelapalma.com/events/festival-senderismo-y-montan
 a-24/
SUMMARY:Festival Senderismo y montaña de La Palma 2024
DESCRIPTION:Walking Festival La Palma\nEl Cabildo de La Palma trabaja en co
 ntinuar acercando los recursos patrimoniales y etnográficos de La Palma a
  residentes y turistas a través del Festival de Senderismo y Montaña\, q
 ue este año celebra su décimo sexta edición.\n\nEl Festival de Senderis
 mo y Montaña de La Palma cuenta con una serie de rutas guiadas por parte 
 de profesionales que hacen que las personas participantes tengan una visi
 ón global y cercana de la realidad de la Isla. \n\nwalkingfestivallapalm
 a.net\n\n&nbsp\;
ATTACH;FMTTYPE=image/jpeg:https://www.larevistadelapalma.com/wp-content/up
 loads/2024/06/Cartel-Festival-de-Senderismo-.jpg
CATEGORIES:Actividades deportivas,Otras propuestas
END:VEVENT
END:VCALENDARBEGIN:VCALENDAR
VERSION:2.0
PRODID:-//wp-events-plugin.com//7.2.3.1//EN
TZID:Europe/London
X-WR-TIMEZONE:Europe/London
BEGIN:VEVENT
UID:3069@larevistadelapalma.com
DTSTART;VALUE=DATE:20240912
DTEND;VALUE=DATE:20240916
DTSTAMP:20240614T190210Z
URL:https://www.larevistadelapalma.com/events/festival-senderismo-y-montan
 a-24/
SUMMARY:Festival Senderismo y montaña de La Palma 2024
DESCRIPTION:Walking Festival La Palma\nEl Cabildo de La Palma trabaja en co
 ntinuar acercando los recursos patrimoniales y etnográficos de La Palma a
  residentes y turistas a través del Festival de Senderismo y Montaña\, q
 ue este año celebra su décimo sexta edición.\n\nEl Festival de Senderis
 mo y Montaña de La Palma cuenta con una serie de rutas guiadas por parte 
 de profesionales que hacen que las personas participantes tengan una visi
 ón global y cercana de la realidad de la Isla. \n\nwalkingfestivallapalm
 a.net\n\n&nbsp\;
ATTACH;FMTTYPE=image/jpeg:https://www.larevistadelapalma.com/wp-content/up
 loads/2024/06/Cartel-Festival-de-Senderismo-.jpg
CATEGORIES:Actividades deportivas,Otras propuestas
END:VEVENT
END:VCALENDAR