BEGIN:VCALENDAR
VERSION:2.0
PRODID:-//wp-events-plugin.com//7.2.3.1//EN
TZID:Europe/London
X-WR-TIMEZONE:Europe/London
BEGIN:VEVENT
UID:3220@larevistadelapalma.com
DTSTART:20240921T193000Z
DTEND:20240921T210000Z
DTSTAMP:20240913T125851Z
URL:https://www.larevistadelapalma.com/events/festival-tensamba-erico-more
 ira/
SUMMARY:Festival Tensamba: Érico Moreira
DESCRIPTION:El escenario del Teatro Circo de Marte se vestirá de intimidad
  y magia con la presencia de Érico Moreira\, una de las voces más singul
 ares y versátiles de la música brasileña contemporánea. \n\nTensamba 
 es un Festival que surge y se desarrolla desde el amor incondicional de do
 s jóvenes canarios por la cultura de Brasil. Desde su creación hace ya d
 os décadas\, han pasado infinidad de artistas brasileños de diferentes g
 éneros y generaciones\, tanto en el ámbito de la música como en el de o
 tras disciplinas artísticas.\n\nEn el marco de la XXI Edición del Festiv
 al Tensamba\, Moreira ofrecerá un concierto en formato acústico\, donde 
 solo su guitarra y su voz serán los protagonistas\, permitiendo que su ta
 lento brille en su estado más puro.\n\nNacido en una familia de músicos 
 y con una carrera que ha cruzado fronteras\, desde Brasil hasta Europa\, 
 Érico ha desarrollado un estilo único\, que fusiona sus raíces con infl
 uencias globales. Su música\, que ha sido reconocida con nominaciones y 
 también premios en los Grammy Latinos\, nos invita a un viaje sonoro que 
 trasciende lo convencional.\nPuedes ser músico\, compositor\, intérprete
 \, productor\, arreglista\, ingeniero de grabación y mezcla\, o desempeñ
 ar otras funciones. Sin embargo\, casos como el de Érico Moreira\, que as
 umió todas estas responsabilidades en su último álbum ‘Dentro da Matr
 ix’\, son raros.\nEste concierto es una oportunidad excepcional para sum
 ergirse en la esencia de sus composiciones originales y en su interpretaci
 ón única de clásicos de la Música Popular Brasileña (MBP). Cada acor
 de y cada palabra resonarán con la autenticidad de un artista que domina 
 cada aspecto de su obra\, desde la composición hasta la producción.\n\nN
 o te pierdas esta experiencia irrepetible en el corazón de La Palma\, don
 de la música y la emoción se entrelazan en una noche que promete ser ino
 lvidable. Érico Moreira\, en acústico\, es una celebración de la músi
 ca brasileña en su forma más íntima y cautivadora.\nComprar entradas &g
 t\;&gt\;\n
ATTACH;FMTTYPE=image/jpeg:https://www.larevistadelapalma.com/wp-content/up
 loads/2024/09/EricoMoreria.jpg
CATEGORIES:Conciertos,Música
LOCATION:Teatro Circo de Marte\, Calle Virgen de La Luz\, 5\, Santa Cruz de
  La Palma\, 38700\, España
GEO:28.682989;-17.765755
X-APPLE-STRUCTURED-LOCATION;VALUE=URI;X-ADDRESS=Calle Virgen de La Luz\, 5\
 , Santa Cruz de La Palma\, 38700\, España;X-APPLE-RADIUS=100;X-TITLE=Teat
 ro Circo de Marte:geo:28.682989,-17.765755
END:VEVENT
END:VCALENDARBEGIN:VCALENDAR
VERSION:2.0
PRODID:-//wp-events-plugin.com//7.2.3.1//EN
TZID:Europe/London
X-WR-TIMEZONE:Europe/London
BEGIN:VEVENT
UID:3220@larevistadelapalma.com
DTSTART:20240921T193000Z
DTEND:20240921T210000Z
DTSTAMP:20240913T125851Z
URL:https://www.larevistadelapalma.com/events/festival-tensamba-erico-more
 ira/
SUMMARY:Festival Tensamba: Érico Moreira
DESCRIPTION:El escenario del Teatro Circo de Marte se vestirá de intimidad
  y magia con la presencia de Érico Moreira\, una de las voces más singul
 ares y versátiles de la música brasileña contemporánea. \n\nTensamba 
 es un Festival que surge y se desarrolla desde el amor incondicional de do
 s jóvenes canarios por la cultura de Brasil. Desde su creación hace ya d
 os décadas\, han pasado infinidad de artistas brasileños de diferentes g
 éneros y generaciones\, tanto en el ámbito de la música como en el de o
 tras disciplinas artísticas.\n\nEn el marco de la XXI Edición del Festiv
 al Tensamba\, Moreira ofrecerá un concierto en formato acústico\, donde 
 solo su guitarra y su voz serán los protagonistas\, permitiendo que su ta
 lento brille en su estado más puro.\n\nNacido en una familia de músicos 
 y con una carrera que ha cruzado fronteras\, desde Brasil hasta Europa\, 
 Érico ha desarrollado un estilo único\, que fusiona sus raíces con infl
 uencias globales. Su música\, que ha sido reconocida con nominaciones y 
 también premios en los Grammy Latinos\, nos invita a un viaje sonoro que 
 trasciende lo convencional.\nPuedes ser músico\, compositor\, intérprete
 \, productor\, arreglista\, ingeniero de grabación y mezcla\, o desempeñ
 ar otras funciones. Sin embargo\, casos como el de Érico Moreira\, que as
 umió todas estas responsabilidades en su último álbum ‘Dentro da Matr
 ix’\, son raros.\nEste concierto es una oportunidad excepcional para sum
 ergirse en la esencia de sus composiciones originales y en su interpretaci
 ón única de clásicos de la Música Popular Brasileña (MBP). Cada acor
 de y cada palabra resonarán con la autenticidad de un artista que domina 
 cada aspecto de su obra\, desde la composición hasta la producción.\n\nN
 o te pierdas esta experiencia irrepetible en el corazón de La Palma\, don
 de la música y la emoción se entrelazan en una noche que promete ser ino
 lvidable. Érico Moreira\, en acústico\, es una celebración de la músi
 ca brasileña en su forma más íntima y cautivadora.\nComprar entradas &g
 t\;&gt\;\n
ATTACH;FMTTYPE=image/jpeg:https://www.larevistadelapalma.com/wp-content/up
 loads/2024/09/EricoMoreria.jpg
CATEGORIES:Conciertos,Música
LOCATION:Teatro Circo de Marte\, Calle Virgen de La Luz\, 5\, Santa Cruz de
  La Palma\, 38700\, España
GEO:28.682989;-17.765755
X-APPLE-STRUCTURED-LOCATION;VALUE=URI;X-ADDRESS=Calle Virgen de La Luz\, 5\
 , Santa Cruz de La Palma\, 38700\, España;X-APPLE-RADIUS=100;X-TITLE=Teat
 ro Circo de Marte:geo:28.682989,-17.765755
END:VEVENT
END:VCALENDAR