BEGIN:VCALENDAR
VERSION:2.0
PRODID:-//wp-events-plugin.com//7.2.3.1//EN
TZID:Europe/London
X-WR-TIMEZONE:Europe/London
BEGIN:VEVENT
UID:3049@larevistadelapalma.com
DTSTART;VALUE=DATE:20240622
DTEND;VALUE=DATE:20240625
DTSTAMP:20240611T011248Z
URL:https://www.larevistadelapalma.com/events/festivalito-cinerama-el-paso
 /
SUMMARY:Festivalito Cinerama - El Paso
DESCRIPTION:Una propuesta  del Festivalito La Palma con proyecciones abier
 tas al público y que recorre todos los géneros.\nLas proyecciones serán
  en Santa Cruz de La Palma y El Paso.\n\nEntre las principales actividades
  de la XIX edición de Festivalito La Palma\, que se celebra del 21 al 29 
 de junio\, encontramos Festivalito Cinerama\, una sala de cine para todos 
 los públicos que pone en la pantalla una amplia propuesta de títulos cin
 ematográficos\, 11 largometrajes\, 25 cortometrajes y 1 webserie\, de pro
 ducciones palmeras\, canarias y nacionales\, que recorren todos los géner
 os.\n\nTodas las proyecciones contarán con la presencia de cineastas\, ac
 tores\, actrices y referentes del sector\; que también forman parte del c
 ertamen La Palma Rueda\, donde seguirán haciendo crecer el cine hecho en 
 La Palma\, durante el Festivalito.\n\nEl cine canario y\, en concreto\, el
  palmero tendrán un peso importante en Festivalito Cinerama\, con proyecc
 iones creadas en la espectacularidad de la isla bonita. Entre las proyecc
 iones\, destaca la película La Hojarasca\, de la directora Macu Machín\,
  que viene cosechando premios desde su estreno en la Berlinale. También e
 l documental Absolución de Juan Alfredo Amil\, o la película nacional Mi
  otro Jon\, con la participación de actrices de la talla de Carmen Maura 
 u Olivia Molina.\n\nUna muestra destacada de largometrajes canarios\, pond
 rá el valor el talento y las oportunidades de Canarias como cuna y escena
 rio de cineastas y reunirá a clásicos del cine canario\, como Josep Vila
 geliú\, directores nóveles como Coré Ruíz\, el director afincado en Ca
 narias Gonzálo López Gallego\, o la incursión en el género de terror d
 el productor Eric Ceballos.\n\nEntre los cortometrajes destacan dos de los
  últimos éxitos del cine canario como Aitana y Meteoro\, avalados por lo
 s premios en festivales internacionales\; y las muestras de otros festival
 es de rodajes exprés\, que han seguido la estela del certamen La Palma Ru
 eda\, como Corto Exprés del Festival Internacional de Cine de Lanzarote\,
  Tenerife Noir Cine Exprés y Ecorueda del Festival Internacional de Cine 
 Medioambiental de Canarias FICMEC.\n\nNo podía faltar el paraguas de nues
 tro territorio\, el cine español. Una selección de películas de grandes
  directores como Álex de la Iglesia\, o Antonio Méndez Esparza y de nuev
 as voces rompedoras como Víctor Iriarte o Kike Narcea. En esta ocasión\
 , destaca la presencia de actrices y actores de la talla de Malena Alterio
 \, Lola Dueñas\, Ana Torrent\, Aitana Sánchez-Gijón\, Blanca Suárez\, 
 Alberto San Juan\, o Ernesto Alterio\, y nuevos rostros como Alba Galocha 
 o Cris Gallego.\nPROGRAMACIÓN:\n\n\nEncuentro con Malena Alterio\nSábado
  22 junio\, 18:00 horas. Bar Central. El Paso\nCharla con la Estrella Home
 naje de 2024 Malena Alterio\n\n\n\n\n\n\n\nQue nadie duerma\nSábado 22 ju
 nio\, 19:00 horas. Calle Manuel Taño. El Paso\nCINERAMA ESPAÑA\n\nLucía
  pierde su empleo como programadora informática y decide dar un giro en s
 u vida: convertirse en taxista.\n\n\n\n\nDomingo 23 de Junio\n\n\n\n\n\nCo
 rtometraje canarios – Sesión 01\nDomingo 23 junio\, 17.00 horas. Casa d
 e la Cultura. El Paso\nMeteoro\, Víctor Moreno\nAntes del todo\, Yon Beng
 oechea\nVolver\, Rut Angielina\nColonos del espacio\, Fernando Alcántara
 \n\n\n\n\n\n\n\nCortometrajes canarios – Sesión 02\nDomingo 23 junio\
 , 18.00 horas. Casa de la Cultura. El Paso\nFESTIVAL DE CINE DE LANZAROTE 
 2024\n\nEl bar\, Nacho Peña\nÁrido\, Orlando Pérez\nEl campito de Argan
 a Norte\, Tomás López\n\n\n\n\n\n\n\nCortometrajes canarios – Sesión
  03\nDomingo 23 junio\, 18.30 horas. Casa de la Cultura. El Paso\nMUESTRA
  ECORUEDA  – FICMEC 2024\n\nEncadenado\, Loan Estévez y Miguel Henao\n
 Invisibles\, Laura González\, Villalba\nRetratando el abismo\, Daniel Her
 nández\n\n\n\n\n\n\n\nSobre todo de noche\nDomingo 23 junio\, 20.00 horas
 . El Paso\nCINERAMA ESPAÑA\n\nCuando Vera era joven tuvo que dar a su hij
 o en adopción. Años después\, las instituciones le dijeron que su exped
 iente no existía.\n\n\n\n\n\n\n\nCortometraje Canario – Por una cabeza
 \nDomingo 23 junio\, 20.00 horas. Calle Manuel Taño. El Paso\nUna investi
 gadora está realizando un estudio de los extraños casos de suicidio por 
 decapitación\n\n\n\n\n\n\n\nStream\nDomingo 23 junio\, 22:30 horas. CreaL
 ab El Paso\nCraven\, un streamer con miles de seguidores en una plataforma
  de\nemisión en directo\, ha preparado un stream muy especial para Hallow
 een.\n\n\n\n\nLunes 24 de Junio\n\n\n\n\nWebserie – La España de Borbó
 n\nLunes 24 junio\, 12.00 horas. Bar Central. El Paso\nCINERAMA ESPAÑA\n\
 nWebserie creada por Albert Pla.\n\n\n\n\n\n\n\nMuestra de cortometrajes 
 – Cinerama La Palma – Sesión 01\nLunes 24 junio\, 17.00 horas. Casa d
 e la Cultura. El Paso\nIruene\, Emilio José Feliciano\nLo olvidado\, Mois
 és David García Castro\n\n\n\n\n\n\n\nMuestra de cortometrajes – Ciner
 ama La Palma – Sesión 02\nLunes 24 junio\, 18.30 horas. Casa de la Cult
 ura. El Paso\nLechugas\, Javi Armas\nEncaje\, Julieta Martín Fuentes y Vi
 dal Ramos\nLove Story en La Laguna\, Anatael P.H.\n\n\n\n\n\n\n\nMuestra d
 e cortometrajes Tenerife Noir Exprés\nLunes 24 junio\, 19.00 horas. Casa 
 de la Cultura. El Paso\nDuelo\, Gustavo G. Torres\nBatmal te parte en 2\,
  Francisco Ja Doria y David Zamora\nMatador\, Lucas Sancho\n\n\n\n\n\n\n
 \nLa sombra del tiburón\nLunes 24 junio\, 20.30 horas. CreaLab El Paso\nA
 lma está agotada. Todos los días se despierta con la desagradable sensac
 ión de que algo extraño está ocurriendo mientras duerme. Desesperada\, 
 coloca una cámara de vídeo en su habitación. No está sola.\n\n\n\n\n\n
 \n\nVoy a desaparecer\nLunes 24 junio\, 22.30 horas. CreaLab El Paso\nLa s
 olitaria rutina de Rocío cambia drásticamente con la reaparición de su 
 hermano David tras diez años sin ningún contacto. Él\, que lleva todo e
 ste tiempo en prisión\, le propone huir juntos a Puerto Plata\, la locali
 dad turística donde solían veranear en familia.\n\n\n\n\n\n\n\nTodas las
  proyecciones del Festivalito Cinerama son gratuitas y abiertas al públic
 o. \n\n&nbsp\;\n\n&nbsp\;\n\n&nbsp\;
ATTACH;FMTTYPE=image/jpeg:https://www.larevistadelapalma.com/wp-content/up
 loads/2024/06/Malena-Alterio-1024x544-1.png
CATEGORIES:Cine,Cine y Literatura
LOCATION:Municipio de El Paso\, El Paso\, La Palma \, El Paso\, 38750\, Esp
 aña
GEO:28.652378;-17.880396
X-APPLE-STRUCTURED-LOCATION;VALUE=URI;X-ADDRESS=El Paso\, La Palma \, El Pa
 so\, 38750\, España;X-APPLE-RADIUS=100;X-TITLE=Municipio de El Paso:geo:2
 8.652378,-17.880396
END:VEVENT
END:VCALENDARBEGIN:VCALENDAR
VERSION:2.0
PRODID:-//wp-events-plugin.com//7.2.3.1//EN
TZID:Europe/London
X-WR-TIMEZONE:Europe/London
BEGIN:VEVENT
UID:3049@larevistadelapalma.com
DTSTART;VALUE=DATE:20240622
DTEND;VALUE=DATE:20240625
DTSTAMP:20240611T011248Z
URL:https://www.larevistadelapalma.com/events/festivalito-cinerama-el-paso
 /
SUMMARY:Festivalito Cinerama - El Paso
DESCRIPTION:Una propuesta  del Festivalito La Palma con proyecciones abier
 tas al público y que recorre todos los géneros.\nLas proyecciones serán
  en Santa Cruz de La Palma y El Paso.\n\nEntre las principales actividades
  de la XIX edición de Festivalito La Palma\, que se celebra del 21 al 29 
 de junio\, encontramos Festivalito Cinerama\, una sala de cine para todos 
 los públicos que pone en la pantalla una amplia propuesta de títulos cin
 ematográficos\, 11 largometrajes\, 25 cortometrajes y 1 webserie\, de pro
 ducciones palmeras\, canarias y nacionales\, que recorren todos los géner
 os.\n\nTodas las proyecciones contarán con la presencia de cineastas\, ac
 tores\, actrices y referentes del sector\; que también forman parte del c
 ertamen La Palma Rueda\, donde seguirán haciendo crecer el cine hecho en 
 La Palma\, durante el Festivalito.\n\nEl cine canario y\, en concreto\, el
  palmero tendrán un peso importante en Festivalito Cinerama\, con proyecc
 iones creadas en la espectacularidad de la isla bonita. Entre las proyecc
 iones\, destaca la película La Hojarasca\, de la directora Macu Machín\,
  que viene cosechando premios desde su estreno en la Berlinale. También e
 l documental Absolución de Juan Alfredo Amil\, o la película nacional Mi
  otro Jon\, con la participación de actrices de la talla de Carmen Maura 
 u Olivia Molina.\n\nUna muestra destacada de largometrajes canarios\, pond
 rá el valor el talento y las oportunidades de Canarias como cuna y escena
 rio de cineastas y reunirá a clásicos del cine canario\, como Josep Vila
 geliú\, directores nóveles como Coré Ruíz\, el director afincado en Ca
 narias Gonzálo López Gallego\, o la incursión en el género de terror d
 el productor Eric Ceballos.\n\nEntre los cortometrajes destacan dos de los
  últimos éxitos del cine canario como Aitana y Meteoro\, avalados por lo
 s premios en festivales internacionales\; y las muestras de otros festival
 es de rodajes exprés\, que han seguido la estela del certamen La Palma Ru
 eda\, como Corto Exprés del Festival Internacional de Cine de Lanzarote\,
  Tenerife Noir Cine Exprés y Ecorueda del Festival Internacional de Cine 
 Medioambiental de Canarias FICMEC.\n\nNo podía faltar el paraguas de nues
 tro territorio\, el cine español. Una selección de películas de grandes
  directores como Álex de la Iglesia\, o Antonio Méndez Esparza y de nuev
 as voces rompedoras como Víctor Iriarte o Kike Narcea. En esta ocasión\
 , destaca la presencia de actrices y actores de la talla de Malena Alterio
 \, Lola Dueñas\, Ana Torrent\, Aitana Sánchez-Gijón\, Blanca Suárez\, 
 Alberto San Juan\, o Ernesto Alterio\, y nuevos rostros como Alba Galocha 
 o Cris Gallego.\nPROGRAMACIÓN:\n\n\nEncuentro con Malena Alterio\nSábado
  22 junio\, 18:00 horas. Bar Central. El Paso\nCharla con la Estrella Home
 naje de 2024 Malena Alterio\n\n\n\n\n\n\n\nQue nadie duerma\nSábado 22 ju
 nio\, 19:00 horas. Calle Manuel Taño. El Paso\nCINERAMA ESPAÑA\n\nLucía
  pierde su empleo como programadora informática y decide dar un giro en s
 u vida: convertirse en taxista.\n\n\n\n\nDomingo 23 de Junio\n\n\n\n\n\nCo
 rtometraje canarios – Sesión 01\nDomingo 23 junio\, 17.00 horas. Casa d
 e la Cultura. El Paso\nMeteoro\, Víctor Moreno\nAntes del todo\, Yon Beng
 oechea\nVolver\, Rut Angielina\nColonos del espacio\, Fernando Alcántara
 \n\n\n\n\n\n\n\nCortometrajes canarios – Sesión 02\nDomingo 23 junio\
 , 18.00 horas. Casa de la Cultura. El Paso\nFESTIVAL DE CINE DE LANZAROTE 
 2024\n\nEl bar\, Nacho Peña\nÁrido\, Orlando Pérez\nEl campito de Argan
 a Norte\, Tomás López\n\n\n\n\n\n\n\nCortometrajes canarios – Sesión
  03\nDomingo 23 junio\, 18.30 horas. Casa de la Cultura. El Paso\nMUESTRA
  ECORUEDA  – FICMEC 2024\n\nEncadenado\, Loan Estévez y Miguel Henao\n
 Invisibles\, Laura González\, Villalba\nRetratando el abismo\, Daniel Her
 nández\n\n\n\n\n\n\n\nSobre todo de noche\nDomingo 23 junio\, 20.00 horas
 . El Paso\nCINERAMA ESPAÑA\n\nCuando Vera era joven tuvo que dar a su hij
 o en adopción. Años después\, las instituciones le dijeron que su exped
 iente no existía.\n\n\n\n\n\n\n\nCortometraje Canario – Por una cabeza
 \nDomingo 23 junio\, 20.00 horas. Calle Manuel Taño. El Paso\nUna investi
 gadora está realizando un estudio de los extraños casos de suicidio por 
 decapitación\n\n\n\n\n\n\n\nStream\nDomingo 23 junio\, 22:30 horas. CreaL
 ab El Paso\nCraven\, un streamer con miles de seguidores en una plataforma
  de\nemisión en directo\, ha preparado un stream muy especial para Hallow
 een.\n\n\n\n\nLunes 24 de Junio\n\n\n\n\nWebserie – La España de Borbó
 n\nLunes 24 junio\, 12.00 horas. Bar Central. El Paso\nCINERAMA ESPAÑA\n\
 nWebserie creada por Albert Pla.\n\n\n\n\n\n\n\nMuestra de cortometrajes 
 – Cinerama La Palma – Sesión 01\nLunes 24 junio\, 17.00 horas. Casa d
 e la Cultura. El Paso\nIruene\, Emilio José Feliciano\nLo olvidado\, Mois
 és David García Castro\n\n\n\n\n\n\n\nMuestra de cortometrajes – Ciner
 ama La Palma – Sesión 02\nLunes 24 junio\, 18.30 horas. Casa de la Cult
 ura. El Paso\nLechugas\, Javi Armas\nEncaje\, Julieta Martín Fuentes y Vi
 dal Ramos\nLove Story en La Laguna\, Anatael P.H.\n\n\n\n\n\n\n\nMuestra d
 e cortometrajes Tenerife Noir Exprés\nLunes 24 junio\, 19.00 horas. Casa 
 de la Cultura. El Paso\nDuelo\, Gustavo G. Torres\nBatmal te parte en 2\,
  Francisco Ja Doria y David Zamora\nMatador\, Lucas Sancho\n\n\n\n\n\n\n
 \nLa sombra del tiburón\nLunes 24 junio\, 20.30 horas. CreaLab El Paso\nA
 lma está agotada. Todos los días se despierta con la desagradable sensac
 ión de que algo extraño está ocurriendo mientras duerme. Desesperada\, 
 coloca una cámara de vídeo en su habitación. No está sola.\n\n\n\n\n\n
 \n\nVoy a desaparecer\nLunes 24 junio\, 22.30 horas. CreaLab El Paso\nLa s
 olitaria rutina de Rocío cambia drásticamente con la reaparición de su 
 hermano David tras diez años sin ningún contacto. Él\, que lleva todo e
 ste tiempo en prisión\, le propone huir juntos a Puerto Plata\, la locali
 dad turística donde solían veranear en familia.\n\n\n\n\n\n\n\nTodas las
  proyecciones del Festivalito Cinerama son gratuitas y abiertas al públic
 o. \n\n&nbsp\;\n\n&nbsp\;\n\n&nbsp\;
ATTACH;FMTTYPE=image/jpeg:https://www.larevistadelapalma.com/wp-content/up
 loads/2024/06/Malena-Alterio-1024x544-1.png
CATEGORIES:Cine,Cine y Literatura
LOCATION:Municipio de El Paso\, El Paso\, La Palma \, El Paso\, 38750\, Esp
 aña
GEO:28.652378;-17.880396
X-APPLE-STRUCTURED-LOCATION;VALUE=URI;X-ADDRESS=El Paso\, La Palma \, El Pa
 so\, 38750\, España;X-APPLE-RADIUS=100;X-TITLE=Municipio de El Paso:geo:2
 8.652378,-17.880396
END:VEVENT
END:VCALENDAR