BEGIN:VCALENDAR
VERSION:2.0
PRODID:-//wp-events-plugin.com//7.2.3.1//EN
TZID:Europe/London
X-WR-TIMEZONE:Europe/London
BEGIN:VEVENT
UID:3767@larevistadelapalma.com
DTSTART:20250614T200000Z
DTEND:20250614T225900Z
DTSTAMP:20250602T223846Z
URL:https://www.larevistadelapalma.com/events/festivalito-sonora-2025-segu
 ndo-fin-de-semana/
SUMMARY:Festivalito Sonora 2025: Segundo fin de semana
DESCRIPTION:Con Grajasound y DJ CHK.\nDel 6 al 14 de junio\, Festivalito S
 onora desplegará en El Paso una propuesta musical libre\, energética y 
 diversa que convertirá las noches del Festivalito La Palma en una autént
 ica fiesta. Las citas tendrán lugar en la Plaza Francisca de Gazmira\, co
 n acceso gratuito y un cartel que va desde los géneros más bailables has
 ta los que te hacen saltar y gritar a pleno pulmón\, con propuestas indep
 endientes y mucho talento canario.\n\nAquí tienes las actuaciones para el
  fin de semana del 6 y 7 de junio.\n\nLas propuestas para el sábado 14 de
  junio\, serán las siguientes:\nDJ Graja Sound\nColectivo palmero con alm
 a vinilera. Graja Sound cruza géneros con groove: reggae\, soul\, latin b
 reaks\, funk... El set ideal para empezar la última noche de Festivalito 
 La Palma con los pies sueltos.\n\n\n\nDJ CHK\nCampeón de España DMC\, su
 bcampeón mundial\, y uno de los grandes del turntablism europeo. DJ CHK n
 o pincha: compone en directo. Hip hop\, rock\, electrónica\, scratch. Té
 cnica\, fuerza y espectáculo. Así se despide un festival.\n\nFestivalito
  Sonora 2025 es la cara nocturna de un festival que no baja el ritmo. Un l
 ugar donde las historias ruedan de día y se bailan de noche. Donde cada s
 esión es una escena y cada canción\, una excusa para celebrar. Sin etiqu
 etas. Sin permiso. Sin pausa.\n\nTodos los detalles en festivalito.com
ATTACH;FMTTYPE=image/jpeg:https://www.larevistadelapalma.com/wp-content/up
 loads/2025/05/DJ-Chiki-Manuel-fotos-01.jpeg
CATEGORIES:Festivales/Fiestas,Música
LOCATION:Plaza Francisca Gazmira\, Calle El Paso de Abajo\, 2\, El Paso\, 3
 8750\, España
GEO:28.652218;-17.881597
X-APPLE-STRUCTURED-LOCATION;VALUE=URI;X-ADDRESS=Calle El Paso de Abajo\, 2\
 , El Paso\, 38750\, España;X-APPLE-RADIUS=100;X-TITLE=Plaza Francisca Gaz
 mira:geo:28.652218,-17.881597
END:VEVENT
END:VCALENDARBEGIN:VCALENDAR
VERSION:2.0
PRODID:-//wp-events-plugin.com//7.2.3.1//EN
TZID:Europe/London
X-WR-TIMEZONE:Europe/London
BEGIN:VEVENT
UID:3767@larevistadelapalma.com
DTSTART:20250614T200000Z
DTEND:20250614T225900Z
DTSTAMP:20250602T223846Z
URL:https://www.larevistadelapalma.com/events/festivalito-sonora-2025-segu
 ndo-fin-de-semana/
SUMMARY:Festivalito Sonora 2025: Segundo fin de semana
DESCRIPTION:Con Grajasound y DJ CHK.\nDel 6 al 14 de junio\, Festivalito S
 onora desplegará en El Paso una propuesta musical libre\, energética y 
 diversa que convertirá las noches del Festivalito La Palma en una autént
 ica fiesta. Las citas tendrán lugar en la Plaza Francisca de Gazmira\, co
 n acceso gratuito y un cartel que va desde los géneros más bailables has
 ta los que te hacen saltar y gritar a pleno pulmón\, con propuestas indep
 endientes y mucho talento canario.\n\nAquí tienes las actuaciones para el
  fin de semana del 6 y 7 de junio.\n\nLas propuestas para el sábado 14 de
  junio\, serán las siguientes:\nDJ Graja Sound\nColectivo palmero con alm
 a vinilera. Graja Sound cruza géneros con groove: reggae\, soul\, latin b
 reaks\, funk... El set ideal para empezar la última noche de Festivalito 
 La Palma con los pies sueltos.\n\n\n\nDJ CHK\nCampeón de España DMC\, su
 bcampeón mundial\, y uno de los grandes del turntablism europeo. DJ CHK n
 o pincha: compone en directo. Hip hop\, rock\, electrónica\, scratch. Té
 cnica\, fuerza y espectáculo. Así se despide un festival.\n\nFestivalito
  Sonora 2025 es la cara nocturna de un festival que no baja el ritmo. Un l
 ugar donde las historias ruedan de día y se bailan de noche. Donde cada s
 esión es una escena y cada canción\, una excusa para celebrar. Sin etiqu
 etas. Sin permiso. Sin pausa.\n\nTodos los detalles en festivalito.com
ATTACH;FMTTYPE=image/jpeg:https://www.larevistadelapalma.com/wp-content/up
 loads/2025/05/DJ-Chiki-Manuel-fotos-01.jpeg
CATEGORIES:Festivales/Fiestas,Música
LOCATION:Plaza Francisca Gazmira\, Calle El Paso de Abajo\, 2\, El Paso\, 3
 8750\, España
GEO:28.652218;-17.881597
X-APPLE-STRUCTURED-LOCATION;VALUE=URI;X-ADDRESS=Calle El Paso de Abajo\, 2\
 , El Paso\, 38750\, España;X-APPLE-RADIUS=100;X-TITLE=Plaza Francisca Gaz
 mira:geo:28.652218,-17.881597
END:VEVENT
END:VCALENDAR