BEGIN:VCALENDAR
VERSION:2.0
PRODID:-//wp-events-plugin.com//7.2.3.1//EN
TZID:Europe/London
X-WR-TIMEZONE:Europe/London
BEGIN:VEVENT
UID:3249@larevistadelapalma.com
DTSTART:20241004T190000Z
DTEND:20241004T203000Z
DTSTAMP:20240918T210433Z
URL:https://www.larevistadelapalma.com/events/fic-24-la-palma/
SUMMARY:El Festival Internacional Clownbaret llega a La Palma\, y comienza 
 en el Circo de Marte
DESCRIPTION:El Festival Internacional Clownbaret llega con su decimoctava e
 dición a La Palma los días 4 y 5 de octubre con tres compañías interna
 cionales de clown y circo.\n\n 	FIC La Palma 2024 llega el 4 de octubre al
  Teatro Circo de Marte con Cía. Leandre Clown y el espectáculo N’impor
 te quoi \n 	El sábado 5 de octubre las actuaciones se trasladan a la Pla
 za de San Francisco con Circobaya y La Belle École.\n\nEl viernes 4 de oc
 tubre actuará en el Teatro Circo de Marte a las 20:00h la Cia. Leandre Cl
 own con su espectáculo N’Importe Quoi\, que ha sido galardonado con el 
 Premio Fetén 2023. Las entradas para este espectáculo están disponibles
  en taquilla hasta una hora antes del espectáculo y en la web del teatro.
 \n\nLeandre Rivera tiene una trayectoria de más de 30 años inspirada en 
 el cine mudo\, el mimo\, el gesto y el absurdo que lo convierten en uno de
  los artistas de calle más reconocidos a nivel internacional. N’imPORTE
  quoi es un espectáculo poético gestual que nos lleva a los límites de 
 la risa\, la locura y la intimidad. Durante 70 minutos asistiremos a un es
 pectáculo teatral desbordante de tontería donde todo es posible. La func
 ión une en este espectáculo a cinco de los mejores artistas nacionales d
 el clown y el teatro gestual. Pere Hosta\, Laura Miralbés\, Andreu Sans\,
  Cristina Solé y Leandre Ribera logran emocionar al espectador en un univ
 erso donde todo es posible.\n\n\n\nEl segundo día\, sábado 5 de octubre\
 , en abierto para todos los públicos\, actuarán en la Plaza de San Franc
 isco Circobaya\, con su espectáculo Vaya Circo a las 17:30h y a continuac
 ión La Belle École con Caricatos a las 18:30h. Más info &gt\;&gt\;\n\n\
 n\nEl FIC\, Festival Internacional Clownbaret\, vuelve con su XVIII edici
 ón del 1 al 13 de octubre de 2024 en toda Canarias. La decimoctava edici
 ón del FIC ofrecerá 123 actividades y funciones al aire libre de 30 comp
 añías internacionales\, nacionales y locales\, entre las que encontramos
  estrenos a nivel nacional y autonómico. El festival se podrá disfrutar 
 en 12 municipios de Canarias como una oportunidad única para ver a los pa
 yasos más destacados del panorama actual y poner en valor esta disciplina
  artística.\n\nEl festival surge en 2006 como respuesta a una escasez de 
 programación del arte del clown y el circo en la escena canaria\, tanto e
 n programaciones de teatros\, como en festivales. Es pionero en su género
  en el panorama de festivales artísticos en Canarias. Con su presencia en
  las calles y teatros y su programación disgregada en el territorio\, el 
 FIC abre un nuevo camino en la oferta cultural de las Islas\, dándole la 
 relevancia que le corresponde del arte del clown y sus variantes teatrales
 \, circenses y cinematográficas.\n\nConsulta toda la programación y actu
 aciones de acceso libre en calle en nuestra web: festivalinternacionalclow
 nbaret.com\n\nLa decimoctava edición del Festival Internacional Clownbare
 t cuenta con los patrocinios del Gobierno de Canarias\, Promotur Turismo C
 anarias\, Ministerio de Industria y Comercio\, Cabildo de Tenerife\, Ayunt
 amiento de Santa Cruz de Tenerife\, Costa Adeje\, INAEM\, Ayuntamiento de 
 La Laguna\, SODEPAL\, Cabildo de La Palma y está financiado por la Unión
  Europea – NextGenerationEU” por el Mecanismo de Recuperación y Resil
 iencia a través del Plan de Recuperación\, Transformación y Resiliencia
 . Colaboran: Instituto Canario de Desarrollo Cultural\, Ayuntamiento de Sa
 nta Cruz de La Palma\, Ayuntamiento de Vallehermoso\, Ayuntamiento de Guí
 a de Isora\, Ayuntamiento de Santiago del Teide\, Ayuntamiento de Tacoront
 e\, Ayuntamiento de Tegueste\, Alianza Francesa de Santa Cruz de Tenerife.
  El FIC está organizado y dirigido por Lasal Producciones y Clownbaret.\n
 \n&nbsp\;
ATTACH;FMTTYPE=image/jpeg:https://www.larevistadelapalma.com/wp-content/up
 loads/2024/09/Cia-Leandre-Clown-scaled.jpg
CATEGORIES:Espectáculos
LOCATION:Teatro Circo de Marte\, Calle Virgen de La Luz\, 5\, Santa Cruz de
  La Palma\, 38700\, España
GEO:28.682989;-17.765755
X-APPLE-STRUCTURED-LOCATION;VALUE=URI;X-ADDRESS=Calle Virgen de La Luz\, 5\
 , Santa Cruz de La Palma\, 38700\, España;X-APPLE-RADIUS=100;X-TITLE=Teat
 ro Circo de Marte:geo:28.682989,-17.765755
END:VEVENT
END:VCALENDARBEGIN:VCALENDAR
VERSION:2.0
PRODID:-//wp-events-plugin.com//7.2.3.1//EN
TZID:Europe/London
X-WR-TIMEZONE:Europe/London
BEGIN:VEVENT
UID:3249@larevistadelapalma.com
DTSTART:20241004T190000Z
DTEND:20241004T203000Z
DTSTAMP:20240918T210433Z
URL:https://www.larevistadelapalma.com/events/fic-24-la-palma/
SUMMARY:El Festival Internacional Clownbaret llega a La Palma\, y comienza 
 en el Circo de Marte
DESCRIPTION:El Festival Internacional Clownbaret llega con su decimoctava e
 dición a La Palma los días 4 y 5 de octubre con tres compañías interna
 cionales de clown y circo.\n\n 	FIC La Palma 2024 llega el 4 de octubre al
  Teatro Circo de Marte con Cía. Leandre Clown y el espectáculo N’impor
 te quoi \n 	El sábado 5 de octubre las actuaciones se trasladan a la Pla
 za de San Francisco con Circobaya y La Belle École.\n\nEl viernes 4 de oc
 tubre actuará en el Teatro Circo de Marte a las 20:00h la Cia. Leandre Cl
 own con su espectáculo N’Importe Quoi\, que ha sido galardonado con el 
 Premio Fetén 2023. Las entradas para este espectáculo están disponibles
  en taquilla hasta una hora antes del espectáculo y en la web del teatro.
 \n\nLeandre Rivera tiene una trayectoria de más de 30 años inspirada en 
 el cine mudo\, el mimo\, el gesto y el absurdo que lo convierten en uno de
  los artistas de calle más reconocidos a nivel internacional. N’imPORTE
  quoi es un espectáculo poético gestual que nos lleva a los límites de 
 la risa\, la locura y la intimidad. Durante 70 minutos asistiremos a un es
 pectáculo teatral desbordante de tontería donde todo es posible. La func
 ión une en este espectáculo a cinco de los mejores artistas nacionales d
 el clown y el teatro gestual. Pere Hosta\, Laura Miralbés\, Andreu Sans\,
  Cristina Solé y Leandre Ribera logran emocionar al espectador en un univ
 erso donde todo es posible.\n\n\n\nEl segundo día\, sábado 5 de octubre\
 , en abierto para todos los públicos\, actuarán en la Plaza de San Franc
 isco Circobaya\, con su espectáculo Vaya Circo a las 17:30h y a continuac
 ión La Belle École con Caricatos a las 18:30h. Más info &gt\;&gt\;\n\n\
 n\nEl FIC\, Festival Internacional Clownbaret\, vuelve con su XVIII edici
 ón del 1 al 13 de octubre de 2024 en toda Canarias. La decimoctava edici
 ón del FIC ofrecerá 123 actividades y funciones al aire libre de 30 comp
 añías internacionales\, nacionales y locales\, entre las que encontramos
  estrenos a nivel nacional y autonómico. El festival se podrá disfrutar 
 en 12 municipios de Canarias como una oportunidad única para ver a los pa
 yasos más destacados del panorama actual y poner en valor esta disciplina
  artística.\n\nEl festival surge en 2006 como respuesta a una escasez de 
 programación del arte del clown y el circo en la escena canaria\, tanto e
 n programaciones de teatros\, como en festivales. Es pionero en su género
  en el panorama de festivales artísticos en Canarias. Con su presencia en
  las calles y teatros y su programación disgregada en el territorio\, el 
 FIC abre un nuevo camino en la oferta cultural de las Islas\, dándole la 
 relevancia que le corresponde del arte del clown y sus variantes teatrales
 \, circenses y cinematográficas.\n\nConsulta toda la programación y actu
 aciones de acceso libre en calle en nuestra web: festivalinternacionalclow
 nbaret.com\n\nLa decimoctava edición del Festival Internacional Clownbare
 t cuenta con los patrocinios del Gobierno de Canarias\, Promotur Turismo C
 anarias\, Ministerio de Industria y Comercio\, Cabildo de Tenerife\, Ayunt
 amiento de Santa Cruz de Tenerife\, Costa Adeje\, INAEM\, Ayuntamiento de 
 La Laguna\, SODEPAL\, Cabildo de La Palma y está financiado por la Unión
  Europea – NextGenerationEU” por el Mecanismo de Recuperación y Resil
 iencia a través del Plan de Recuperación\, Transformación y Resiliencia
 . Colaboran: Instituto Canario de Desarrollo Cultural\, Ayuntamiento de Sa
 nta Cruz de La Palma\, Ayuntamiento de Vallehermoso\, Ayuntamiento de Guí
 a de Isora\, Ayuntamiento de Santiago del Teide\, Ayuntamiento de Tacoront
 e\, Ayuntamiento de Tegueste\, Alianza Francesa de Santa Cruz de Tenerife.
  El FIC está organizado y dirigido por Lasal Producciones y Clownbaret.\n
 \n&nbsp\;
ATTACH;FMTTYPE=image/jpeg:https://www.larevistadelapalma.com/wp-content/up
 loads/2024/09/Cia-Leandre-Clown-scaled.jpg
CATEGORIES:Espectáculos
LOCATION:Teatro Circo de Marte\, Calle Virgen de La Luz\, 5\, Santa Cruz de
  La Palma\, 38700\, España
GEO:28.682989;-17.765755
X-APPLE-STRUCTURED-LOCATION;VALUE=URI;X-ADDRESS=Calle Virgen de La Luz\, 5\
 , Santa Cruz de La Palma\, 38700\, España;X-APPLE-RADIUS=100;X-TITLE=Teat
 ro Circo de Marte:geo:28.682989,-17.765755
END:VEVENT
END:VCALENDAR