BEGIN:VCALENDAR
VERSION:2.0
PRODID:-//wp-events-plugin.com//7.2.3.1//EN
TZID:Europe/London
X-WR-TIMEZONE:Europe/London
BEGIN:VEVENT
UID:708@larevistadelapalma.com
DTSTART:20231007T230000Z
DTEND:20231007T230000Z
DTSTAMP:20231001T203446Z
URL:https://www.larevistadelapalma.com/events/fic-festival-internacional-c
 lownbaret-las-gallegas-de-lolita-corina/
SUMMARY:FIC\, Festival Internacional Clownbaret. "Las Gallegas" de Lolita C
 orina
DESCRIPTION:El FIC\, Festival Internacional Clownbaret\, vuelve con su XVII
  edición\, dedicada a su recién fallecido padrino\, Jango Edwards\, ofre
 cerá 120 actividades y funciones al aire libre de 26 compañías internac
 ionales\, nacionales y locales\, entre las que encontramos estrenos a nive
 l nacional y autonómico. El festival se podrá disfrutar en más de 12 mu
 nicipios de Tenerife y visita la Isla de La Palma con tres espectáculos: 
 Dos espectáculos en la calle (6 de octubre) y uno en el Teatro Circo de 
 Marte con la Compañía Lolita Corina (LAS GALLEGAS).\n\n\n“Un funeral e
 ntrañable y delirante”. En la frontera entre el teatro cómico y el clo
 wn LAS GALLEGAS nos descubren su peculiar visión de un viaje a través de
  la muerte. Aparecen en el escenario de su propio funeral ingenuas de su n
 ueva realidad.\nUnos ceniceros grandes\, unas fotos\, unos vestidos quemad
 os y una familia muy especial les conduce a descubrir la verdad: “No es 
 fácil aprender a estar muertas”. Pero Lolita y Corina se adaptan sin co
 mplejos a cualquier acontecimiento\, se sorprenden de secretos ocultos\, d
 isfrutan de nuevas liberaciones...\nUna guía inesperada les ayudará a de
 svelar los secretos de “la otra vida”. Comedia y clown nos acompañan 
 en este singular viaje de LAS GALLEGAS desde su funeral hasta la transform
 ación en fantasmas. profesionales.\n\n\n\n• Premio del público al mejo
 r espectáculo de sala -XI Feria teatro Ciudad Rodrigo (2008)\n• Premio 
 del público al mejor espectáculo - 28º Festival de Teatro Vegas Bajas-P
 uebla de la Calzada (Badajoz) (2009)\nLola González y Coral Ros son miemb
 ros-fundadoras de la compañía Lolita Corina desde 2007. Anteriormente fo
 rmaron parte como cofundadoras y actrices en la compañía Antonia’s Com
 pany desde1998 hasta 2006. Ambas estudiaron en la escuela de Teatro L’Es
 cala durante cuatro años y han continuado su formación como clown con Me
 rche Ochoa\, Leo Bassi\, Gardi Hutter o Pep Vila entre otros.\nEntradas 8
 €. En taquilla de lunes a viernes\, de 11:00 a 13:00 h y una hora antes
  del evento.\nComprar &gt\;
ATTACH;FMTTYPE=image/jpeg:https://www.larevistadelapalma.com/wp-content/up
 loads/2023/09/Las-Gallegas.jpg
CATEGORIES:Espectáculos
LOCATION:Teatro Circo de Marte\, Calle Virgen de La Luz\, 5\, Santa Cruz de
  La Palma\, 38700\, España
GEO:28.682989;-17.765755
X-APPLE-STRUCTURED-LOCATION;VALUE=URI;X-ADDRESS=Calle Virgen de La Luz\, 5\
 , Santa Cruz de La Palma\, 38700\, España;X-APPLE-RADIUS=100;X-TITLE=Teat
 ro Circo de Marte:geo:28.682989,-17.765755
END:VEVENT
END:VCALENDARBEGIN:VCALENDAR
VERSION:2.0
PRODID:-//wp-events-plugin.com//7.2.3.1//EN
TZID:Europe/London
X-WR-TIMEZONE:Europe/London
BEGIN:VEVENT
UID:708@larevistadelapalma.com
DTSTART:20231007T230000Z
DTEND:20231007T230000Z
DTSTAMP:20231001T203446Z
URL:https://www.larevistadelapalma.com/events/fic-festival-internacional-c
 lownbaret-las-gallegas-de-lolita-corina/
SUMMARY:FIC\, Festival Internacional Clownbaret. "Las Gallegas" de Lolita C
 orina
DESCRIPTION:El FIC\, Festival Internacional Clownbaret\, vuelve con su XVII
  edición\, dedicada a su recién fallecido padrino\, Jango Edwards\, ofre
 cerá 120 actividades y funciones al aire libre de 26 compañías internac
 ionales\, nacionales y locales\, entre las que encontramos estrenos a nive
 l nacional y autonómico. El festival se podrá disfrutar en más de 12 mu
 nicipios de Tenerife y visita la Isla de La Palma con tres espectáculos: 
 Dos espectáculos en la calle (6 de octubre) y uno en el Teatro Circo de 
 Marte con la Compañía Lolita Corina (LAS GALLEGAS).\n\n\n“Un funeral e
 ntrañable y delirante”. En la frontera entre el teatro cómico y el clo
 wn LAS GALLEGAS nos descubren su peculiar visión de un viaje a través de
  la muerte. Aparecen en el escenario de su propio funeral ingenuas de su n
 ueva realidad.\nUnos ceniceros grandes\, unas fotos\, unos vestidos quemad
 os y una familia muy especial les conduce a descubrir la verdad: “No es 
 fácil aprender a estar muertas”. Pero Lolita y Corina se adaptan sin co
 mplejos a cualquier acontecimiento\, se sorprenden de secretos ocultos\, d
 isfrutan de nuevas liberaciones...\nUna guía inesperada les ayudará a de
 svelar los secretos de “la otra vida”. Comedia y clown nos acompañan 
 en este singular viaje de LAS GALLEGAS desde su funeral hasta la transform
 ación en fantasmas. profesionales.\n\n\n\n• Premio del público al mejo
 r espectáculo de sala -XI Feria teatro Ciudad Rodrigo (2008)\n• Premio 
 del público al mejor espectáculo - 28º Festival de Teatro Vegas Bajas-P
 uebla de la Calzada (Badajoz) (2009)\nLola González y Coral Ros son miemb
 ros-fundadoras de la compañía Lolita Corina desde 2007. Anteriormente fo
 rmaron parte como cofundadoras y actrices en la compañía Antonia’s Com
 pany desde1998 hasta 2006. Ambas estudiaron en la escuela de Teatro L’Es
 cala durante cuatro años y han continuado su formación como clown con Me
 rche Ochoa\, Leo Bassi\, Gardi Hutter o Pep Vila entre otros.\nEntradas 8
 €. En taquilla de lunes a viernes\, de 11:00 a 13:00 h y una hora antes
  del evento.\nComprar &gt\;
ATTACH;FMTTYPE=image/jpeg:https://www.larevistadelapalma.com/wp-content/up
 loads/2023/09/Las-Gallegas.jpg
CATEGORIES:Espectáculos
LOCATION:Teatro Circo de Marte\, Calle Virgen de La Luz\, 5\, Santa Cruz de
  La Palma\, 38700\, España
GEO:28.682989;-17.765755
X-APPLE-STRUCTURED-LOCATION;VALUE=URI;X-ADDRESS=Calle Virgen de La Luz\, 5\
 , Santa Cruz de La Palma\, 38700\, España;X-APPLE-RADIUS=100;X-TITLE=Teat
 ro Circo de Marte:geo:28.682989,-17.765755
END:VEVENT
END:VCALENDAR