BEGIN:VCALENDAR
VERSION:2.0
PRODID:-//wp-events-plugin.com//7.2.3.1//EN
TZID:Europe/London
X-WR-TIMEZONE:Europe/London
BEGIN:VEVENT
UID:698@larevistadelapalma.com
DTSTART:20231006T170000Z
DTEND:20231006T193000Z
DTSTAMP:20231001T203800Z
URL:https://www.larevistadelapalma.com/events/fic-festival-internacional-c
 lownbaret/
SUMMARY:FIC\, Festival Internacional Clownbaret. Payasos en ruta
DESCRIPTION:El FIC\, Festival Internacional Clownbaret\, vuelve con su XVII
  edición\, dedicada a su recién fallecido padrino\, Jango Edwards\, ofre
 cerá 120 actividades y funciones al aire libre de 26 compañías internac
 ionales\, nacionales y locales\, entre las que encontramos estrenos a nive
 l nacional y autonómico.\n\nEl festival se podrá disfrutar en más de 12
  municipios de Tenerife y visita la Isla de La Palma con tres espectáculo
 s: Dos espectáculos en la calle con Maku Fanchulini (METRO Y MEDIO) y Pay
 aso Chacovachi (¡CUIDADO! UN PAYASO MALO PUEDE ARRUINAR TU VIDA) y uno e
 n el Teatro Circo de Marte con la Compañía Lolita Corina (LAS GALLEGAS).
 \n\nMETRO Y MEDIO.\n\nViernes 6 de octubre\, a las 18:00 horas. Plaza de E
 spaña. S/C de La Palma.\n\nUn espectáculo basado en la acción física y
  la comunicación cómica con el público de una manera activa\, fresca y 
 desenfadada. Durante 50 minutos\, Maku se comunica casi sin palabras\, cre
 ando así un lenguaje universal.\n\n¡CUIDADO! UN PAYASO MALO PUEDE ARRUIN
 AR TU VIDA.\n\nViernes 6 de octubre\, a las 19:00 horas. Plaza de España.
  S/C de La Palma.\n\nUn espectáculo que emociona\, transforma y arde\, ll
 eno de risas y carcajadas. Muestra a un payaso auténtico\, nada ingenuo\,
  que rompe con todos los códigos tradicionales de los clowns en su lucha 
 por entretener y sobrevivir en un mundo lleno de contrariedades y conformi
 smo. Es el vengador de los adultos y pretende despertar a las almas despre
 venidas.\n\n&nbsp\;\n\n&nbsp\;\n\n&nbsp\;
ATTACH;FMTTYPE=image/jpeg:https://www.larevistadelapalma.com/wp-content/up
 loads/2023/10/Maku-Fanchulini.jpg
CATEGORIES:Espectáculos
LOCATION:Municipio de Santa Cruz de La Palma\, Santa Cruz de La Palma \, Sa
 nta Cruz de La Palma \, 38700\, España
GEO:28.688757;-17.765102
X-APPLE-STRUCTURED-LOCATION;VALUE=URI;X-ADDRESS=Santa Cruz de La Palma \, S
 anta Cruz de La Palma \, 38700\, España;X-APPLE-RADIUS=100;X-TITLE=Munici
 pio de Santa Cruz de La Palma:geo:28.688757,-17.765102
END:VEVENT
END:VCALENDARBEGIN:VCALENDAR
VERSION:2.0
PRODID:-//wp-events-plugin.com//7.2.3.1//EN
TZID:Europe/London
X-WR-TIMEZONE:Europe/London
BEGIN:VEVENT
UID:698@larevistadelapalma.com
DTSTART:20231006T170000Z
DTEND:20231006T193000Z
DTSTAMP:20231001T203800Z
URL:https://www.larevistadelapalma.com/events/fic-festival-internacional-c
 lownbaret/
SUMMARY:FIC\, Festival Internacional Clownbaret. Payasos en ruta
DESCRIPTION:El FIC\, Festival Internacional Clownbaret\, vuelve con su XVII
  edición\, dedicada a su recién fallecido padrino\, Jango Edwards\, ofre
 cerá 120 actividades y funciones al aire libre de 26 compañías internac
 ionales\, nacionales y locales\, entre las que encontramos estrenos a nive
 l nacional y autonómico.\n\nEl festival se podrá disfrutar en más de 12
  municipios de Tenerife y visita la Isla de La Palma con tres espectáculo
 s: Dos espectáculos en la calle con Maku Fanchulini (METRO Y MEDIO) y Pay
 aso Chacovachi (¡CUIDADO! UN PAYASO MALO PUEDE ARRUINAR TU VIDA) y uno e
 n el Teatro Circo de Marte con la Compañía Lolita Corina (LAS GALLEGAS).
 \n\nMETRO Y MEDIO.\n\nViernes 6 de octubre\, a las 18:00 horas. Plaza de E
 spaña. S/C de La Palma.\n\nUn espectáculo basado en la acción física y
  la comunicación cómica con el público de una manera activa\, fresca y 
 desenfadada. Durante 50 minutos\, Maku se comunica casi sin palabras\, cre
 ando así un lenguaje universal.\n\n¡CUIDADO! UN PAYASO MALO PUEDE ARRUIN
 AR TU VIDA.\n\nViernes 6 de octubre\, a las 19:00 horas. Plaza de España.
  S/C de La Palma.\n\nUn espectáculo que emociona\, transforma y arde\, ll
 eno de risas y carcajadas. Muestra a un payaso auténtico\, nada ingenuo\,
  que rompe con todos los códigos tradicionales de los clowns en su lucha 
 por entretener y sobrevivir en un mundo lleno de contrariedades y conformi
 smo. Es el vengador de los adultos y pretende despertar a las almas despre
 venidas.\n\n&nbsp\;\n\n&nbsp\;\n\n&nbsp\;
ATTACH;FMTTYPE=image/jpeg:https://www.larevistadelapalma.com/wp-content/up
 loads/2023/10/Maku-Fanchulini.jpg
CATEGORIES:Espectáculos
LOCATION:Municipio de Santa Cruz de La Palma\, Santa Cruz de La Palma \, Sa
 nta Cruz de La Palma \, 38700\, España
GEO:28.688757;-17.765102
X-APPLE-STRUCTURED-LOCATION;VALUE=URI;X-ADDRESS=Santa Cruz de La Palma \, S
 anta Cruz de La Palma \, 38700\, España;X-APPLE-RADIUS=100;X-TITLE=Munici
 pio de Santa Cruz de La Palma:geo:28.688757,-17.765102
END:VEVENT
END:VCALENDAR