BEGIN:VCALENDAR
VERSION:2.0
PRODID:-//wp-events-plugin.com//7.2.3.1//EN
TZID:Europe/London
X-WR-TIMEZONE:Europe/London
BEGIN:VEVENT
UID:3258@larevistadelapalma.com
DTSTART:20240928T213000Z
DTEND:20240928T225900Z
DTSTAMP:20240924T203829Z
URL:https://www.larevistadelapalma.com/events/fiesta-aniversario-del-festi
 val-de-la-palabra-con-los-vinilos-de-franky-frank/
SUMMARY:Fiesta aniversario del Festival de la Palabra con los vinilos de Fr
 anky Frank
DESCRIPTION:\nFuera de la programación de esta edición\, El Festival de l
 a Palabra nos ofrece un evento especial como agradecimiento a una década 
 cargada de palabras.\n\n\nEl sábado 28\, después de un día cargado de a
 ctividades\, que incluirán cuentacuentos\, teatro\, conferencia\, la bata
 lla de Luchalibro\, y el concierto de Eremiot y la tripulación\, culminar
 án con la Fiesta 10º Aniversario\, con FRANKY FRANK - Vinyl Set\n\n¡Par
 a despedir la última noche del festival con buena vibra y alegría!\n\n
ATTACH;FMTTYPE=image/jpeg:https://www.larevistadelapalma.com/wp-content/up
 loads/2024/09/Dj-Festival-de-la-palabra.jpg
CATEGORIES:Conciertos,Música
LOCATION:Municipio Villa de Garafía\, Garafía\, Garafía\, 38787\, Españ
 a
GEO:28.822803;-17.950221
X-APPLE-STRUCTURED-LOCATION;VALUE=URI;X-ADDRESS=Garafía\, Garafía\, 38787
 \, España;X-APPLE-RADIUS=100;X-TITLE=Municipio Villa de Garafía:geo:28.8
 22803,-17.950221
END:VEVENT
END:VCALENDARBEGIN:VCALENDAR
VERSION:2.0
PRODID:-//wp-events-plugin.com//7.2.3.1//EN
TZID:Europe/London
X-WR-TIMEZONE:Europe/London
BEGIN:VEVENT
UID:3258@larevistadelapalma.com
DTSTART:20240928T213000Z
DTEND:20240928T225900Z
DTSTAMP:20240924T203829Z
URL:https://www.larevistadelapalma.com/events/fiesta-aniversario-del-festi
 val-de-la-palabra-con-los-vinilos-de-franky-frank/
SUMMARY:Fiesta aniversario del Festival de la Palabra con los vinilos de Fr
 anky Frank
DESCRIPTION:\nFuera de la programación de esta edición\, El Festival de l
 a Palabra nos ofrece un evento especial como agradecimiento a una década 
 cargada de palabras.\n\n\nEl sábado 28\, después de un día cargado de a
 ctividades\, que incluirán cuentacuentos\, teatro\, conferencia\, la bata
 lla de Luchalibro\, y el concierto de Eremiot y la tripulación\, culminar
 án con la Fiesta 10º Aniversario\, con FRANKY FRANK - Vinyl Set\n\n¡Par
 a despedir la última noche del festival con buena vibra y alegría!\n\n
ATTACH;FMTTYPE=image/jpeg:https://www.larevistadelapalma.com/wp-content/up
 loads/2024/09/Dj-Festival-de-la-palabra.jpg
CATEGORIES:Conciertos,Música
LOCATION:Municipio Villa de Garafía\, Garafía\, Garafía\, 38787\, Españ
 a
GEO:28.822803;-17.950221
X-APPLE-STRUCTURED-LOCATION;VALUE=URI;X-ADDRESS=Garafía\, Garafía\, 38787
 \, España;X-APPLE-RADIUS=100;X-TITLE=Municipio Villa de Garafía:geo:28.8
 22803,-17.950221
END:VEVENT
END:VCALENDAR