BEGIN:VCALENDAR
VERSION:2.0
PRODID:-//wp-events-plugin.com//7.2.3.1//EN
TZID:Europe/London
X-WR-TIMEZONE:Europe/London
BEGIN:VEVENT
UID:671@larevistadelapalma.com
DTSTART:20230916T160000Z
DTEND:20230916T225900Z
DTSTAMP:20230914T200517Z
URL:https://www.larevistadelapalma.com/events/fiesta-cubana-en-tazacorte/
SUMMARY:Fiesta cubana en Tazacorte
DESCRIPTION:A partir de las 17:00 horas\, fiesta y música  cubana de la m
 ano de Orillas del Son\, Dj Bembe y Juan Brito. A las 21:00 horas\, la fie
 sta seguirá con una verbena amenizada por Los Tres de Caña y el Grupo Li
 bertad. 
ATTACH;FMTTYPE=image/jpeg:https://www.larevistadelapalma.com/wp-content/up
 loads/2023/09/grupo-diversa-bebida-goce-adulta-mayor-junto-piscina.jpg
CATEGORIES:Fiestas populares,Otras propuestas
LOCATION:Municipio de Tazacorte\, Villa y Puerto de Tazacorte\, Tazacorte\,
  38770\, España
GEO:28.642917;-17.936888
X-APPLE-STRUCTURED-LOCATION;VALUE=URI;X-ADDRESS=Villa y Puerto de Tazacorte
 \, Tazacorte\, 38770\, España;X-APPLE-RADIUS=100;X-TITLE=Municipio de Taz
 acorte:geo:28.642917,-17.936888
END:VEVENT
END:VCALENDARBEGIN:VCALENDAR
VERSION:2.0
PRODID:-//wp-events-plugin.com//7.2.3.1//EN
TZID:Europe/London
X-WR-TIMEZONE:Europe/London
BEGIN:VEVENT
UID:671@larevistadelapalma.com
DTSTART:20230916T160000Z
DTEND:20230916T225900Z
DTSTAMP:20230914T200517Z
URL:https://www.larevistadelapalma.com/events/fiesta-cubana-en-tazacorte/
SUMMARY:Fiesta cubana en Tazacorte
DESCRIPTION:A partir de las 17:00 horas\, fiesta y música  cubana de la m
 ano de Orillas del Son\, Dj Bembe y Juan Brito. A las 21:00 horas\, la fie
 sta seguirá con una verbena amenizada por Los Tres de Caña y el Grupo Li
 bertad. 
ATTACH;FMTTYPE=image/jpeg:https://www.larevistadelapalma.com/wp-content/up
 loads/2023/09/grupo-diversa-bebida-goce-adulta-mayor-junto-piscina.jpg
CATEGORIES:Fiestas populares,Otras propuestas
LOCATION:Municipio de Tazacorte\, Villa y Puerto de Tazacorte\, Tazacorte\,
  38770\, España
GEO:28.642917;-17.936888
X-APPLE-STRUCTURED-LOCATION;VALUE=URI;X-ADDRESS=Villa y Puerto de Tazacorte
 \, Tazacorte\, 38770\, España;X-APPLE-RADIUS=100;X-TITLE=Municipio de Taz
 acorte:geo:28.642917,-17.936888
END:VEVENT
END:VCALENDAR