BEGIN:VCALENDAR
VERSION:2.0
PRODID:-//wp-events-plugin.com//7.2.3.1//EN
TZID:Europe/London
X-WR-TIMEZONE:Europe/London
BEGIN:VEVENT
UID:3536@larevistadelapalma.com
DTSTART:20241231T120000Z
DTEND:20241231T225900Z
DTSTAMP:20241226T211918Z
URL:https://www.larevistadelapalma.com/events/fiesta-de-fin-de-ano-en-el-p
 aso/
SUMMARY:Fiesta de fin de año en El Paso
DESCRIPTION:Las actuaciones de Mamajuana's\, La Chalana\, Edwin Rivera\, Tr
 opicana\, y a los platos: Graja Sound\, Dj July y Jacob Alonso
ATTACH;FMTTYPE=image/jpeg:https://www.larevistadelapalma.com/wp-content/up
 loads/2024/12/Fn-ano-EL-Paso.jpg
CATEGORIES:Festivales/Fiestas,Música
LOCATION:Plaza Francisca Gazmira\, Calle El Paso de Abajo\, 2\, El Paso\, 3
 8750\, España
GEO:28.652218;-17.881597
X-APPLE-STRUCTURED-LOCATION;VALUE=URI;X-ADDRESS=Calle El Paso de Abajo\, 2\
 , El Paso\, 38750\, España;X-APPLE-RADIUS=100;X-TITLE=Plaza Francisca Gaz
 mira:geo:28.652218,-17.881597
END:VEVENT
END:VCALENDARBEGIN:VCALENDAR
VERSION:2.0
PRODID:-//wp-events-plugin.com//7.2.3.1//EN
TZID:Europe/London
X-WR-TIMEZONE:Europe/London
BEGIN:VEVENT
UID:3536@larevistadelapalma.com
DTSTART:20241231T120000Z
DTEND:20241231T225900Z
DTSTAMP:20241226T211918Z
URL:https://www.larevistadelapalma.com/events/fiesta-de-fin-de-ano-en-el-p
 aso/
SUMMARY:Fiesta de fin de año en El Paso
DESCRIPTION:Las actuaciones de Mamajuana's\, La Chalana\, Edwin Rivera\, Tr
 opicana\, y a los platos: Graja Sound\, Dj July y Jacob Alonso
ATTACH;FMTTYPE=image/jpeg:https://www.larevistadelapalma.com/wp-content/up
 loads/2024/12/Fn-ano-EL-Paso.jpg
CATEGORIES:Festivales/Fiestas,Música
LOCATION:Plaza Francisca Gazmira\, Calle El Paso de Abajo\, 2\, El Paso\, 3
 8750\, España
GEO:28.652218;-17.881597
X-APPLE-STRUCTURED-LOCATION;VALUE=URI;X-ADDRESS=Calle El Paso de Abajo\, 2\
 , El Paso\, 38750\, España;X-APPLE-RADIUS=100;X-TITLE=Plaza Francisca Gaz
 mira:geo:28.652218,-17.881597
END:VEVENT
END:VCALENDAR